Workbook

Sheet Sheet5
A1: Project | B1: IRR | C1: NPV | D1: Payback time
A2: =Sheet1!C1 -> Arosa | B2: =(Sheet1!F15 - 1) *100 -> 17.571458 | C2: =Sheet1!F13 -> 55.034823 | D2: 20
A3: =Sheet2!C1 -> Brixen | B3: =(Sheet2!F15-1) * 100 -> 11.787019 | C3: =Sheet2!F13 -> -44.300156 | D3: 10
A4: =Sheet3!C1 -> Chamonix | B4: =(Sheet3!F15-1) * 100 -> 17.804746 | C4: =Sheet3!F13 -> 48.845594 | D4: 30

Sheet Sheet1
A1: Year | B1: Amount | C1: Arosa
A2: 0 | B2: 1000
A3: 1 | B3: 300 | C3: =H3 -> 1.15 | D3: =B3/C3 -> 260.86957 | E3: =D3 -> 260.86957 | H3: 1.15
A4: 2 | B4: 400 | C4: =$H$3*C3 -> 1.3225 | D4: =B4/C4 -> 302.45747 | E4: =E3+D4 -> 563.32703
A5: 3 | B5: 400 | C5: =$H$3*C4 -> 1.520875 | D5: =B5/C5 -> 263.00649 | E5: =E4+D5 -> 826.33353
A6: 4 | B6: 400 | C6: =$H$3*C5 -> 1.7490062 | D6: =B6/C6 -> 228.7013 | E6: =E5+D6 -> 1055.0348
F12: NPV
D13: =SUM(D3:D12) -> 1055.0348 | E13: =B2 -> 1000 | F13: =D13-E13 -> 55.034823
E15: IRR | F15: 1.1757146

Sheet Sheet2
A1: Year | B1: Amount | C1: Brixen
A2: 0 | B2: 1000
A3: 1 | B3: 600 | C3: =H3 -> 1.15 | D3: =B3/C3 -> 521.73913 | E3: =D3 -> 521.73913 | H3: 1.15
A4: 2 | B4: 400 | C4: =$H$3*C3 -> 1.3225 | D4: =B4/C4 -> 302.45747 | E4: =E3+D4 -> 824.1966
A5: 3 | B5: 200 | C5: =$H$3*C4 -> 1.520875 | D5: =B5/C5 -> 131.50325 | E5: =E4+D5 -> 955.69984
A6: 4 | B6: 0 | C6: =$H$3*C5 -> 1.7490062 | D6: =B6/C6 -> 0 | E6: =E5+D6 -> 955.69984
F12: NPV
D13: =SUM(D3:D12) -> 955.69984 | E13: =B2 -> 1000 | F13: =D13-E13 -> -44.300156
E15: IRR | F15: 1.1178702

Sheet Sheet3
A1: Year | B1: Amount | C1: Chamonix
A2: 0 | B2: 1000
A3: 1 | B3: 500 | C3: =H3 -> 1.15 | D3: =B3/C3 -> 434.78261 | E3: =D3 -> 434.78261 | H3: 1.15
A4: 2 | B4: 400 | C4: =$H$3*C3 -> 1.3225 | D4: =B4/C4 -> 302.45747 | E4: =E3+D4 -> 737.24008
A5: 3 | B5: 300 | C5: =$H$3*C4 -> 1.520875 | D5: =B5/C5 -> 197.25487 | E5: =E4+D5 -> 934.49495
A6: 4 | B6: 200 | C6: =$H$3*C5 -> 1.7490062 | D6: =B6/C6 -> 114.35065 | E6: =E5+D6 -> 1048.8456
F12: NPV
D13: =SUM(D3:D12) -> 1048.8456 | E13: =B2 -> 1000 | F13: =D13-E13 -> 48.845594
E15: IRR | F15: 1.1780475

Sheet Sheet4
