Workbook

Sheet 1 Enance Data
A1: Month | B1: Contract Logistics (Global) | C1: ECRI weekly (USA) | D1: Economic sentiment (Europe) | E1: Economic sentiment (Univ. of Michigan) | F1: Purchasing managers index Europe | G1: Baltic index | H1: Semicon index | I1: ECRI weekly (USA)-1 | J1: Economic sentiment (Europe) -1 | K1: Economic sentiment (Univ. of Michigan)-1 | L1: Purchasing managers index Europe-1 | M1: Baltic index-1 | N1: Semicon index -1 | O1: ECRI weekly (USA)-2 | P1: Economic sentiment (Europe) -2 | Q1: Economic sentiment (Univ. of Michigan)-2 | R1: Purchasing managers index Europe-2 | S1: Baltic index-2 | T1: Semicon index -2 | U1: ECRI weekly (USA)-3 | V1: Economic sentiment (Europe) -3 | W1: Economic sentiment (Univ. of Michigan)-3 | X1: Purchasing managers index Europe-3 | Y1: Baltic index-3 | Z1: Semicon index -3 | AA1: ECRI weekly (USA)-4 | AB1: Economic sentiment (Europe) -4 | AC1: Economic sentiment (Univ. of Michigan)-4 | AD1: Purchasing managers index Europe-4 | AE1: Baltic index-4 | AF1: Semicon index -4 | AG1: ECRI weekly (USA)-5 | AH1: Economic sentiment (Europe) -5 | AI1: Economic sentiment (Univ. of Michigan)-5 | AJ1: Purchasing managers index Europe-5 | AK1: Baltic index-5 | AL1: Semicon index -5 | AM1: ECRI weekly (USA)-6 | AN1: Economic sentiment (Europe) -6 | AO1: Economic sentiment (Univ. of Michigan)-6 | AP1: Purchasing managers index Europe-6 | AQ1: Baltic index-6 | AR1: Semicon index -6 | AS1: ECRI weekly (USA)-7 | AT1: Economic sentiment (Europe) -7 | AU1: Economic sentiment (Univ. of Michigan)-7 | AV1: Purchasing managers index Europe-7 | AW1: Baltic index-7 | AX1: Semicon index -7 | AY1: ECRI weekly (USA)-8 | AZ1: Economic sentiment (Europe) -8 | BA1: Economic sentiment (Univ. of Michigan)-8 | BB1: Purchasing managers index Europe-8 | BC1: Baltic index-8 | BD1: Semicon index -8 | BE1: ECRI weekly (USA)-9 | BF1: Economic sentiment (Europe) -9 | BG1: Economic sentiment (Univ. of Michigan)-9 | BH1: Purchasing managers index Europe-9 | BI1: Baltic index-9 | BJ1: Semicon index -9 | BK1: ECRI weekly (USA)-10 | BL1: Economic sentiment (Europe) -10 | BM1: Economic sentiment (Univ. of Michigan)-10 | BN1: Purchasing managers index Europe-10 | BO1: Baltic index-10 | BP1: Semicon index -10 | BQ1: ECRI weekly (USA)-11 | BR1: Economic sentiment (Europe) -11 | BS1: Economic sentiment (Univ. of Michigan)-11 | BT1: Purchasing managers index Europe-11 | BU1: Baltic index-11 | BV1: Semicon index -11 | BW1: ECRI weekly (USA)-12 | BX1: Economic sentiment (Europe) -12 | BY1: Economic sentiment (Univ. of Michigan)-12 | BZ1: Purchasing managers index Europe-12 | CA1: Baltic index-12 | CB1: Semicon index -12
A2: 39083 | B2: 100 | C2: 100 | D2: 100 | E2: 100 | F2: 100 | G2: 100 | H2: 100 | I2: 100 | J2: 100 | K2: 100 | L2: 100 | M2: 100 | N2: 100 | O2: 100 | P2: 100 | Q2: 100 | R2: 100 | S2: 100 | T2: 100 | U2: 100 | V2: 100 | W2: 100 | X2: 100 | Y2: 100 | Z2: 100 | AA2: 100 | AB2: 100 | AC2: 100 | AD2: 100 | AE2: 100 | AF2: 100 | AG2: 100 | AH2: 100 | AI2: 100 | AJ2: 100 | AK2: 100 | AL2: 100 | AM2: 100 | AN2: 100 | AO2: 100 | AP2: 100 | AQ2: 100 | AR2: 100 | AS2: 100 | AT2: 100 | AU2: 100 | AV2: 100 | AW2: 100 | AX2: 100 | AY2: 100 | AZ2: 100 | BA2: 100 | BB2: 100 | BC2: 100 | BD2: 100 | BE2: 100 | BF2: 100 | BG2: 100 | BH2: 100 | BI2: 100 | BJ2: 100 | BK2: 100 | BL2: 100 | BM2: 100 | BN2: 100 | BO2: 100 | BP2: 100 | BQ2: 100 | BR2: 100 | BS2: 100 | BT2: 100 | BU2: 100 | BV2: 100 | BW2: 100 | BX2: 100 | BY2: 100 | BZ2: 100 | CA2: 100 | CB2: 100
A3: 39114 | B3: 100.51025 | C3: 99.986793 | D3: 101.18074 | E3: 94.220846 | F3: 100 | G3: 114.19768 | H3: 99.460285 | I3: 100 | J3: 100 | K3: 100 | L3: 100 | M3: 100 | N3: 100 | O3: 100 | P3: 100 | Q3: 100 | R3: 100 | S3: 100 | T3: 100 | U3: 100 | V3: 100 | W3: 100 | X3: 100 | Y3: 100 | Z3: 100 | AA3: 100 | AB3: 100 | AC3: 100 | AD3: 100 | AE3: 100 | AF3: 100 | AG3: 100 | AH3: 100 | AI3: 100 | AJ3: 100 | AK3: 100 | AL3: 100 | AM3: 100 | AN3: 100 | AO3: 100 | AP3: 100 | AQ3: 100 | AR3: 100 | AS3: 100 | AT3: 100 | AU3: 100 | AV3: 100 | AW3: 100 | AX3: 100 | AY3: 100 | AZ3: 100 | BA3: 100 | BB3: 100 | BC3: 100 | BD3: 100 | BE3: 100 | BF3: 100 | BG3: 100 | BH3: 100 | BI3: 100 | BJ3: 100 | BK3: 100 | BL3: 100 | BM3: 100 | BN3: 100 | BO3: 100 | BP3: 100 | BQ3: 100 | BR3: 100 | BS3: 100 | BT3: 100 | BU3: 100 | BV3: 100 | BW3: 100 | BX3: 100 | BY3: 100 | BZ3: 100 | CA3: 100 | CB3: 100
A4: 39142 | B4: 100.67966 | C4: 99.747802 | D4: 102.7248 | E4: 91.22807 | F4: 100 | G4: 127.70799 | H4: 100.98267 | I4: 99.986793 | J4: 101.18074 | K4: 94.220846 | L4: 100 | M4: 114.19768 | N4: 99.460285 | O4: 100 | P4: 100 | Q4: 100 | R4: 100 | S4: 100 | T4: 100 | U4: 100 | V4: 100 | W4: 100 | X4: 100 | Y4: 100 | Z4: 100 | AA4: 100 | AB4: 100 | AC4: 100 | AD4: 100 | AE4: 100 | AF4: 100 | AG4: 100 | AH4: 100 | AI4: 100 | AJ4: 100 | AK4: 100 | AL4: 100 | AM4: 100 | AN4: 100 | AO4: 100 | AP4: 100 | AQ4: 100 | AR4: 100 | AS4: 100 | AT4: 100 | AU4: 100 | AV4: 100 | AW4: 100 | AX4: 100 | AY4: 100 | AZ4: 100 | BA4: 100 | BB4: 100 | BC4: 100 | BD4: 100 | BE4: 100 | BF4: 100 | BG4: 100 | BH4: 100 | BI4: 100 | BJ4: 100 | BK4: 100 | BL4: 100 | BM4: 100 | BN4: 100 | BO4: 100 | BP4: 100 | BQ4: 100 | BR4: 100 | BS4: 100 | BT4: 100 | BU4: 100 | BV4: 100 | BW4: 100 | BX4: 100 | BY4: 100 | BZ4: 100 | CA4: 100 | CB4: 100
A5: 39173 | B5: 101.36116 | C5: 101.55703 | D5: 102.45232 | E5: 89.886481 | F5: 100 | G5: 148.25788 | H5: 100.08386 | I5: 99.747802 | J5: 102.7248 | K5: 91.22807 | L5: 100 | M5: 127.70799 | N5: 100.98267 | O5: 99.986793 | P5: 101.18074 | Q5: 94.220846 | R5: 100 | S5: 114.19768 | T5: 99.460285 | U5: 100 | V5: 100 | W5: 100 | X5: 100 | Y5: 100 | Z5: 100 | AA5: 100 | AB5: 100 | AC5: 100 | AD5: 100 | AE5: 100 | AF5: 100 | AG5: 100 | AH5: 100 | AI5: 100 | AJ5: 100 | AK5: 100 | AL5: 100 | AM5: 100 | AN5: 100 | AO5: 100 | AP5: 100 | AQ5: 100 | AR5: 100 | AS5: 100 | AT5: 100 | AU5: 100 | AV5: 100 | AW5: 100 | AX5: 100 | AY5: 100 | AZ5: 100 | BA5: 100 | BB5: 100 | BC5: 100 | BD5: 100 | BE5: 100 | BF5: 100 | BG5: 100 | BH5: 100 | BI5: 100 | BJ5: 100 | BK5: 100 | BL5: 100 | BM5: 100 | BN5: 100 | BO5: 100 | BP5: 100 | BQ5: 100 | BR5: 100 | BS5: 100 | BT5: 100 | BU5: 100 | BV5: 100 | BW5: 100 | BX5: 100 | BY5: 100 | BZ5: 100 | CA5: 100 | CB5: 100
A6: 39203 | B6: 101.47019 | C6: 101.91307 | D6: 103.81471 | E6: 91.124871 | F6: 100 | G6: 141.81086 | H6: 106.25081 | I6: 101.55703 | J6: 102.45232 | K6: 89.886481 | L6: 100 | M6: 148.25788 | N6: 100.08386 | O6: 99.747802 | P6: 102.7248 | Q6: 91.22807 | R6: 100 | S6: 127.70799 | T6: 100.98267 | U6: 99.986793 | V6: 101.18074 | W6: 94.220846 | X6: 100 | Y6: 114.19768 | Z6: 99.460285 | AA6: 100 | AB6: 100 | AC6: 100 | AD6: 100 | AE6: 100 | AF6: 100 | AG6: 100 | AH6: 100 | AI6: 100 | AJ6: 100 | AK6: 100 | AL6: 100 | AM6: 100 | AN6: 100 | AO6: 100 | AP6: 100 | AQ6: 100 | AR6: 100 | AS6: 100 | AT6: 100 | AU6: 100 | AV6: 100 | AW6: 100 | AX6: 100 | AY6: 100 | AZ6: 100 | BA6: 100 | BB6: 100 | BC6: 100 | BD6: 100 | BE6: 100 | BF6: 100 | BG6: 100 | BH6: 100 | BI6: 100 | BJ6: 100 | BK6: 100 | BL6: 100 | BM6: 100 | BN6: 100 | BO6: 100 | BP6: 100 | BQ6: 100 | BR6: 100 | BS6: 100 | BT6: 100 | BU6: 100 | BV6: 100 | BW6: 100 | BX6: 100 | BY6: 100 | BZ6: 100 | CA6: 100 | CB6: 100
A7: 39234 | B7: 101.2821 | C7: 101.73114 | D7: 103.81471 | E7: 88.028896 | F7: 100 | G7: 148.80303 | H7: 105.35845 | I7: 101.91307 | J7: 103.81471 | K7: 91.124871 | L7: 100 | M7: 141.81086 | N7: 106.25081 | O7: 101.55703 | P7: 102.45232 | Q7: 89.886481 | R7: 100 | S7: 148.25788 | T7: 100.08386 | U7: 99.747802 | V7: 102.7248 | W7: 91.22807 | X7: 100 | Y7: 127.70799 | Z7: 100.98267 | AA7: 99.986793 | AB7: 101.18074 | AC7: 94.220846 | AD7: 100 | AE7: 114.19768 | AF7: 99.460285 | AG7: 100 | AH7: 100 | AI7: 100 | AJ7: 100 | AK7: 100 | AL7: 100 | AM7: 100 | AN7: 100 | AO7: 100 | AP7: 100 | AQ7: 100 | AR7: 100 | AS7: 100 | AT7: 100 | AU7: 100 | AV7: 100 | AW7: 100 | AX7: 100 | AY7: 100 | AZ7: 100 | BA7: 100 | BB7: 100 | BC7: 100 | BD7: 100 | BE7: 100 | BF7: 100 | BG7: 100 | BH7: 100 | BI7: 100 | BJ7: 100 | BK7: 100 | BL7: 100 | BM7: 100 | BN7: 100 | BO7: 100 | BP7: 100 | BQ7: 100 | BR7: 100 | BS7: 100 | BT7: 100 | BU7: 100 | BV7: 100 | BW7: 100 | BX7: 100 | BY7: 100 | BZ7: 100 | CA7: 100 | CB7: 100
A8: 39264 | B8: 105.73954 | C8: 101.1381 | D8: 102.27066 | E8: 93.292054 | F8: 99.480969 | G8: 165.75018 | H8: 108.6763 | I8: 101.73114 | J8: 103.81471 | K8: 88.028896 | L8: 100 | M8: 148.80303 | N8: 105.35845 | O8: 101.91307 | P8: 103.81471 | Q8: 91.124871 | R8: 100 | S8: 141.81086 | T8: 106.25081 | U8: 101.55703 | V8: 102.45232 | W8: 89.886481 | X8: 100 | Y8: 148.25788 | Z8: 100.08386 | AA8: 99.747802 | AB8: 102.7248 | AC8: 91.22807 | AD8: 100 | AE8: 127.70799 | AF8: 100.98267 | AG8: 99.986793 | AH8: 101.18074 | AI8: 94.220846 | AJ8: 100 | AK8: 114.19768 | AL8: 99.460285 | AM8: 100 | AN8: 100 | AO8: 100 | AP8: 100 | AQ8: 100 | AR8: 100 | AS8: 100 | AT8: 100 | AU8: 100 | AV8: 100 | AW8: 100 | AX8: 100 | AY8: 100 | AZ8: 100 | BA8: 100 | BB8: 100 | BC8: 100 | BD8: 100 | BE8: 100 | BF8: 100 | BG8: 100 | BH8: 100 | BI8: 100 | BJ8: 100 | BK8: 100 | BL8: 100 | BM8: 100 | BN8: 100 | BO8: 100 | BP8: 100 | BQ8: 100 | BR8: 100 | BS8: 100 | BT8: 100 | BU8: 100 | BV8: 100 | BW8: 100 | BX8: 100 | BY8: 100 | BZ8: 100 | CA8: 100 | CB8: 100
A9: 39295 | B9: 102.14254 | C9: 99.246597 | D9: 102.17984 | E9: 86.068111 | F9: 99.307958 | G9: 182.55511 | H9: 107.71083 | I9: 101.1381 | J9: 102.27066 | K9: 93.292054 | L9: 99.480969 | M9: 165.75018 | N9: 108.6763 | O9: 101.73114 | P9: 103.81471 | Q9: 88.028896 | R9: 100 | S9: 148.80303 | T9: 105.35845 | U9: 101.91307 | V9: 103.81471 | W9: 91.124871 | X9: 100 | Y9: 141.81086 | Z9: 106.25081 | AA9: 101.55703 | AB9: 102.45232 | AC9: 89.886481 | AD9: 100 | AE9: 148.25788 | AF9: 100.08386 | AG9: 99.747802 | AH9: 102.7248 | AI9: 91.22807 | AJ9: 100 | AK9: 127.70799 | AL9: 100.98267 | AM9: 99.986793 | AN9: 101.18074 | AO9: 94.220846 | AP9: 100 | AQ9: 114.19768 | AR9: 99.460285 | AS9: 100 | AT9: 100 | AU9: 100 | AV9: 100 | AW9: 100 | AX9: 100 | AY9: 100 | AZ9: 100 | BA9: 100 | BB9: 100 | BC9: 100 | BD9: 100 | BE9: 100 | BF9: 100 | BG9: 100 | BH9: 100 | BI9: 100 | BJ9: 100 | BK9: 100 | BL9: 100 | BM9: 100 | BN9: 100 | BO9: 100 | BP9: 100 | BQ9: 100 | BR9: 100 | BS9: 100 | BT9: 100 | BU9: 100 | BV9: 100 | BW9: 100 | BX9: 100 | BY9: 100 | BZ9: 100 | CA9: 100 | CB9: 100
A10: 39326 | B10: 100.88711 | C10: 99.515847 | D10: 100.18165 | E10: 86.068111 | F10: 94.636678 | G10: 226.04883 | H10: 109.31708 | I10: 99.246597 | J10: 102.17984 | K10: 86.068111 | L10: 99.307958 | M10: 182.55511 | N10: 107.71083 | O10: 101.1381 | P10: 102.27066 | Q10: 93.292054 | R10: 99.480969 | S10: 165.75018 | T10: 108.6763 | U10: 101.73114 | V10: 103.81471 | W10: 88.028896 | X10: 100 | Y10: 148.80303 | Z10: 105.35845 | AA10: 101.91307 | AB10: 103.81471 | AC10: 91.124871 | AD10: 100 | AE10: 141.81086 | AF10: 106.25081 | AG10: 101.55703 | AH10: 102.45232 | AI10: 89.886481 | AJ10: 100 | AK10: 148.25788 | AL10: 100.08386 | AM10: 99.747802 | AN10: 102.7248 | AO10: 91.22807 | AP10: 100 | AQ10: 127.70799 | AR10: 100.98267 | AS10: 99.986793 | AT10: 101.18074 | AU10: 94.220846 | AV10: 100 | AW10: 114.19768 | AX10: 99.460285 | AY10: 100 | AZ10: 100 | BA10: 100 | BB10: 100 | BC10: 100 | BD10: 100 | BE10: 100 | BF10: 100 | BG10: 100 | BH10: 100 | BI10: 100 | BJ10: 100 | BK10: 100 | BL10: 100 | BM10: 100 | BN10: 100 | BO10: 100 | BP10: 100 | BQ10: 100 | BR10: 100 | BS10: 100 | BT10: 100 | BU10: 100 | BV10: 100 | BW10: 100 | BX10: 100 | BY10: 100 | BZ10: 100 | CA10: 100 | CB10: 100
A11: 39356 | B11: 102.45678 | C11: 99.576246 | D11: 99.182561 | E11: 83.488132 | F11: 94.290657 | G11: 250.79403 | H11: 108.80747 | I11: 99.515847 | J11: 100.18165 | K11: 86.068111 | L11: 94.636678 | M11: 226.04883 | N11: 109.31708 | O11: 99.246597 | P11: 102.17984 | Q11: 86.068111 | R11: 99.307958 | S11: 182.55511 | T11: 107.71083 | U11: 101.1381 | V11: 102.27066 | W11: 93.292054 | X11: 99.480969 | Y11: 165.75018 | Z11: 108.6763 | AA11: 101.73114 | AB11: 103.81471 | AC11: 88.028896 | AD11: 100 | AE11: 148.80303 | AF11: 105.35845 | AG11: 101.91307 | AH11: 103.81471 | AI11: 91.124871 | AJ11: 100 | AK11: 141.81086 | AL11: 106.25081 | AM11: 101.55703 | AN11: 102.45232 | AO11: 89.886481 | AP11: 100 | AQ11: 148.25788 | AR11: 100.08386 | AS11: 99.747802 | AT11: 102.7248 | AU11: 91.22807 | AV11: 100 | AW11: 127.70799 | AX11: 100.98267 | AY11: 99.986793 | AZ11: 101.18074 | BA11: 94.220846 | BB11: 100 | BC11: 114.19768 | BD11: 99.460285 | BE11: 100 | BF11: 100 | BG11: 100 | BH11: 100 | BI11: 100 | BJ11: 100 | BK11: 100 | BL11: 100 | BM11: 100 | BN11: 100 | BO11: 100 | BP11: 100 | BQ11: 100 | BR11: 100 | BS11: 100 | BT11: 100 | BU11: 100 | BV11: 100 | BW11: 100 | BX11: 100 | BY11: 100 | BZ11: 100 | CA11: 100 | CB11: 100
A12: 39387 | B12: 103.86168 | C12: 98.477546 | D12: 97.456857 | E12: 78.534572 | F12: 93.598616 | G12: 242.00047 | H12: 97.875543 | I12: 99.576246 | J12: 99.182561 | K12: 83.488132 | L12: 94.290657 | M12: 250.79403 | N12: 108.80747 | O12: 99.515847 | P12: 100.18165 | Q12: 86.068111 | R12: 94.636678 | S12: 226.04883 | T12: 109.31708 | U12: 99.246597 | V12: 102.17984 | W12: 86.068111 | X12: 99.307958 | Y12: 182.55511 | Z12: 107.71083 | AA12: 101.1381 | AB12: 102.27066 | AC12: 93.292054 | AD12: 99.480969 | AE12: 165.75018 | AF12: 108.6763 | AG12: 101.73114 | AH12: 103.81471 | AI12: 88.028896 | AJ12: 100 | AK12: 148.80303 | AL12: 105.35845 | AM12: 101.91307 | AN12: 103.81471 | AO12: 91.124871 | AP12: 100 | AQ12: 141.81086 | AR12: 106.25081 | AS12: 101.55703 | AT12: 102.45232 | AU12: 89.886481 | AV12: 100 | AW12: 148.25788 | AX12: 100.08386 | AY12: 99.747802 | AZ12: 102.7248 | BA12: 91.22807 | BB12: 100 | BC12: 127.70799 | BD12: 100.98267 | BE12: 99.986793 | BF12: 101.18074 | BG12: 94.220846 | BH12: 100 | BI12: 114.19768 | BJ12: 99.460285 | BK12: 100 | BL12: 100 | BM12: 100 | BN12: 100 | BO12: 100 | BP12: 100 | BQ12: 100 | BR12: 100 | BS12: 100 | BT12: 100 | BU12: 100 | BV12: 100 | BW12: 100 | BX12: 100 | BY12: 100 | BZ12: 100 | CA12: 100 | CB12: 100
A13: 39417 | B13: 103.46504 | C13: 96.012231 | D13: 96.639419 | E13: 77.915377 | F13: 92.214533 | G13: 216.71012 | H13: 89.231497 | I13: 98.477546 | J13: 97.456857 | K13: 78.534572 | L13: 93.598616 | M13: 242.00047 | N13: 97.875543 | O13: 99.576246 | P13: 99.182561 | Q13: 83.488132 | R13: 94.290657 | S13: 250.79403 | T13: 108.80747 | U13: 99.515847 | V13: 100.18165 | W13: 86.068111 | X13: 94.636678 | Y13: 226.04883 | Z13: 109.31708 | AA13: 99.246597 | AB13: 102.17984 | AC13: 86.068111 | AD13: 99.307958 | AE13: 182.55511 | AF13: 107.71083 | AG13: 101.1381 | AH13: 102.27066 | AI13: 93.292054 | AJ13: 99.480969 | AK13: 165.75018 | AL13: 108.6763 | AM13: 101.73114 | AN13: 103.81471 | AO13: 88.028896 | AP13: 100 | AQ13: 148.80303 | AR13: 105.35845 | AS13: 101.91307 | AT13: 103.81471 | AU13: 91.124871 | AV13: 100 | AW13: 141.81086 | AX13: 106.25081 | AY13: 101.55703 | AZ13: 102.45232 | BA13: 89.886481 | BB13: 100 | BC13: 148.25788 | BD13: 100.08386 | BE13: 99.747802 | BF13: 102.7248 | BG13: 91.22807 | BH13: 100 | BI13: 127.70799 | BJ13: 100.98267 | BK13: 99.986793 | BL13: 101.18074 | BM13: 94.220846 | BN13: 100 | BO13: 114.19768 | BP13: 99.460285 | BQ13: 100 | BR13: 100 | BS13: 100 | BT13: 100 | BU13: 100 | BV13: 100 | BW13: 100 | BX13: 100 | BY13: 100 | BZ13: 100 | CA13: 100 | CB13: 100
... A35: 40087 | B35: 96.015603 | C35: 91.563795 | D35: 78.110808 | E35: 72.858617 | F35: 91.00346 | G35: 71.415027 | H35: 66.651615 | I35: 91.207238 | J35: 75.022707 | K35: 75.851393 | L35: 88.062284 | M35: 52.619104 | N35: 64.21537 | O35: 89.139208 | P35: 73.478656 | Q35: 65.221878 | R35: 86.50519 | S35: 57.383266 | T35: 66.055993 | U35: 84.432658 | V35: 68.119891 | W35: 68.111455 | X35: 81.314879 | Y35: 79.284191 | Z35: 56.584097 | AA35: 82.293317 | AB35: 64.577657 | AC35: 73.065015 | AD35: 76.816609 | AE35: 96.468357 | AF35: 58.338709 | AG35: 79.226928 | AH35: 60.58129 | AI35: 70.897833 | AJ35: 75.951557 | AK35: 74.994074 | AL35: 55.517568 | AM35: 76.445785 | AN35: 58.038147 | AO35: 63.880289 | AP35: 70.069204 | AQ35: 42.427115 | AR35: 50.288135 | AS35: 76.089228 | AT35: 54.768392 | AU35: 59.133127 | AV35: 66.262976 | AW35: 37.307419 | AX35: 40.633467 | AY35: 75.243971 | AZ35: 55.313351 | BA35: 58.101135 | BB35: 62.629758 | BC35: 47.072766 | BD35: 45.267277 | BE35: 76.562908 | BF35: 57.402361 | BG35: 63.157895 | BH35: 66.608997 | BI35: 25.36146 | BJ35: 47.716424 | BK35: 77.477376 | BL35: 60.490463 | BM35: 62.022704 | BN35: 66.262976 | BO35: 18.34558 | BP35: 39.401368 | BQ35: 77.801439 | BR35: 66.757493 | BS35: 57.069143 | BT35: 67.301038 | BU35: 16.591609 | BV35: 53.264095 | BW35: 78.563072 | BX35: 72.388738 | BY35: 58.410733 | BZ35: 75.432526 | CA35: 20.170657 | CB35: 62.045758
I36: 91.563795 | J36: 78.110808 | K36: 72.858617 | L36: 91.00346 | M36: 71.415027 | N36: 66.651615 | O36: 91.207238 | P36: 75.022707 | Q36: 75.851393 | R36: 88.062284 | S36: 52.619104 | T36: 64.21537 | U36: 89.139208 | V36: 73.478656 | W36: 65.221878 | X36: 86.50519 | Y36: 57.383266 | Z36: 66.055993 | AA36: 84.432658 | AB36: 68.119891 | AC36: 68.111455 | AD36: 81.314879 | AE36: 79.284191 | AF36: 56.584097 | AG36: 82.293317 | AH36: 64.577657 | AI36: 73.065015 | AJ36: 76.816609 | AK36: 96.468357 | AL36: 58.338709 | AM36: 79.226928 | AN36: 60.58129 | AO36: 70.897833 | AP36: 75.951557 | AQ36: 74.994074 | AR36: 55.517568 | AS36: 76.445785 | AT36: 58.038147 | AU36: 63.880289 | AV36: 70.069204 | AW36: 42.427115 | AX36: 50.288135 | AY36: 76.089228 | AZ36: 54.768392 | BA36: 59.133127 | BB36: 66.262976 | BC36: 37.307419 | BD36: 40.633467 | BE36: 75.243971 | BF36: 55.313351 | BG36: 58.101135 | BH36: 62.629758 | BI36: 47.072766 | BJ36: 45.267277 | BK36: 76.562908 | BL36: 57.402361 | BM36: 63.157895 | BN36: 66.608997 | BO36: 25.36146 | BP36: 47.716424 | BQ36: 77.477376 | BR36: 60.490463 | BS36: 62.022704 | BT36: 66.262976 | BU36: 18.34558 | BV36: 39.401368 | BW36: 77.801439 | BX36: 66.757493 | BY36: 57.069143 | BZ36: 67.301038 | CA36: 16.591609 | CB36: 53.264095
O37: 91.563795 | P37: 78.110808 | Q37: 72.858617 | R37: 91.00346 | S37: 71.415027 | T37: 66.651615 | U37: 91.207238 | V37: 75.022707 | W37: 75.851393 | X37: 88.062284 | Y37: 52.619104 | Z37: 64.21537 | AA37: 89.139208 | AB37: 73.478656 | AC37: 65.221878 | AD37: 86.50519 | AE37: 57.383266 | AF37: 66.055993 | AG37: 84.432658 | AH37: 68.119891 | AI37: 68.111455 | AJ37: 81.314879 | AK37: 79.284191 | AL37: 56.584097 | AM37: 82.293317 | AN37: 64.577657 | AO37: 73.065015 | AP37: 76.816609 | AQ37: 96.468357 | AR37: 58.338709 | AS37: 79.226928 | AT37: 60.58129 | AU37: 70.897833 | AV37: 75.951557 | AW37: 74.994074 | AX37: 55.517568 | AY37: 76.445785 | AZ37: 58.038147 | BA37: 63.880289 | BB37: 70.069204 | BC37: 42.427115 | BD37: 50.288135 | BE37: 76.089228 | BF37: 54.768392 | BG37: 59.133127 | BH37: 66.262976 | BI37: 37.307419 | BJ37: 40.633467 | BK37: 75.243971 | BL37: 55.313351 | BM37: 58.101135 | BN37: 62.629758 | BO37: 47.072766 | BP37: 45.267277 | BQ37: 76.562908 | BR37: 57.402361 | BS37: 63.157895 | BT37: 66.608997 | BU37: 25.36146 | BV37: 47.716424 | BW37: 77.477376 | BX37: 60.490463 | BY37: 62.022704 | BZ37: 66.262976 | CA37: 18.34558 | CB37: 39.401368
U38: 91.563795 | V38: 78.110808 | W38: 72.858617 | X38: 91.00346 | Y38: 71.415027 | Z38: 66.651615 | AA38: 91.207238 | AB38: 75.022707 | AC38: 75.851393 | AD38: 88.062284 | AE38: 52.619104 | AF38: 64.21537 | AG38: 89.139208 | AH38: 73.478656 | AI38: 65.221878 | AJ38: 86.50519 | AK38: 57.383266 | AL38: 66.055993 | AM38: 84.432658 | AN38: 68.119891 | AO38: 68.111455 | AP38: 81.314879 | AQ38: 79.284191 | AR38: 56.584097 | AS38: 82.293317 | AT38: 64.577657 | AU38: 73.065015 | AV38: 76.816609 | AW38: 96.468357 | AX38: 58.338709 | AY38: 79.226928 | AZ38: 60.58129 | BA38: 70.897833 | BB38: 75.951557 | BC38: 74.994074 | BD38: 55.517568 | BE38: 76.445785 | BF38: 58.038147 | BG38: 63.880289 | BH38: 70.069204 | BI38: 42.427115 | BJ38: 50.288135 | BK38: 76.089228 | BL38: 54.768392 | BM38: 59.133127 | BN38: 66.262976 | BO38: 37.307419 | BP38: 40.633467 | BQ38: 75.243971 | BR38: 55.313351 | BS38: 58.101135 | BT38: 62.629758 | BU38: 47.072766 | BV38: 45.267277 | BW38: 76.562908 | BX38: 57.402361 | BY38: 63.157895 | BZ38: 66.608997 | CA38: 25.36146 | CB38: 47.716424
AA39: 91.563795 | AB39: 78.110808 | AC39: 72.858617 | AD39: 91.00346 | AE39: 71.415027 | AF39: 66.651615 | AG39: 91.207238 | AH39: 75.022707 | AI39: 75.851393 | AJ39: 88.062284 | AK39: 52.619104 | AL39: 64.21537 | AM39: 89.139208 | AN39: 73.478656 | AO39: 65.221878 | AP39: 86.50519 | AQ39: 57.383266 | AR39: 66.055993 | AS39: 84.432658 | AT39: 68.119891 | AU39: 68.111455 | AV39: 81.314879 | AW39: 79.284191 | AX39: 56.584097 | AY39: 82.293317 | AZ39: 64.577657 | BA39: 73.065015 | BB39: 76.816609 | BC39: 96.468357 | BD39: 58.338709 | BE39: 79.226928 | BF39: 60.58129 | BG39: 70.897833 | BH39: 75.951557 | BI39: 74.994074 | BJ39: 55.517568 | BK39: 76.445785 | BL39: 58.038147 | BM39: 63.880289 | BN39: 70.069204 | BO39: 42.427115 | BP39: 50.288135 | BQ39: 76.089228 | BR39: 54.768392 | BS39: 59.133127 | BT39: 66.262976 | BU39: 37.307419 | BV39: 40.633467 | BW39: 75.243971 | BX39: 55.313351 | BY39: 58.101135 | BZ39: 62.629758 | CA39: 47.072766 | CB39: 45.267277
AG40: 91.563795 | AH40: 78.110808 | AI40: 72.858617 | AJ40: 91.00346 | AK40: 71.415027 | AL40: 66.651615 | AM40: 91.207238 | AN40: 75.022707 | AO40: 75.851393 | AP40: 88.062284 | AQ40: 52.619104 | AR40: 64.21537 | AS40: 89.139208 | AT40: 73.478656 | AU40: 65.221878 | AV40: 86.50519 | AW40: 57.383266 | AX40: 66.055993 | AY40: 84.432658 | AZ40: 68.119891 | BA40: 68.111455 | BB40: 81.314879 | BC40: 79.284191 | BD40: 56.584097 | BE40: 82.293317 | BF40: 64.577657 | BG40: 73.065015 | BH40: 76.816609 | BI40: 96.468357 | BJ40: 58.338709 | BK40: 79.226928 | BL40: 60.58129 | BM40: 70.897833 | BN40: 75.951557 | BO40: 74.994074 | BP40: 55.517568 | BQ40: 76.445785 | BR40: 58.038147 | BS40: 63.880289 | BT40: 70.069204 | BU40: 42.427115 | BV40: 50.288135 | BW40: 76.089228 | BX40: 54.768392 | BY40: 59.133127 | BZ40: 66.262976 | CA40: 37.307419 | CB40: 40.633467
AM41: 91.563795 | AN41: 78.110808 | AO41: 72.858617 | AP41: 91.00346 | AQ41: 71.415027 | AR41: 66.651615 | AS41: 91.207238 | AT41: 75.022707 | AU41: 75.851393 | AV41: 88.062284 | AW41: 52.619104 | AX41: 64.21537 | AY41: 89.139208 | AZ41: 73.478656 | BA41: 65.221878 | BB41: 86.50519 | BC41: 57.383266 | BD41: 66.055993 | BE41: 84.432658 | BF41: 68.119891 | BG41: 68.111455 | BH41: 81.314879 | BI41: 79.284191 | BJ41: 56.584097 | BK41: 82.293317 | BL41: 64.577657 | BM41: 73.065015 | BN41: 76.816609 | BO41: 96.468357 | BP41: 58.338709 | BQ41: 79.226928 | BR41: 60.58129 | BS41: 70.897833 | BT41: 75.951557 | BU41: 74.994074 | BV41: 55.517568 | BW41: 76.445785 | BX41: 58.038147 | BY41: 63.880289 | BZ41: 70.069204 | CA41: 42.427115 | CB41: 50.288135
AS42: 91.563795 | AT42: 78.110808 | AU42: 72.858617 | AV42: 91.00346 | AW42: 71.415027 | AX42: 66.651615 | AY42: 91.207238 | AZ42: 75.022707 | BA42: 75.851393 | BB42: 88.062284 | BC42: 52.619104 | BD42: 64.21537 | BE42: 89.139208 | BF42: 73.478656 | BG42: 65.221878 | BH42: 86.50519 | BI42: 57.383266 | BJ42: 66.055993 | BK42: 84.432658 | BL42: 68.119891 | BM42: 68.111455 | BN42: 81.314879 | BO42: 79.284191 | BP42: 56.584097 | BQ42: 82.293317 | BR42: 64.577657 | BS42: 73.065015 | BT42: 76.816609 | BU42: 96.468357 | BV42: 58.338709 | BW42: 79.226928 | BX42: 60.58129 | BY42: 70.897833 | BZ42: 75.951557 | CA42: 74.994074 | CB42: 55.517568
AY43: 91.563795 | AZ43: 78.110808 | BA43: 72.858617 | BB43: 91.00346 | BC43: 71.415027 | BD43: 66.651615 | BE43: 91.207238 | BF43: 75.022707 | BG43: 75.851393 | BH43: 88.062284 | BI43: 52.619104 | BJ43: 64.21537 | BK43: 89.139208 | BL43: 73.478656 | BM43: 65.221878 | BN43: 86.50519 | BO43: 57.383266 | BP43: 66.055993 | BQ43: 84.432658 | BR43: 68.119891 | BS43: 68.111455 | BT43: 81.314879 | BU43: 79.284191 | BV43: 56.584097 | BW43: 82.293317 | BX43: 64.577657 | BY43: 73.065015 | BZ43: 76.816609 | CA43: 96.468357 | CB43: 58.338709
BE44: 91.563795 | BF44: 78.110808 | BG44: 72.858617 | BH44: 91.00346 | BI44: 71.415027 | BJ44: 66.651615 | BK44: 91.207238 | BL44: 75.022707 | BM44: 75.851393 | BN44: 88.062284 | BO44: 52.619104 | BP44: 64.21537 | BQ44: 89.139208 | BR44: 73.478656 | BS44: 65.221878 | BT44: 86.50519 | BU44: 57.383266 | BV44: 66.055993 | BW44: 84.432658 | BX44: 68.119891 | BY44: 68.111455 | BZ44: 81.314879 | CA44: 79.284191 | CB44: 56.584097
BK45: 91.563795 | BL45: 78.110808 | BM45: 72.858617 | BN45: 91.00346 | BO45: 71.415027 | BP45: 66.651615 | BQ45: 91.207238 | BR45: 75.022707 | BS45: 75.851393 | BT45: 88.062284 | BU45: 52.619104 | BV45: 64.21537 | BW45: 89.139208 | BX45: 73.478656 | BY45: 65.221878 | BZ45: 86.50519 | CA45: 57.383266 | CB45: 66.055993
BQ46: 91.563795 | BR46: 78.110808 | BS46: 72.858617 | BT46: 91.00346 | BU46: 71.415027 | BV46: 66.651615 | BW46: 91.207238 | BX46: 75.022707 | BY46: 75.851393 | BZ46: 88.062284 | CA46: 52.619104 | CB46: 64.21537
BW47: 91.563795 | BX47: 78.110808 | BY47: 72.858617 | BZ47: 91.00346 | CA47: 71.415027 | CB47: 66.651615

Sheet 2a Create Correlation matrix
B1: Month | C1: Contract Logistics (Global) | D1: ECRI weekly (USA) | E1: Economic sentiment (Europe) | F1: Economic sentiment (Univ. of Michigan) | G1: Purchasing managers index Europe | H1: Baltic index | I1: Semicon index | J1: ECRI weekly (USA)-1 | K1: Economic sentiment (Europe) -1 | L1: Economic sentiment (Univ. of Michigan)-1 | M1: Purchasing managers index Europe-1 | N1: Baltic index-1 | O1: Semicon index -1 | P1: ECRI weekly (USA)-2 | Q1: Economic sentiment (Europe) -2 | R1: Economic sentiment (Univ. of Michigan)-2 | S1: Purchasing managers index Europe-2 | T1: Baltic index-2 | U1: Semicon index -2 | V1: ECRI weekly (USA)-3 | W1: Economic sentiment (Europe) -3 | X1: Economic sentiment (Univ. of Michigan)-3 | Y1: Purchasing managers index Europe-3 | Z1: Baltic index-3 | AA1: Semicon index -3 | AB1: ECRI weekly (USA)-4 | AC1: Economic sentiment (Europe) -4 | AD1: Economic sentiment (Univ. of Michigan)-4 | AE1: Purchasing managers index Europe-4 | AF1: Baltic index-4 | AG1: Semicon index -4 | AH1: ECRI weekly (USA)-5 | AI1: Economic sentiment (Europe) -5 | AJ1: Economic sentiment (Univ. of Michigan)-5 | AK1: Purchasing managers index Europe-5 | AL1: Baltic index-5 | AM1: Semicon index -5 | AN1: ECRI weekly (USA)-6 | AO1: Economic sentiment (Europe) -6 | AP1: Economic sentiment (Univ. of Michigan)-6 | AQ1: Purchasing managers index Europe-6 | AR1: Baltic index-6 | AS1: Semicon index -6 | AT1: ECRI weekly (USA)-7 | AU1: Economic sentiment (Europe) -7 | AV1: Economic sentiment (Univ. of Michigan)-7 | AW1: Purchasing managers index Europe-7 | AX1: Baltic index-7 | AY1: Semicon index -7 | AZ1: ECRI weekly (USA)-8 | BA1: Economic sentiment (Europe) -8 | BB1: Economic sentiment (Univ. of Michigan)-8 | BC1: Purchasing managers index Europe-8 | BD1: Baltic index-8 | BE1: Semicon index -8 | BF1: ECRI weekly (USA)-9 | BG1: Economic sentiment (Europe) -9 | BH1: Economic sentiment (Univ. of Michigan)-9 | BI1: Purchasing managers index Europe-9 | BJ1: Baltic index-9 | BK1: Semicon index -9 | BL1: ECRI weekly (USA)-10 | BM1: Economic sentiment (Europe) -10 | BN1: Economic sentiment (Univ. of Michigan)-10 | BO1: Purchasing managers index Europe-10 | BP1: Baltic index-10 | BQ1: Semicon index -10 | BR1: ECRI weekly (USA)-11 | BS1: Economic sentiment (Europe) -11 | BT1: Economic sentiment (Univ. of Michigan)-11 | BU1: Purchasing managers index Europe-11 | BV1: Baltic index-11 | BW1: Semicon index -11 | BX1: ECRI weekly (USA)-12 | BY1: Economic sentiment (Europe) -12 | BZ1: Economic sentiment (Univ. of Michigan)-12 | CA1: Purchasing managers index Europe-12 | CB1: Baltic index-12 | CC1: Semicon index -12
A2: Month | B2: 1
A3: Contract Logistics (Global) | B3: -0.79453047 | C3: 1
A4: ECRI weekly (USA) | B4: -0.79371374 | C4: 0.93940648 | D4: 1
A5: Economic sentiment (Europe) | B5: -0.87640875 | C5: 0.95733815 | D5: 0.97128657 | E5: 1
A6: Economic sentiment (Univ. of Michigan) | B6: -0.76199132 | C6: 0.71942511 | D6: 0.79428371 | E6: 0.77944808 | F6: 1
A7: Purchasing managers index Europe | B7: -0.7505498 | C7: 0.91348185 | D7: 0.97727526 | E7: 0.94905804 | F7: 0.83570745 | G7: 1
A8: Baltic index | B8: -0.56777881 | C8: 0.78002382 | D8: 0.72953282 | E8: 0.72897401 | F8: 0.31002009 | G8: 0.63544752 | H8: 1
A9: Semicon index | B9: -0.86477971 | C9: 0.93256553 | D9: 0.95608233 | E9: 0.96664113 | F9: 0.80145931 | G9: 0.92702991 | H9: 0.7297159 | I9: 1
A10: ECRI weekly (USA)-1 | B10: -0.83673248 | C10: 0.95372522 | D10: 0.96828569 | E10: 0.98462023 | F10: 0.75380353 | G10: 0.9417127 | H10: 0.72287843 | I10: 0.95931977 | J10: 1
A11: Economic sentiment (Europe) -1 | B11: -0.89670773 | C11: 0.94478355 | D11: 0.93439708 | E11: 0.98551195 | F11: 0.7189133 | G11: 0.89289003 | H11: 0.73208905 | I11: 0.94556116 | J11: 0.97465921 | K11: 1
A12: Economic sentiment (Univ. of Michigan)-1 | B12: -0.81124736 | C12: 0.75972576 | D12: 0.80853742 | E12: 0.8275094 | F12: 0.92317707 | G12: 0.85821306 | H12: 0.37298737 | I12: 0.83445361 | J12: 0.79541932 | K12: 0.77950835 | L12: 1
A13: Purchasing managers index Europe-1 | B13: -0.81674904 | C13: 0.93283099 | D13: 0.97216023 | E13: 0.98272987 | F13: 0.79907982 | G13: 0.96818402 | H13: 0.66458175 | I13: 0.95484342 | J13: 0.97919848 | K13: 0.9581795 | L13: 0.84199757 | M13: 1
A14: Baltic index-1 | B14: -0.51299551 | C14: 0.75733714 | D14: 0.66734564 | E14: 0.68925463 | F14: 0.2262925 | G14: 0.57177676 | H14: 0.91572551 | I14: 0.67222509 | J14: 0.71363629 | K14: 0.70654423 | L14: 0.26931515 | M14: 0.62404362 | N14: 1
A15: Semicon index -1 | B15: -0.87838093 | C15: 0.93708831 | D15: 0.92380359 | E15: 0.96175599 | F15: 0.75649564 | G15: 0.88114725 | H15: 0.72374317 | I15: 0.9633556 | J15: 0.96256711 | K15: 0.96783302 | L15: 0.80171348 | M15: 0.94127463 | N15: 0.70446114 | O15: 1
A16: ECRI weekly (USA)-2 | B16: -0.87444962 | C16: 0.93528473 | D16: 0.91076006 | E16: 0.96644557 | F16: 0.69084889 | G16: 0.86912358 | H16: 0.70153097 | I16: 0.93206423 | J16: 0.96922797 | K16: 0.98688966 | L16: 0.75602037 | M16: 0.94521237 | N16: 0.70681883 | O16: 0.96456529 | P16: 1
A17: Economic sentiment (Europe) -2 | B17: -0.90699697 | C17: 0.90555758 | D17: 0.8804457 | E17: 0.95233043 | F17: 0.65427106 | G17: 0.81967511 | H17: 0.72623909 | I17: 0.90799544 | J17: 0.941811 | K17: 0.98645842 | L17: 0.72252206 | M17: 0.90842781 | N17: 0.70842995 | O17: 0.94643518 | P17: 0.98004784 | Q17: 1
A18: Economic sentiment (Univ. of Michigan)-2 | B18: -0.86580028 | C18: 0.7793198 | D18: 0.83314126 | E18: 0.86480766 | F18: 0.87706824 | G18: 0.84516359 | H18: 0.44470754 | I18: 0.85367273 | J18: 0.81067495 | K18: 0.8288303 | L18: 0.93120085 | M18: 0.86291929 | N18: 0.33773859 | O18: 0.83797942 | P18: 0.79713791 | Q18: 0.78469811 | R18: 1
A19: Purchasing managers index Europe-2 | B19: -0.86484852 | C19: 0.92524553 | D19: 0.94128305 | E19: 0.97757159 | F19: 0.73908427 | G19: 0.90986793 | H19: 0.67484196 | I19: 0.9379977 | J19: 0.97291759 | K19: 0.98611928 | L19: 0.80394709 | M19: 0.97042826 | N19: 0.64675224 | O19: 0.96207472 | P19: 0.97969598 | Q19: 0.96561149 | R19: 0.84519204 | S19: 1
A20: Baltic index-2 | B20: -0.44601994 | C20: 0.70847454 | D20: 0.56650829 | E20: 0.62025163 | F20: 0.13319104 | G20: 0.48797936 | H20: 0.76403401 | I20: 0.57369174 | J20: 0.65665023 | K20: 0.66841279 | L20: 0.18924351 | M20: 0.56767429 | N20: 0.91515827 | O20: 0.64691702 | P20: 0.70211279 | Q20: 0.68264653 | R20: 0.23963419 | S20: 0.61138014 | T20: 1
A21: Semicon index -2 | B21: -0.88519875 | C21: 0.91395387 | D21: 0.87751696 | E21: 0.94120212 | F21: 0.71293118 | G21: 0.82842306 | H21: 0.69196969 | I21: 0.912998 | J21: 0.93369486 | K21: 0.96401827 | L21: 0.75924423 | M21: 0.9002937 | N21: 0.69871225 | O21: 0.96419778 | P21: 0.97028236 | Q21: 0.96842781 | R21: 0.8078268 | S21: 0.95160771 | T21: 0.67820242 | U21: 1
A22: ECRI weekly (USA)-3 | B22: -0.89847658 | C22: 0.87775952 | D22: 0.8382935 | E22: 0.92419101 | F22: 0.64161774 | G22: 0.77857975 | H22: 0.67564206 | I22: 0.87629982 | J22: 0.91451922 | K22: 0.96736691 | L22: 0.69551791 | M22: 0.87821967 | N22: 0.68190298 | O22: 0.93468411 | P22: 0.97092191 | Q22: 0.9886799 | R22: 0.7597863 | S22: 0.94825657 | T22: 0.68953842 | U22: 0.96799026 | V22: 1
A23: Economic sentiment (Europe) -3 | B23: -0.91137176 | C23: 0.8531898 | D23: 0.8104418 | E23: 0.90221636 | F23: 0.59072215 | G23: 0.73327697 | H23: 0.70536322 | I23: 0.85558432 | J23: 0.89119768 | K23: 0.9547287 | L23: 0.6611378 | M23: 0.84000831 | N23: 0.70288369 | O23: 0.90942946 | P23: 0.9500613 | Q23: 0.98682536 | R23: 0.73113294 | S23: 0.91939844 | T23: 0.68372592 | U23: 0.94686297 | V23: 0.98335445 | W23: 1
A24: Economic sentiment (Univ. of Michigan)-3 | B24: -0.88352426 | C24: 0.81298339 | D24: 0.86821447 | E24: 0.88888035 | F24: 0.85787105 | G24: 0.86347162 | H24: 0.50160915 | I24: 0.86368928 | J24: 0.84457288 | K24: 0.86530535 | L24: 0.89271122 | M24: 0.86893638 | N24: 0.3964943 | O24: 0.85293148 | P24: 0.82050803 | Q24: 0.82708937 | R24: 0.94609411 | S24: 0.87672442 | T24: 0.28749706 | U24: 0.835354 | V24: 0.80141899 | W24: 0.78223565 | X24: 1
A25: Purchasing managers index Europe-3 | B25: -0.90252316 | C25: 0.88799043 | D25: 0.89048362 | E25: 0.9501343 | F25: 0.68735441 | G25: 0.83392083 | H25: 0.67020521 | I25: 0.90760014 | J25: 0.94325849 | K25: 0.9794392 | L25: 0.74600059 | M25: 0.91565824 | N25: 0.65481542 | O25: 0.94308212 | P25: 0.97360438 | Q25: 0.99021083 | R25: 0.80834053 | S25: 0.97180215 | T25: 0.6305801 | U25: 0.96869827 | V25: 0.98058085 | W25: 0.97212472 | X25: 0.85500408 | Y25: 1
A26: Baltic index-3 | B26: -0.37825059 | C26: 0.57614679 | D26: 0.43323571 | E26: 0.52930895 | F26: 0.054372801 | G26: 0.36841646 | H26: 0.59234476 | I26: 0.43607957 | J26: 0.55450106 | K26: 0.59820989 | L26: 0.098967904 | M26: 0.48244616 | N26: 0.76047577 | O26: 0.54716815 | P26: 0.64365832 | Q26: 0.64338965 | R26: 0.16096638 | S26: 0.5536999 | T26: 0.91297913 | U26: 0.61944215 | V26: 0.68355381 | W26: 0.65693944 | X26: 0.19074632 | Y26: 0.59387742 | Z26: 1
A27: Semicon index -3 | B27: -0.89174673 | C27: 0.86618214 | D27: 0.81252241 | E27: 0.90408582 | F27: 0.66368384 | G27: 0.75676963 | H27: 0.65389922 | I27: 0.85944008 | J27: 0.88724237 | K27: 0.94332041 | L27: 0.71603402 | M27: 0.84703938 | N27: 0.66874092 | O27: 0.91428039 | P27: 0.94102957 | Q27: 0.96451143 | R27: 0.76533241 | S27: 0.9102812 | T27: 0.67460029 | U27: 0.96455327 | V27: 0.973057 | W27: 0.96874107 | X27: 0.80520367 | Y27: 0.9574373 | Z27: 0.65311023 | AA27: 1
A28: ECRI weekly (USA)-4 | B28: -0.90073874 | C28: 0.81094183 | D28: 0.75746586 | E28: 0.86771419 | F28: 0.57849385 | G28: 0.69043163 | H28: 0.64326805 | I28: 0.81658394 | J28: 0.85177493 | K28: 0.92796874 | L28: 0.65096185 | M28: 0.80258983 | N28: 0.6509141 | O28: 0.878578 | P28: 0.92510555 | Q28: 0.96836446 | R28: 0.70767305 | S28: 0.8920477 | T28: 0.6549955 | U28: 0.93531331 | V28: 0.97563766 | W28: 0.98884772 | X28: 0.75832171 | Y28: 0.95698016 | Z28: 0.66203517 | AA28: 0.96852349 | AB28: 1
A29: Economic sentiment (Europe) -4 | B29: -0.90440086 | C29: 0.79888689 | D29: 0.73302009 | E29: 0.84290038 | F29: 0.52655051 | G29: 0.64643194 | H29: 0.68338985 | I29: 0.79915185 | J29: 0.83068488 | K29: 0.90997813 | L29: 0.60360655 | M29: 0.76618296 | N29: 0.68180601 | O29: 0.85979036 | P29: 0.90871835 | Q29: 0.95828671 | R29: 0.67795545 | S29: 0.86134492 | T29: 0.67496618 | U29: 0.91129229 | V29: 0.96013867 | W29: 0.98874718 | X29: 0.7277249 | Y29: 0.93489259 | Z29: 0.65505608 | AA29: 0.94937769 | AB29: 0.98437015 | AC29: 1
A30: Economic sentiment (Univ. of Michigan)-4 | B30: -0.90462431 | C30: 0.84509003 | D30: 0.89177249 | E30: 0.90758571 | F30: 0.85714669 | G30: 0.87115566 | H30: 0.57114056 | I30: 0.89363362 | J30: 0.87637865 | K30: 0.88888446 | L30: 0.87109149 | M30: 0.88267386 | N30: 0.45795304 | O30: 0.86381753 | P30: 0.85162272 | Q30: 0.86378344 | R30: 0.90645303 | S30: 0.88022808 | T30: 0.35222109 | U30: 0.85187032 | V30: 0.82378402 | W30: 0.82544041 | X30: 0.9496514 | Y30: 0.88368079 | Z30: 0.24437352 | AA30: 0.83377206 | AB30: 0.8011123 | AC30: 0.78161379 | AD30: 1
A31: Purchasing managers index Europe-4 | B31: -0.91834059 | C31: 0.84223812 | D31: 0.81925533 | E31: 0.9021554 | F31: 0.63684371 | G31: 0.74911485 | H31: 0.65245097 | I31: 0.85994275 | J31: 0.89815486 | K31: 0.95153555 | L31: 0.6968815 | M31: 0.85027502 | N31: 0.64405956 | O31: 0.90953815 | P31: 0.94837244 | Q31: 0.97971447 | R31: 0.75580141 | S31: 0.92363337 | T31: 0.62865912 | U31: 0.94441389 | V31: 0.97499701 | W31: 0.99059156 | X31: 0.81125302 | Y31: 0.97564279 | Z31: 0.60339169 | AA31: 0.96918926 | AB31: 0.9818076 | AC31: 0.97645733 | AD31: 0.85675056 | AE31: 1
A32: Baltic index-4 | B32: -0.32049384 | C32: 0.42055458 | D32: 0.27871184 | E32: 0.40805941 | F32: -0.048671654 | G32: 0.21704102 | H32: 0.43127003 | I32: 0.27864725 | J32: 0.41743933 | K32: 0.5059084 | L32: 0.023588308 | M32: 0.35709254 | N32: 0.58772864 | O32: 0.41008565 | P32: 0.53721222 | Q32: 0.57286804 | R32: 0.07221931 | S32: 0.46404808 | T32: 0.75749469 | U32: 0.52035709 | V32: 0.62207583 | W32: 0.61814966 | X32: 0.1182843 | Y32: 0.53235247 | Z32: 0.91263866 | AA32: 0.59441755 | AB32: 0.6572146 | AC32: 0.6315304 | AD32: 0.15252239 | AE32: 0.56606869 | AF32: 1
A33: Semicon index -4 | B33: -0.8838041 | C33: 0.82236164 | D33: 0.74279957 | E33: 0.85601837 | F33: 0.58939217 | G33: 0.67984434 | H33: 0.6297156 | I33: 0.79883817 | J33: 0.83423784 | K33: 0.91281979 | L33: 0.67414317 | M33: 0.79136483 | N33: 0.62928348 | O33: 0.86430079 | P33: 0.90626535 | Q33: 0.94757953 | R33: 0.73208722 | S33: 0.86993311 | T33: 0.63937791 | U33: 0.91665785 | V33: 0.95231575 | W33: 0.96687251 | X33: 0.76142764 | Y33: 0.92733415 | Z33: 0.6450714 | AA33: 0.96772642 | AB33: 0.97443779 | AC33: 0.96826516 | AD33: 0.80468205 | AE33: 0.96269357 | AF33: 0.62734369 | AG33: 1
A34: ECRI weekly (USA)-5 | B34: -0.89410425 | C34: 0.7455073 | D34: 0.67371108 | E34: 0.80129789 | F34: 0.50164357 | G34: 0.58929384 | H34: 0.63016165 | I34: 0.75225965 | J34: 0.77839192 | K34: 0.8758038 | L34: 0.59284729 | M34: 0.72420447 | N34: 0.61835453 | O34: 0.82107002 | P34: 0.8697703 | Q34: 0.93163884 | R34: 0.66896265 | S34: 0.82467177 | T34: 0.62137229 | U34: 0.88051054 | V34: 0.93544295 | W34: 0.9702775 | X34: 0.70548722 | Y34: 0.90806608 | Z34: 0.62521607 | AA34: 0.93788512 | AB34: 0.97667692 | AC34: 0.9886802 | AD34: 0.75880045 | AE34: 0.96155174 | AF34: 0.63615893 | AG34: 0.96805176 | AH34: 1
A35: Economic sentiment (Europe) -5 | B35: -0.89054075 | C35: 0.73692127 | D35: 0.65365197 | E35: 0.78068317 | F35: 0.46024196 | G35: 0.55941137 | H35: 0.65901447 | I35: 0.73931854 | J35: 0.76149836 | K35: 0.85622338 | L35: 0.54477287 | M35: 0.68951256 | N35: 0.6613516 | O35: 0.80670594 | P35: 0.85683384 | Q35: 0.91779701 | R35: 0.62748801 | S35: 0.79660007 | T35: 0.65291673 | U35: 0.86426148 | V35: 0.92597964 | W35: 0.96386144 | X35: 0.67466906 | Y35: 0.8854279 | Z35: 0.64583203 | AA35: 0.91742972 | AB35: 0.96404783 | AC35: 0.9896305 | AD35: 0.72918077 | AE35: 0.94439879 | AF35: 0.63151443 | AG35: 0.94875485 | AH35: 0.98508649 | AI35: 1
A36: Economic sentiment (Univ. of Michigan)-5 | B36: -0.93515219 | C36: 0.86582555 | D36: 0.88649844 | E36: 0.91894009 | F36: 0.82444125 | G36: 0.85224493 | H36: 0.62562112 | I36: 0.90426731 | J36: 0.89576613 | K36: 0.90748784 | L36: 0.86603943 | M36: 0.88360376 | N36: 0.53380962 | O36: 0.89474502 | P36: 0.8796089 | Q36: 0.88916752 | R36: 0.88117927 | S36: 0.88942948 | T36: 0.42297988 | U36: 0.86597847 | V36: 0.85344213 | W36: 0.86484344 | X36: 0.91446927 | Y36: 0.88466587 | Z36: 0.31796214 | AA36: 0.8531242 | AB36: 0.82736118 | AC36: 0.83106004 | AD36: 0.95374958 | AE36: 0.88592155 | AF36: 0.2124128 | AG36: 0.84026771 | AH36: 0.80777707 | AI36: 0.79227641 | AJ36: 1
A37: Purchasing managers index Europe-5 | B37: -0.91971374 | C37: 0.79306161 | D37: 0.73914065 | E37: 0.84544677 | F37: 0.5789861 | G37: 0.65811201 | H37: 0.63089525 | I37: 0.80472731 | J37: 0.83634431 | K37: 0.90797046 | L37: 0.65144687 | M37: 0.77849062 | N37: 0.62436182 | O37: 0.86354044 | P37: 0.91198724 | Q37: 0.95356443 | R37: 0.71416039 | S37: 0.86843059 | T37: 0.61245184 | U37: 0.91086006 | V37: 0.95543306 | W37: 0.9802505 | X37: 0.75661642 | Y37: 0.93594181 | Z37: 0.59632154 | AA37: 0.94563872 | AB37: 0.97517093 | AC37: 0.990578 | AD37: 0.81300634 | AE37: 0.97838326 | AF37: 0.5735225 | AG37: 0.969325 | AH37: 0.98184339 | AI37: 0.97844759 | AJ37: 0.86238885 | AK37: 1
A38: Baltic index-5 | B38: -0.27275692 | C38: 0.23315666 | D38: 0.1091924 | E38: 0.26324342 | F38: -0.20231762 | G38: 0.03729796 | H38: 0.3373509 | I38: 0.13520905 | J38: 0.26267569 | K38: 0.38603631 | L38: -0.073258192 | M38: 0.20390175 | N38: 0.42824898 | O38: 0.25573509 | P38: 0.399468 | Q38: 0.48243499 | R38: -0.00048887544 | S38: 0.33793242 | T38: 0.58619807 | U38: 0.38616989 | V38: 0.51567547 | W38: 0.54980251 | X38: 0.036738251 | Y38: 0.44197949 | Z38: 0.7581803 | AA38: 0.49742915 | AB38: 0.59821669 | AC38: 0.59686073 | AD38: 0.085386507 | AE38: 0.5059803 | AF38: 0.91292821 | AG38: 0.57287561 | AH38: 0.6357309 | AI38: 0.6139421 | AJ38: 0.12425105 | AK38: 0.53973466 | AL38: 1
A39: Semicon index -5 | B39: -0.87471444 | C39: 0.76056935 | D39: 0.66380142 | E39: 0.7967912 | F39: 0.49484959 | G39: 0.5861692 | H39: 0.62710698 | I39: 0.72410144 | J39: 0.76401983 | K39: 0.86427466 | L39: 0.6011583 | M39: 0.71381794 | N39: 0.6060245 | O39: 0.80313924 | P39: 0.85275204 | Q39: 0.91660827 | R39: 0.68976197 | S39: 0.81372287 | T39: 0.60046223 | U39: 0.86607687 | V39: 0.91708189 | W39: 0.94957017 | X39: 0.72739147 | Y39: 0.88643051 | Z39: 0.6105593 | AA39: 0.91930763 | AB39: 0.95328277 | AC39: 0.9663048 | AD39: 0.76040151 | AE39: 0.93207297 | AF39: 0.62056801 | AG39: 0.96709998 | AH39: 0.97397882 | AI39: 0.96828654 | AJ39: 0.81040268 | AK39: 0.96242947 | AL39: 0.60739604 | AM39: 1
A40: ECRI weekly (USA)-6 | B40: -0.87889309 | C40: 0.68099209 | D40: 0.60212525 | E40: 0.73513804 | F40: 0.42766589 | G40: 0.50252241 | H40: 0.61470181 | I40: 0.68425098 | J40: 0.70631804 | K40: 0.8176092 | L40: 0.52398742 | M40: 0.63764113 | N40: 0.60679222 | O40: 0.76169897 | P40: 0.80888321 | Q40: 0.88600241 | R40: 0.6212569 | S40: 0.75947052 | T40: 0.58624673 | U40: 0.82707095 | V40: 0.89079404 | W40: 0.93932089 | X40: 0.66711666 | Y40: 0.85339969 | Z40: 0.58954814 | AA40: 0.88870747 | AB40: 0.94114233 | AC40: 0.97191642 | AD40: 0.70926538 | AE40: 0.92067415 | AF40: 0.60107318 | AG40: 0.937833 | AH40: 0.97846967 | AI40: 0.98844027 | AJ40: 0.7731448 | AK40: 0.96521401 | AL40: 0.61973824 | AM40: 0.96914033 | AN40: 1
A41: Economic sentiment (Europe) -6 | B41: -0.87105579 | C41: 0.68296215 | D41: 0.58283087 | E41: 0.72060229 | F41: 0.40540588 | G41: 0.48457269 | H41: 0.63448072 | I41: 0.67992256 | J41: 0.69261271 | K41: 0.80200259 | L41: 0.48493244 | M41: 0.61491505 | N41: 0.64006552 | O41: 0.75206965 | P41: 0.79926816 | Q41: 0.87088004 | R41: 0.57779728 | S41: 0.73165201 | T41: 0.63262001 | U41: 0.81584013 | V41: 0.88465063 | W41: 0.92993501 | X41: 0.62516146 | Y41: 0.83247852 | Z41: 0.62415451 | AA41: 0.87661338 | AB41: 0.93569028 | AC41: 0.96823511 | AD41: 0.67962174 | AE41: 0.9031666 | AF41: 0.62601786 | AG41: 0.91872649 | AH41: 0.96832882 | AI41: 0.99088326 | AJ41: 0.74748967 | AK41: 0.95116502 | AL41: 0.62008938 | AM41: 0.95178083 | AN41: 0.98484162 | AO41: 1
A42: Economic sentiment (Univ. of Michigan)-6 | B42: -0.95671696 | C42: 0.87973543 | D42: 0.87007634 | E42: 0.92085076 | F42: 0.79513966 | G42: 0.83209267 | H42: 0.63809955 | I42: 0.89977025 | J42: 0.8938498 | K42: 0.91952399 | L42: 0.83513856 | M42: 0.8698551 | N42: 0.58766435 | O42: 0.90499537 | P42: 0.90107639 | Q42: 0.9071056 | R42: 0.87710673 | S42: 0.89336999 | T42: 0.49621044 | U42: 0.89511498 | V42: 0.88183253 | W42: 0.88870769 | X42: 0.88743886 | Y42: 0.89579083 | Z42: 0.38565106 | AA42: 0.86622117 | AB42: 0.85465726 | AC42: 0.86687421 | AD42: 0.91870125 | AE42: 0.88685108 | AF42: 0.28327298 | AG42: 0.85615645 | AH42: 0.83043605 | AI42: 0.83681564 | AJ42: 0.95660075 | AK42: 0.88856464 | AL42: 0.18213614 | AM42: 0.84231601 | AN42: 0.81655285 | AO42: 0.80451598 | AP42: 1
A43: Purchasing managers index Europe-6 | B43: -0.9165998 | C43: 0.7363448 | D43: 0.65719779 | E43: 0.78282589 | F43: 0.51148175 | G43: 0.57009961 | H43: 0.61094447 | I43: 0.74438517 | J43: 0.76003723 | K43: 0.85351119 | L43: 0.59632128 | M43: 0.69231103 | N43: 0.60367477 | O43: 0.80952119 | P43: 0.85392207 | Q43: 0.9114577 | R43: 0.67159802 | S43: 0.80075961 | T43: 0.59244705 | U43: 0.86558366 | V43: 0.92182165 | W43: 0.95512397 | X43: 0.71447061 | Y43: 0.88437304 | Z43: 0.57996979 | AA43: 0.91317769 | AB43: 0.95622071 | AC43: 0.97989947 | AD43: 0.75917258 | AE43: 0.94051827 | AF43: 0.56745286 | AG43: 0.94494906 | AH43: 0.97482623 | AI43: 0.99159277 | AJ43: 0.82061699 | AK43: 0.97853204 | AL43: 0.5489635 | AM43: 0.9687083 | AN43: 0.98417082 | AO43: 0.98385094 | AP43: 0.86592436 | AQ43: 1
A44: Baltic index-6 | B44: -0.21050427 | C44: 0.054171572 | D44: -0.037943581 | E44: 0.10673392 | F44: -0.35801746 | G44: -0.15246505 | H44: 0.26252416 | I44: 0.0053086353 | J44: 0.096585589 | K44: 0.24087758 | L44: -0.22083728 | M44: 0.030741496 | N44: 0.32884505 | O44: 0.10928917 | P44: 0.24801197 | Q44: 0.36015125 | R44: -0.093094687 | S44: 0.18939615 | T44: 0.41767772 | U44: 0.22759711 | V44: 0.3792287 | W44: 0.45578661 | X44: -0.040879902 | Y44: 0.31918061 | Z44: 0.57911499 | AA44: 0.3599569 | AB44: 0.48752961 | AC44: 0.52118342 | AD44: 0.00062260777 | AE44: 0.4143553 | AF44: 0.75554706 | AG44: 0.46745531 | AH44: 0.56974598 | AI44: 0.56948654 | AJ44: 0.056303546 | AK44: 0.47414267 | AL44: 0.9136728 | AM44: 0.54541237 | AN44: 0.60920826 | AO44: 0.58960986 | AP44: 0.091821884 | AQ44: 0.50852626 | AR44: 1
A45: Semicon index -6 | B45: -0.86004233 | C45: 0.70032729 | D45: 0.60612731 | E45: 0.73640407 | F45: 0.41641706 | G45: 0.51661901 | H45: 0.64284315 | I45: 0.66288463 | J45: 0.69007383 | K45: 0.80836806 | L45: 0.51179532 | M45: 0.62668894 | N45: 0.6044862 | O45: 0.72987088 | P45: 0.78793286 | Q45: 0.87044314 | R45: 0.62239598 | S45: 0.7420302 | T45: 0.57594905 | U45: 0.80594197 | V45: 0.86802687 | W45: 0.92060554 | X45: 0.68477324 | Y45: 0.83571358 | Z45: 0.57026571 | AA45: 0.87060734 | AB45: 0.91943052 | AC45: 0.94901958 | AD45: 0.72720274 | AE45: 0.89421707 | AF45: 0.58683424 | AG45: 0.91754144 | AH45: 0.9527707 | AI45: 0.96506323 | AJ45: 0.76933646 | AK45: 0.9325067 | AL45: 0.60331281 | AM45: 0.96676995 | AN45: 0.97330523 | AO45: 0.96894842 | AP45: 0.81460406 | AQ45: 0.96222991 | AR45: 0.58129575 | AS45: 1
A46: ECRI weekly (USA)-7 | B46: -0.85863032 | C46: 0.64096143 | D46: 0.5453479 | E46: 0.68029484 | F46: 0.37771437 | G46: 0.43912275 | H46: 0.59725584 | I46: 0.63693644 | J46: 0.64837287 | K46: 0.76230154 | L46: 0.45847242 | M46: 0.56657267 | N46: 0.59569088 | O46: 0.70063801 | P46: 0.75197768 | Q46: 0.83754712 | R46: 0.56489485 | S46: 0.68805744 | T46: 0.57514524 | U46: 0.77440215 | V46: 0.84407627 | W46: 0.90338137 | X46: 0.62196502 | Y46: 0.80412113 | Z46: 0.55401376 | AA46: 0.84424284 | AB46: 0.90505727 | AC46: 0.94700186 | AD46: 0.67663181 | AE46: 0.87774785 | AF46: 0.56915844 | AG46: 0.89215028 | AH46: 0.94882305 | AI46: 0.97499833 | AJ46: 0.73451922 | AK46: 0.9319835 | AL46: 0.59199507 | AM46: 0.94446152 | AN46: 0.97983991 | AO46: 0.98819494 | AP46: 0.7916542 | AQ46: 0.9751015 | AR46: 0.5972492 | AS46: 0.97293837 | AT46: 1
A47: Economic sentiment (Europe) -7 | B47: -0.8481903 | C47: 0.62753604 | D47: 0.51821924 | E47: 0.6657058 | F47: 0.35888988 | G47: 0.4211791 | H47: 0.61395987 | I47: 0.62936386 | J47: 0.63103204 | K47: 0.74959975 | L47: 0.43529356 | M47: 0.5506842 | N47: 0.61955029 | O47: 0.69761832 | P47: 0.74105555 | Q47: 0.82367499 | R47: 0.52615664 | S47: 0.66741346 | T47: 0.61272807 | U47: 0.76600041 | V47: 0.83742823 | W47: 0.89014738 | X47: 0.5765284 | Y47: 0.77863001 | Z47: 0.60554095 | AA47: 0.83484926 | AB47: 0.90099346 | AC47: 0.93906807 | AD47: 0.633651 | AE47: 0.85866563 | AF47: 0.60875003 | AG47: 0.88078074 | AH47: 0.94504407 | AI47: 0.97256815 | AJ47: 0.70551186 | AK47: 0.91563203 | AL47: 0.62202468 | AM47: 0.92610484 | AN47: 0.97002704 | AO47: 0.99156479 | AP47: 0.76663542 | AQ47: 0.96237124 | AR47: 0.60052121 | AS47: 0.95600849 | AT47: 0.98330474 | AU47: 1
A48: Economic sentiment (Univ. of Michigan)-7 | B48: -0.96187847 | C48: 0.8753613 | D48: 0.85837273 | E48: 0.92498523 | F48: 0.75093102 | G48: 0.82735928 | H48: 0.65543459 | I48: 0.90641175 | J48: 0.88934771 | K48: 0.92721411 | L48: 0.8129014 | M48: 0.8657468 | N48: 0.59872613 | O48: 0.90346662 | P48: 0.90996046 | Q48: 0.92147621 | R48: 0.85662971 | S48: 0.89190589 | T48: 0.5435114 | U48: 0.90586721 | V48: 0.90972307 | W48: 0.90685295 | X48: 0.88080041 | Y48: 0.9093567 | Z48: 0.4512328 | AA48: 0.89588402 | AB48: 0.88131769 | AC48: 0.88544798 | AD48: 0.89306497 | AE48: 0.90076992 | AF48: 0.34546943 | AG48: 0.86309674 | AH48: 0.8517937 | AI48: 0.86308736 | AJ48: 0.92832449 | AK48: 0.8866392 | AL48: 0.24908232 | AM48: 0.85216584 | AN48: 0.82731496 | AO48: 0.83458725 | AP48: 0.96162002 | AQ48: 0.88700751 | AR48: 0.14045202 | AS48: 0.83739633 | AT48: 0.81733768 | AU48: 0.80511783 | AV48: 1
A49: Purchasing managers index Europe-7 | B49: -0.90331266 | C49: 0.68644141 | D49: 0.59343841 | E49: 0.73204597 | F49: 0.46848897 | G49: 0.50837746 | H49: 0.59386933 | I49: 0.69805248 | J49: 0.69439209 | K49: 0.80248928 | L49: 0.53937647 | M49: 0.62427784 | N49: 0.58542003 | O49: 0.75660273 | P49: 0.79506983 | Q49: 0.86629016 | R49: 0.63099336 | S49: 0.73267838 | T49: 0.56845485 | U49: 0.81777808 | V49: 0.87882172 | W49: 0.92130376 | X49: 0.67332812 | Y49: 0.83427522 | Z49: 0.55702849 | AA49: 0.87614995 | AB49: 0.92959515 | AC49: 0.95766902 | AD49: 0.72214121 | AE49: 0.90025755 | AF49: 0.55282843 | AG49: 0.91342803 | AH49: 0.95879674 | AI49: 0.97968408 | AJ49: 0.77831876 | AK49: 0.9459686 | AL49: 0.54835408 | AM49: 0.94639791 | AN49: 0.97359549 | AO49: 0.99091041 | AP49: 0.83355593 | AQ49: 0.98260056 | AR49: 0.51772056 | AS49: 0.96824712 | AT49: 0.98439987 | AU49: 0.98476083 | AV49: 0.86578761 | AW49: 1
A50: Baltic index-7 | B50: -0.12472747 | C50: -0.081842405 | D50: -0.17767347 | E50: -0.061306002 | F50: -0.46373193 | G50: -0.32051017 | H50: 0.18213585 | I50: -0.13583061 | J50: -0.049540874 | K50: 0.080896451 | L50: -0.37674313 | M50: -0.15412504 | N50: 0.24617133 | O50: -0.028614 | P50: 0.0838956 | Q50: 0.20960969 | R50: -0.23814782 | S50: 0.019666417 | T50: 0.30638688 | U50: 0.071936796 | V50: 0.22785916 | W50: 0.32748044 | X50: -0.14466814 | Y50: 0.17355339 | Z50: 0.39937382 | AA50: 0.19440656 | AB50: 0.34382844 | AC50: 0.41626051 | AD50: -0.085737364 | AE50: 0.28881962 | AF50: 0.5728156 | AG50: 0.31616787 | AH50: 0.44837133 | AI50: 0.47908779 | AJ50: -0.032227724 | AK50: 0.37416483 | AL50: 0.75941583 | AM50: 0.42838518 | AN50: 0.5271747 | AO50: 0.52598379 | AP50: 0.01746025 | AQ50: 0.4334273 | AR50: 0.91476454 | AS50: 0.50609301 | AT50: 0.56611005 | AU50: 0.54637804 | AV50: 0.036073237 | AW50: 0.45928827 | AX50: 1
A51: Semicon index -7 | B51: -0.83863547 | C51: 0.6505947 | D51: 0.56644661 | E51: 0.68663207 | F51: 0.37473561 | G51: 0.4661429 | H51: 0.6703195 | I51: 0.63775183 | J51: 0.64164918 | K51: 0.75470899 | L51: 0.43934096 | M51: 0.56836391 | N51: 0.62361864 | O51: 0.67210939 | P51: 0.72381423 | Q51: 0.81998088 | R51: 0.54221044 | S51: 0.6650494 | T51: 0.57386647 | U51: 0.73530885 | V51: 0.81190131 | W51: 0.87951448 | X51: 0.6182324 | Y51: 0.77428934 | Z51: 0.54441842 | AA51: 0.81497439 | AB51: 0.87436311 | AC51: 0.92211105 | AD51: 0.68769735 | AE51: 0.85028245 | AF51: 0.54789209 | AG51: 0.86898094 | AH51: 0.92078639 | AI51: 0.94749707 | AJ51: 0.74298646 | AK51: 0.89788803 | AL51: 0.57391678 | AM51: 0.91827025 | AN51: 0.95022658 | AO51: 0.96257102 | AP51: 0.77911802 | AQ51: 0.93490606 | AR51: 0.57916477 | AS51: 0.96677756 | AT51: 0.97217347 | AU51: 0.96823152 | AV51: 0.81040528 | AW51: 0.95940328 | AX51: 0.53999441 | AY51: 1
A52: ECRI weekly (USA)-8 | B52: -0.83607101 | C52: 0.59854166 | D52: 0.4908989 | E52: 0.63114735 | F52: 0.34220575 | G52: 0.39263652 | H52: 0.59085904 | I52: 0.60029013 | J52: 0.59773808 | K52: 0.71246065 | L52: 0.41167608 | M52: 0.50989962 | N52: 0.58151371 | O52: 0.65643041 | P52: 0.70123267 | Q52: 0.7866955 | R52: 0.50485861 | S52: 0.62346128 | T52: 0.56552982 | U52: 0.71561182 | V52: 0.79405851 | W52: 0.85975072 | X52: 0.5658808 | Y52: 0.7398193 | Z52: 0.54435515 | AA52: 0.79570693 | AB52: 0.86260974 | AC52: 0.91444773 | AD52: 0.63398651 | AE52: 0.83445302 | AF52: 0.5356007 | AG52: 0.84921264 | AH52: 0.91610944 | AI52: 0.95247589 | AJ52: 0.70772857 | AK52: 0.89304099 | AL52: 0.56434903 | AM52: 0.90112771 | AN52: 0.95115168 | AO52: 0.97565007 | AP52: 0.75818374 | AQ52: 0.94614115 | AR52: 0.5719248 | AS52: 0.95105038 | AT52: 0.97833421 | AU52: 0.9870264 | AV52: 0.79485802 | AW52: 0.97730003 | AX52: 0.55376882 | AY52: 0.97424224 | AZ52: 1
A53: Economic sentiment (Europe) -8 | B53: -0.82478996 | C53: 0.58740008 | D53: 0.47510071 | E53: 0.62363491 | F53: 0.32173491 | G53: 0.37494642 | H53: 0.60409537 | I53: 0.59048438 | J53: 0.58126932 | K53: 0.708325 | L53: 0.39677567 | M53: 0.50391785 | N53: 0.60739944 | O53: 0.65680335 | P53: 0.69716212 | Q53: 0.78436534 | R53: 0.48933745 | S53: 0.61992353 | T53: 0.59656114 | U53: 0.72100008 | V53: 0.79682129 | W53: 0.85670131 | X53: 0.52787236 | Y53: 0.73254845 | Z53: 0.59034868 | AA53: 0.79761955 | AB53: 0.86661796 | AC53: 0.90989434 | AD53: 0.59206249 | AE53: 0.81999258 | AF53: 0.59897072 | AG53: 0.84684818 | AH53: 0.92159814 | AI53: 0.95193653 | AJ53: 0.67297011 | AK53: 0.88298538 | AL53: 0.61726955 | AM53: 0.89802296 | AN53: 0.95388181 | AO53: 0.97842767 | AP53: 0.73768034 | AQ53: 0.93914085 | AR53: 0.61200954 | AS53: 0.93945511 | AT53: 0.97047952 | AU53: 0.9936203 | AV53: 0.77460701 | AW53: 0.96939975 | AX53: 0.55968814 | AY53: 0.96124998 | AZ53: 0.982227 | BA53: 1
A54: Economic sentiment (Univ. of Michigan)-8 | B54: -0.95957242 | C54: 0.86548763 | D54: 0.85407178 | E54: 0.93073427 | F54: 0.75235684 | G54: 0.82046789 | H54: 0.66770343 | I54: 0.915324 | J54: 0.89043653 | K54: 0.94015535 | L54: 0.77789607 | M54: 0.87651129 | N54: 0.6187004 | O54: 0.91650742 | P54: 0.91789225 | Q54: 0.9356224 | R54: 0.84518965 | S54: 0.90081838 | T54: 0.55334755 | U54: 0.90928052 | V54: 0.9283158 | W54: 0.92616351 | X54: 0.86264558 | Y54: 0.91954962 | Z54: 0.49690201 | AA54: 0.91199014 | AB54: 0.91281512 | AC54: 0.90445246 | AD54: 0.89051651 | AE54: 0.92092676 | AF54: 0.41066109 | AG54: 0.89289648 | AH54: 0.87880099 | AI54: 0.87929872 | AJ54: 0.91119327 | AK54: 0.90271511 | AL54: 0.31153472 | AM54: 0.85897944 | AN54: 0.84438552 | AO54: 0.85478996 | AP54: 0.94049406 | AQ54: 0.88588372 | AR54: 0.20302159 | AS54: 0.8448585 | AT54: 0.81857296 | AU54: 0.82575387 | AV54: 0.96373362 | AW54: 0.8818252 | AX54: 0.073842171 | AY54: 0.82724989 | AZ54: 0.80918634 | BA54: 0.79948802 | BB54: 1
A55: Purchasing managers index Europe-8 | B55: -0.8870332 | C55: 0.64557059 | D55: 0.55050876 | E55: 0.6914022 | F55: 0.44272151 | G55: 0.46455177 | H55: 0.59956733 | I55: 0.66448923 | J55: 0.64616554 | K55: 0.76478907 | L55: 0.50617599 | M55: 0.58063728 | N55: 0.57337198 | O55: 0.71968343 | P55: 0.74667575 | Q55: 0.82689916 | R55: 0.58843795 | S55: 0.68175469 | T55: 0.55079814 | U55: 0.77341523 | V55: 0.83624491 | W55: 0.88761115 | X55: 0.63681688 | Y55: 0.7838426 | Z55: 0.5334675 | AA55: 0.83932744 | AB55: 0.89711635 | AC55: 0.93147466 | AD55: 0.68858298 | AE55: 0.86382312 | AF55: 0.53432842 | AG55: 0.88188971 | AH55: 0.94022186 | AI55: 0.96219391 | AJ55: 0.75456575 | AK55: 0.91505832 | AL55: 0.54176191 | AM55: 0.92183431 | AN55: 0.9606277 | AO55: 0.97963684 | AP55: 0.80326049 | AQ55: 0.95892964 | AR55: 0.52094855 | AS55: 0.95111602 | AT55: 0.97098677 | AU55: 0.98957442 | AV55: 0.83934268 | AW55: 0.98451876 | AX55: 0.46482066 | AY55: 0.96770103 | AZ55: 0.98238583 | BA55: 0.98470487 | BB55: 0.86197351 | BC55: 1
A56: Baltic index-8 | B56: -0.029113826 | C56: -0.21886366 | D56: -0.32149103 | E56: -0.21887015 | F56: -0.54084192 | G56: -0.45371965 | H56: 0.09117834 | I56: -0.24976765 | J56: -0.19171344 | K56: -0.091383631 | L56: -0.48313468 | M56: -0.32383423 | N56: 0.16188024 | O56: -0.17510818 | P56: -0.06451176 | Q56: 0.044596196 | R56: -0.39300488 | S56: -0.16707936 | T56: 0.21839171 | U56: -0.071916332 | V56: 0.060654875 | W56: 0.17158189 | X56: -0.29370866 | Y56: 0.0019518244 | Z56: 0.28235675 | AA56: 0.033111725 | AB56: 0.18659156 | AC56: 0.28070363 | AD56: -0.19319463 | AE56: 0.1396026 | AF56: 0.38794993 | AG56: 0.14125565 | AH56: 0.29707708 | AI56: 0.36568271 | AJ56: -0.12099647 | AK56: 0.24291204 | AL56: 0.57396296 | AM56: 0.26871917 | AN56: 0.395617 | AO56: 0.42502251 | AP56: -0.074394785 | AQ56: 0.32765343 | AR56: 0.75721196 | AS56: 0.38051114 | AT56: 0.47229488 | AU56: 0.47145595 | AV56: -0.04442271 | AW56: 0.37527768 | AX56: 0.91098352 | AY56: 0.45565104 | AZ56: 0.51318834 | BA56: 0.49133098 | BB56: -0.040054507 | BC56: 0.39487868 | BD56: 1
A57: Semicon index -8 | B57: -0.81319547 | C57: 0.63297636 | D57: 0.53449429 | E57: 0.65517072 | F57: 0.33381766 | G57: 0.4337697 | H57: 0.69581743 | I57: 0.6238298 | J57: 0.62458001 | K57: 0.72331942 | L57: 0.40876595 | M57: 0.54299615 | N57: 0.66424521 | O57: 0.66012547 | P57: 0.69946553 | Q57: 0.78270996 | R57: 0.48727486 | S57: 0.63008509 | T57: 0.59844496 | U57: 0.6880452 | V57: 0.7695412 | W57: 0.84536487 | X57: 0.54202487 | Y57: 0.72088995 | Z57: 0.54540732 | AA57: 0.75787722 | AB57: 0.83218005 | AC57: 0.89223318 | AD57: 0.63130986 | AE57: 0.80743916 | AF57: 0.52869936 | AG57: 0.82023631 | AH57: 0.88648453 | AI57: 0.92818197 | AJ57: 0.72252412 | AK57: 0.86734917 | AL57: 0.54611798 | AM57: 0.87941038 | AN57: 0.92268136 | AO57: 0.94687667 | AP57: 0.77028993 | AQ57: 0.91327966 | AR57: 0.55593611 | AS57: 0.92560461 | AT57: 0.94589437 | AU57: 0.95867678 | AV57: 0.78330717 | AW57: 0.93498307 | AX57: 0.53546652 | AY57: 0.96953286 | AZ57: 0.9683985 | BA57: 0.96334021 | BB57: 0.80227285 | BC57: 0.95428354 | BD57: 0.48509089 | BE57: 1
A58: ECRI weekly (USA)-9 | B58: -0.81301307 | C58: 0.5670729 | D58: 0.45931364 | E58: 0.59704702 | F58: 0.32733598 | G58: 0.35847262 | H58: 0.60085633 | I58: 0.57534501 | J58: 0.55448551 | K58: 0.6734053 | L58: 0.38200688 | M58: 0.47622089 | N58: 0.5826123 | O58: 0.62733928 | P58: 0.66415285 | Q58: 0.74638608 | R58: 0.46763124 | S58: 0.57906264 | T58: 0.55461869 | U58: 0.67819576 | V58: 0.7566213 | W58: 0.8187559 | X58: 0.50713879 | Y58: 0.68832391 | Z58: 0.53833713 | AA58: 0.74504885 | AB58: 0.8215705 | AC58: 0.87837793 | AD58: 0.58288361 | AE58: 0.78068067 | AF58: 0.53238251 | AG58: 0.80538399 | AH58: 0.88134817 | AI58: 0.92616678 | AJ58: 0.67600935 | AK58: 0.85877003 | AL58: 0.53824937 | AM58: 0.86503019 | AN58: 0.92297418 | AO58: 0.95686505 | AP58: 0.74261845 | AQ58: 0.91653039 | AR58: 0.54911092 | AS58: 0.91331847 | AT58: 0.94970864 | AU58: 0.97599873 | AV58: 0.76740295 | AW58: 0.95260717 | AX58: 0.52745201 | AY58: 0.95683727 | AZ58: 0.97695786 | BA58: 0.98458151 | BB58: 0.78965129 | BC58: 0.97685776 | BD58: 0.49886107 | BE58: 0.97060747 | BF58: 1
A59: Economic sentiment (Europe) -9 | B59: -0.80212128 | C59: 0.55264317 | D59: 0.44205993 | E59: 0.59124397 | F59: 0.28437918 | G59: 0.34113172 | H59: 0.59602427 | I59: 0.55590156 | J59: 0.54798217 | K59: 0.67558519 | L59: 0.3640558 | M59: 0.46805057 | N59: 0.60562167 | O59: 0.62453602 | P59: 0.65892469 | Q59: 0.75235636 | R59: 0.45888887 | S59: 0.58406511 | T59: 0.58939233 | U59: 0.68676668 | V59: 0.76530817 | W59: 0.82743782 | X59: 0.49255212 | Y59: 0.69734922 | Z59: 0.57883185 | AA59: 0.76109106 | AB59: 0.83529652 | AC59: 0.88485131 | AD59: 0.54698757 | AE59: 0.78430939 | AF59: 0.59143014 | AG59: 0.81542467 | AH59: 0.89577329 | AI59: 0.9298484 | AJ59: 0.64029383 | AK59: 0.85306411 | AL59: 0.618373 | AM59: 0.87177259 | AN59: 0.93699082 | AO59: 0.96311812 | AP59: 0.71471848 | AQ59: 0.91611052 | AR59: 0.61586661 | AS59: 0.91880838 | AT59: 0.95779629 | AU59: 0.98408624 | AV59: 0.75165434 | AW59: 0.95195054 | AX59: 0.57631876 | AY59: 0.95081301 | AZ59: 0.97126781 | BA59: 0.99382833 | BB59: 0.77157752 | BC59: 0.97175244 | BD59: 0.50723254 | BE59: 0.95748064 | BF59: 0.97939594 | BG59: 1
A60: Economic sentiment (Univ. of Michigan)-9 | B60: -0.95443906 | C60: 0.86849894 | D60: 0.84394012 | E60: 0.92500719 | F60: 0.72056581 | G60: 0.79837792 | H60: 0.69699723 | I60: 0.91099317 | J60: 0.89266014 | K60: 0.95107629 | L60: 0.78183312 | M60: 0.87719428 | N60: 0.63432055 | O60: 0.92952918 | P60: 0.92554447 | Q60: 0.95286616 | R60: 0.81566751 | S60: 0.91815992 | T60: 0.57514268 | U60: 0.92585396 | V60: 0.94186304 | W60: 0.94407571 | X60: 0.85240796 | Y60: 0.93460036 | Z60: 0.50792673 | AA60: 0.91915252 | AB60: 0.93468668 | AC60: 0.92597978 | AD60: 0.87485441 | AE60: 0.93532648 | AF60: 0.4587114 | AG60: 0.9108105 | AH60: 0.91249809 | AI60: 0.89924221 | AJ60: 0.91262981 | AK60: 0.92536839 | AL60: 0.37937851 | AM60: 0.8907901 | AN60: 0.87176164 | AO60: 0.87029079 | AP60: 0.92706854 | AQ60: 0.90384082 | AR60: 0.26604551 | AS60: 0.85215973 | AT60: 0.83370559 | AU60: 0.84408246 | AV60: 0.94409517 | AW60: 0.87958401 | AX60: 0.13450287 | AY60: 0.83360869 | AZ60: 0.80628421 | BA60: 0.81644457 | BB60: 0.96324863 | BC60: 0.87565405 | BD60: -0.0065261356 | BE60: 0.81578141 | BF60: 0.79927979 | BG60: 0.79204829 | BH60: 1
A61: Purchasing managers index Europe-9 | B61: -0.87522514 | C61: 0.63118806 | D61: 0.53928203 | E61: 0.67672468 | F61: 0.42633601 | G61: 0.44870911 | H61: 0.62784983 | I61: 0.65219756 | J61: 0.62704619 | K61: 0.74597017 | L61: 0.49603061 | M61: 0.56315038 | N61: 0.59199383 | O61: 0.70343051 | P61: 0.72499279 | Q61: 0.81010236 | R61: 0.57690039 | S61: 0.66419703 | T61: 0.54401888 | U61: 0.75315135 | V61: 0.81388563 | W61: 0.86922173 | X61: 0.60331194 | Y61: 0.76008225 | Z61: 0.52033154 | AA61: 0.81447182 | AB61: 0.87406412 | AC61: 0.91454132 | AD61: 0.66641214 | AE61: 0.83605231 | AF61: 0.51965213 | AG61: 0.85845487 | AH61: 0.92494772 | AI61: 0.9496384 | AJ61: 0.74340437 | AK61: 0.89739179 | AL61: 0.5369946 | AM61: 0.90623539 | AN61: 0.95410141 | AO61: 0.97106057 | AP61: 0.80149433 | AQ61: 0.9469213 | AR61: 0.52320025 | AS61: 0.94082667 | AT61: 0.96295129 | AU61: 0.9824956 | AV61: 0.82318661 | AW61: 0.97114085 | AX61: 0.46728486 | AY61: 0.96007492 | AZ61: 0.96978318 | BA61: 0.98760688 | BB61: 0.84410633 | BC61: 0.9875432 | BD61: 0.3947717 | BE61: 0.96349648 | BF61: 0.97879459 | BG61: 0.98095328 | BH61: 0.86270301 | BI61: 1
A62: Baltic index-9 | B62: 0.066479669 | C62: -0.33424242 | D62: -0.44605372 | E62: -0.35583731 | F62: -0.54476198 | G62: -0.56265655 | H62: -0.02085384 | I62: -0.34969346 | J62: -0.33698728 | K62: -0.25032157 | L62: -0.55734759 | M62: -0.45849406 | N62: 0.070019892 | O62: -0.28946715 | P62: -0.20858869 | Q62: -0.1299118 | R62: -0.49693912 | S62: -0.33815299 | T62: 0.13325226 | U62: -0.21981821 | V62: -0.089851964 | W62: 0.0036828729 | X62: -0.44544895 | Y62: -0.18670041 | Z62: 0.19318763 | AA62: -0.11264334 | AB62: 0.016351796 | AC62: 0.12087477 | AD62: -0.34023513 | AE62: -0.034131804 | AF62: 0.26855825 | AG62: -0.023685046 | AH62: 0.13584884 | AI62: 0.22562225 | AJ62: -0.22782269 | AK62: 0.09088997 | AL62: 0.38442428 | AM62: 0.089133629 | AN62: 0.23856093 | AO62: 0.3067167 | AP62: -0.16289525 | AQ62: 0.19329849 | AR62: 0.56602635 | AS62: 0.21539602 | AT62: 0.33352017 | AU62: 0.36502621 | AV62: -0.13616074 | AW62: 0.2657712 | AX62: 0.7467519 | AY62: 0.3244925 | AZ62: 0.41381454 | BA62: 0.41161129 | BB62: -0.12062911 | BC62: 0.30702623 | BD62: 0.90683388 | BE62: 0.39563194 | BF62: 0.45729253 | BG62: 0.43373847 | BH62: -0.12218291 | BI62: 0.32049117 | BJ62: 1
A63: Semicon index -9 | B63: -0.78446207 | C63: 0.6125027 | D63: 0.50632182 | E63: 0.62483625 | F63: 0.27102355 | G63: 0.4048151 | H63: 0.70480152 | I63: 0.60274056 | J63: 0.59066319 | K63: 0.68986761 | L63: 0.36548055 | M63: 0.50852576 | N63: 0.69332299 | O63: 0.64508541 | P63: 0.68149111 | Q63: 0.74925877 | R63: 0.45463736 | S63: 0.60314034 | T63: 0.64399374 | U63: 0.67506549 | V63: 0.74384706 | W63: 0.80559258 | X63: 0.48338546 | Y63: 0.68390839 | Z63: 0.57334176 | AA63: 0.70729317 | AB63: 0.78678516 | AC63: 0.85537765 | AD63: 0.55071093 | AE63: 0.75064532 | AF63: 0.53102799 | AG63: 0.75821365 | AH63: 0.84089036 | AI63: 0.89557597 | AJ63: 0.66302935 | AK63: 0.82131107 | AL63: 0.52684002 | AM63: 0.82661149 | AN63: 0.88492325 | AO63: 0.92541318 | AP63: 0.74830931 | AQ63: 0.88040112 | AR63: 0.52709278 | AS63: 0.88325146 | AT63: 0.91473653 | AU63: 0.94083308 | AV63: 0.77329499 | AW63: 0.91099983 | AX63: 0.51096578 | AY63: 0.92387584 | AZ63: 0.93818668 | BA63: 0.95192936 | BB63: 0.77223299 | BC63: 0.92631402 | BD63: 0.48101866 | BE63: 0.96469088 | BF63: 0.96348568 | BG63: 0.95964625 | BH63: 0.78780981 | BI63: 0.94709295 | BJ63: 0.42887028 | BK63: 1
A64: ECRI weekly (USA)-10 | B64: -0.78852349 | C64: 0.53933039 | D64: 0.43006876 | E64: 0.57074596 | F64: 0.30000866 | G64: 0.3393468 | H64: 0.60702888 | I64: 0.54733713 | J64: 0.52674544 | K64: 0.64250004 | L64: 0.36875225 | M64: 0.44603355 | N64: 0.5986656 | O64: 0.60489467 | P64: 0.6248662 | Q64: 0.70989271 | R64: 0.44079617 | S64: 0.54959122 | T64: 0.55909177 | U64: 0.65111712 | V64: 0.72412778 | W64: 0.78114152 | X64: 0.46859566 | Y64: 0.64793377 | Z64: 0.52930558 | AA64: 0.70994113 | AB64: 0.7866728 | AC64: 0.83862979 | AD64: 0.52303955 | AE64: 0.73144368 | AF64: 0.53014847 | AG64: 0.7535278 | AH64: 0.8415722 | AI64: 0.89078508 | AJ64: 0.62709046 | AK64: 0.80563742 | AL64: 0.54031452 | AM64: 0.82170785 | AN64: 0.8881611 | AO64: 0.93073572 | AP64: 0.71446788 | AQ64: 0.88502398 | AR64: 0.52437141 | AS64: 0.87804701 | AT64: 0.91981284 | AU64: 0.9567998 | AV64: 0.75453457 | AW64: 0.92330889 | AX64: 0.50343151 | AY64: 0.91798592 | AZ64: 0.94524791 | BA64: 0.97178418 | BB64: 0.76183023 | BC64: 0.95039755 | BD64: 0.46977499 | BE64: 0.95118502 | BF64: 0.97253387 | BG64: 0.98106255 | BH64: 0.77950068 | BI64: 0.97138016 | BJ64: 0.44178245 | BK64: 0.96728668 | BL64: 1
A65: Economic sentiment (Europe) -10 | B65: -0.78115513 | C65: 0.52520682 | D65: 0.41761697 | E65: 0.56827115 | F65: 0.24656516 | G65: 0.31737252 | H65: 0.58319979 | I65: 0.53568221 | J65: 0.52483525 | K65: 0.65302336 | L65: 0.33002022 | M65: 0.44449746 | N65: 0.60684629 | O65: 0.59647467 | P65: 0.63795466 | Q65: 0.72953293 | R65: 0.43372029 | S65: 0.55910276 | T65: 0.59512807 | U65: 0.66166692 | V65: 0.73946327 | W65: 0.8062889 | X65: 0.46361835 | Y65: 0.67413391 | Z65: 0.57833683 | AA65: 0.73613745 | AB65: 0.81412093 | AC65: 0.86496098 | AD65: 0.51545565 | AE65: 0.76021825 | AF65: 0.58870294 | AG65: 0.78477077 | AH65: 0.87376673 | AI65: 0.91332102 | AJ65: 0.60295329 | AK65: 0.82648915 | AL65: 0.62292998 | AM65: 0.8486939 | AN65: 0.91842367 | AO65: 0.94747182 | AP65: 0.69153156 | AQ65: 0.89665151 | AR65: 0.62774916 | AS65: 0.90105718 | AT65: 0.94593204 | AU65: 0.97389894 | AV65: 0.73584463 | AW65: 0.93593724 | AX65: 0.58628893 | AY65: 0.9371145 | AZ65: 0.96249299 | BA65: 0.98626758 | BB65: 0.75276385 | BC65: 0.95810966 | BD65: 0.52932403 | BE65: 0.94973868 | BF65: 0.96912512 | BG65: 0.99357222 | BH65: 0.76642698 | BI65: 0.96678035 | BJ65: 0.45368924 | BK65: 0.95747206 | BL65: 0.97639366 | BM65: 1
A66: Economic sentiment (Univ. of Michigan)-10 | B66: -0.95070353 | C66: 0.84134539 | D66: 0.81827904 | E66: 0.90487146 | F66: 0.66451086 | G66: 0.75563423 | H66: 0.71037794 | I66: 0.88468201 | J66: 0.87331539 | K66: 0.93861757 | L66: 0.74296512 | M66: 0.84366189 | N66: 0.66485723 | O66: 0.91984849 | P66: 0.91873815 | Q66: 0.95861318 | R66: 0.80959789 | S66: 0.90882538 | T66: 0.59433037 | U66: 0.93469928 | V66: 0.94214325 | W66: 0.95727778 | X66: 0.81926486 | Y66: 0.94282021 | Z66: 0.53372979 | AA66: 0.93143388 | AB66: 0.94483237 | AC66: 0.94282719 | AD66: 0.85943924 | AE66: 0.94456891 | AF66: 0.47193207 | AG66: 0.9171919 | AH66: 0.93345141 | AI66: 0.92231047 | AJ66: 0.88981213 | AK66: 0.9370966 | AL66: 0.42895327 | AM66: 0.9082741 | AN66: 0.90861789 | AO66: 0.8949061 | AP66: 0.92227124 | AQ66: 0.92514021 | AR66: 0.33896623 | AS66: 0.88585946 | AT66: 0.86829289 | AU66: 0.8669893 | AV66: 0.92792698 | AW66: 0.90082246 | AX66: 0.20791606 | AY66: 0.84497712 | AZ66: 0.83022266 | BA66: 0.84677437 | BB66: 0.94314736 | BC66: 0.87947141 | BD66: 0.066826121 | BE66: 0.83144175 | BF66: 0.80676047 | BG66: 0.82410838 | BH66: 0.96316103 | BI66: 0.88876085 | BJ66: -0.076635674 | BK66: 0.81168452 | BL66: 0.80247828 | BM66: 0.80580741 | BN66: 1
A67: Purchasing managers index Europe-10 | B67: -0.86072611 | C67: 0.61945797 | D67: 0.52770335 | E67: 0.66299108 | F67: 0.38662749 | G67: 0.43594819 | H67: 0.6338246 | I67: 0.64283698 | J67: 0.61275662 | K67: 0.72810877 | L67: 0.47657564 | M67: 0.54359829 | N67: 0.62313295 | O67: 0.68837652 | P67: 0.70204751 | Q67: 0.78777974 | R67: 0.56361523 | S67: 0.64298766 | T67: 0.56500169 | U67: 0.73380386 | V67: 0.78821562 | W67: 0.84908503 | X67: 0.58919631 | Y67: 0.73877495 | Z67: 0.51308698 | AA67: 0.79061579 | AB67: 0.84786171 | AC67: 0.89274514 | AD67: 0.62871518 | AE67: 0.8082404 | AF67: 0.50519311 | AG67: 0.8296162 | AH67: 0.89796859 | AI67: 0.92948689 | AJ67: 0.71741506 | AK67: 0.86523335 | AL67: 0.52065495 | AM67: 0.87888749 | AN67: 0.93582269 | AO67: 0.95591132 | AP67: 0.78729109 | AQ67: 0.92581197 | AR67: 0.51804399 | AS67: 0.92219014 | AT67: 0.95479961 | AU67: 0.97202999 | AV67: 0.8195231 | AW67: 0.95649823 | AX67: 0.47052126 | AY67: 0.94752757 | AZ67: 0.96001639 | BA67: 0.97911984 | BB67: 0.82488611 | BC67: 0.97142564 | BD67: 0.39855869 | BE67: 0.95432166 | BF67: 0.96369927 | BG67: 0.98488385 | BH67: 0.84158186 | BI67: 0.98495305 | BJ67: 0.32147506 | BK67: 0.9579091 | BL67: 0.9739952 | BM67: 0.97914193 | BN67: 0.87301141 | BO67: 1
A68: Baltic index-10 | B68: 0.18865434 | C68: -0.45752907 | D68: -0.57650156 | E68: -0.48467539 | F68: -0.56064824 | G68: -0.63942384 | H68: -0.16086771 | I68: -0.46152865 | J68: -0.4705658 | K68: -0.40041914 | L68: -0.57445041 | M68: -0.57426055 | N68: -0.054222823 | O68: -0.40452689 | P68: -0.36207396 | Q68: -0.30372077 | R68: -0.58036898 | S68: -0.48118461 | T68: 0.027317969 | U68: -0.35072278 | V68: -0.24326958 | W68: -0.18607366 | X68: -0.56821111 | Y68: -0.36632793 | Z68: 0.095886768 | AA68: -0.27594626 | AB68: -0.14959173 | AC68: -0.066202509 | AD68: -0.5077076 | AE68: -0.23535637 | AF68: 0.17225077 | AG68: -0.19082808 | AH68: -0.053413828 | AI68: 0.043523594 | AJ68: -0.38530733 | AK68: -0.099403494 | AL68: 0.26171493 | AM68: -0.096124059 | AN68: 0.052735164 | AO68: 0.14019267 | AP68: -0.28146154 | AQ68: 0.025020373 | AR68: 0.36886631 | AS68: 0.013014115 | AT68: 0.14441809 | AU68: 0.21661678 | AV68: -0.2427405 | AW68: 0.10716046 | AX68: 0.5424114 | AY68: 0.13233043 | AZ68: 0.24077102 | BA68: 0.26739795 | BB68: -0.23615296 | BC68: 0.16669205 | BD68: 0.73153707 | BE68: 0.22753732 | BF68: 0.32082024 | BG68: 0.31361919 | BH68: -0.22871901 | BI68: 0.19233383 | BJ68: 0.90346096 | BK68: 0.30752488 | BL68: 0.36781646 | BM68: 0.33465836 | BN68: -0.21555646 | BO68: 0.20948577 | BP68: 1
A69: Semicon index -10 | B69: -0.7522483 | C69: 0.56836776 | D69: 0.48169093 | E69: 0.59988313 | F69: 0.25179865 | G69: 0.38580287 | H69: 0.67139548 | I69: 0.57851327 | J69: 0.56573148 | K69: 0.66195052 | L69: 0.30180239 | M69: 0.48304355 | N69: 0.70813541 | O69: 0.62583654 | P69: 0.65112392 | Q69: 0.71765232 | R69: 0.41241959 | S69: 0.57175389 | T69: 0.67943112 | U69: 0.66205891 | V69: 0.73027781 | W69: 0.7739892 | X69: 0.44888303 | Y69: 0.66082402 | Z69: 0.62629742 | AA69: 0.69708621 | AB69: 0.76297915 | AC69: 0.81554452 | AD69: 0.49018226 | AE69: 0.71556314 | AF69: 0.56504079 | AG69: 0.70518609 | AH69: 0.79471424 | AI69: 0.85779708 | AJ69: 0.5817785 | AK69: 0.76346419 | AL69: 0.53370774 | AM69: 0.76182335 | AN69: 0.83650157 | AO69: 0.89063329 | AP69: 0.68925079 | AQ69: 0.83417963 | AR69: 0.50909198 | AS69: 0.82795834 | AT69: 0.87254639 | AU69: 0.91701625 | AV69: 0.75210869 | AW69: 0.8763601 | AX69: 0.4799172 | AY69: 0.87844964 | AZ69: 0.902265 | BA69: 0.92972057 | BB69: 0.76231812 | BC69: 0.89908708 | BD69: 0.45387281 | BE69: 0.91117965 | BF69: 0.92635971 | BG69: 0.94337331 | BH69: 0.7552157 | BI69: 0.91148875 | BJ69: 0.42439626 | BK69: 0.95887532 | BL69: 0.95682616 | BM69: 0.95634393 | BN69: 0.7829512 | BO69: 0.9365105 | BP69: 0.34228608 | BQ69: 1
A70: ECRI weekly (USA)-11 | B70: -0.76434839 | C70: 0.51815064 | D70: 0.4152324 | E70: 0.5603789 | F70: 0.25869267 | G70: 0.33546937 | H70: 0.59264268 | I70: 0.54952317 | J70: 0.50670393 | K70: 0.62520605 | L70: 0.34537581 | M70: 0.43777821 | N70: 0.61520918 | O70: 0.58316286 | P70: 0.6084671 | Q70: 0.68725429 | R70: 0.43574481 | S70: 0.52944062 | T70: 0.58382317 | U70: 0.63554377 | V70: 0.69521193 | W70: 0.75282759 | X70: 0.4426879 | Y70: 0.62978978 | Z70: 0.54024919 | AA70: 0.69099249 | AB70: 0.76224098 | AC70: 0.80705792 | AD70: 0.48693971 | AE70: 0.6993282 | AF70: 0.52797048 | AG70: 0.72220125 | AH70: 0.81315321 | AI70: 0.85523936 | AJ70: 0.57260518 | AK70: 0.76162008 | AL70: 0.54803959 | AM70: 0.77303234 | AN70: 0.85114995 | AO70: 0.8976134 | AP70: 0.67250497 | AQ70: 0.837301 | AR70: 0.53412709 | AS70: 0.83853655 | AT70: 0.88464371 | AU70: 0.93190965 | AV70: 0.73215036 | AW70: 0.89567326 | AX70: 0.47763813 | AY70: 0.88525554 | AZ70: 0.91399545 | BA70: 0.95071043 | BB70: 0.75355258 | BC70: 0.92103587 | BD70: 0.44280819 | BE70: 0.90760785 | BF70: 0.93538996 | BG70: 0.9647912 | BH70: 0.75298423 | BI70: 0.93920349 | BJ70: 0.40910163 | BK70: 0.94768191 | BL70: 0.9668052 | BM70: 0.97549769 | BN70: 0.78807372 | BO70: 0.96605513 | BP70: 0.34541609 | BQ70: 0.9641656 | BR70: 1
A71: Economic sentiment (Europe) -11 | B71: -0.76396556 | C71: 0.51183467 | D71: 0.40796692 | E71: 0.55477138 | F71: 0.2141447 | G71: 0.30324244 | H71: 0.5836892 | I71: 0.52489525 | J71: 0.5126914 | K71: 0.64291101 | L71: 0.2950101 | M71: 0.43335996 | N71: 0.60479381 | O71: 0.58606549 | P71: 0.63038896 | Q71: 0.72034194 | R71: 0.40761205 | S71: 0.54949312 | T71: 0.60699911 | U71: 0.64272843 | V71: 0.73545336 | W71: 0.79802957 | X71: 0.44092799 | Y71: 0.66518275 | Z71: 0.59540675 | AA71: 0.72348756 | AB71: 0.801701 | AC71: 0.85701407 | AD71: 0.49154787 | AE71: 0.7519091 | AF71: 0.60117586 | AG71: 0.76920671 | AH71: 0.86603487 | AI71: 0.90559135 | AJ71: 0.58155616 | AK71: 0.8153845 | AL71: 0.63592168 | AM71: 0.82851813 | AN71: 0.90692919 | AO71: 0.94131853 | AP71: 0.66450222 | AQ71: 0.88361336 | AR71: 0.6468514 | AS71: 0.88959195 | AT71: 0.93480777 | AU71: 0.96629466 | AV71: 0.72180128 | AW71: 0.92691552 | AX71: 0.60863357 | AY71: 0.92971501 | AZ71: 0.95775138 | BA71: 0.98092842 | BB71: 0.74427098 | BC71: 0.94899548 | BD71: 0.54643735 | BE71: 0.94080125 | BF71: 0.9644984 | BG71: 0.98836138 | BH71: 0.7531501 | BI71: 0.95425434 | BJ71: 0.48381592 | BK71: 0.95621172 | BL71: 0.96817455 | BM71: 0.99304752 | BN71: 0.78811155 | BO71: 0.96673192 | BP71: 0.35514065 | BQ71: 0.96072805 | BR71: 0.97137783 | BS71: 1
A72: Economic sentiment (Univ. of Michigan)-11 | B72: -0.94354117 | C72: 0.82333703 | D72: 0.7944991 | E72: 0.88178519 | F72: 0.61459169 | G72: 0.71454293 | H72: 0.68503296 | I72: 0.85765735 | J72: 0.85362356 | K72: 0.92305619 | L72: 0.69139605 | M72: 0.80796195 | N72: 0.68146086 | O72: 0.89697601 | P72: 0.90550517 | Q72: 0.94993542 | R72: 0.77581485 | S72: 0.8816878 | T72: 0.62681923 | U72: 0.9280397 | V72: 0.9405566 | W72: 0.96644471 | X72: 0.81359482 | Y72: 0.93945024 | Z72: 0.55418143 | AA72: 0.94376254 | AB72: 0.94790403 | AC72: 0.95789045 | AD72: 0.82838401 | AE72: 0.95674006 | AF72: 0.49981974 | AG72: 0.93085472 | AH72: 0.94525204 | AI72: 0.93982465 | AJ72: 0.87803106 | AK72: 0.94848045 | AL72: 0.44465389 | AM72: 0.9159652 | AN72: 0.92969698 | AO72: 0.9173732 | AP72: 0.90263066 | AQ72: 0.93849469 | AR72: 0.38972913 | AS72: 0.90400047 | AT72: 0.90433814 | AU72: 0.88978021 | AV72: 0.92390788 | AW72: 0.92156775 | AX72: 0.28023621 | AY72: 0.87848215 | AZ72: 0.86293935 | BA72: 0.86597716 | BB72: 0.92586383 | BC72: 0.89824784 | BD72: 0.1382273 | BE72: 0.83855965 | BF72: 0.82653498 | BG72: 0.85051812 | BH72: 0.94115586 | BI72: 0.8860056 | BJ72: -0.0063606276 | BK72: 0.82333564 | BL72: 0.80318626 | BM72: 0.83334551 | BN72: 0.96261291 | BO72: 0.89517273 | BP72: -0.17640278 | BQ72: 0.80294511 | BR72: 0.80517896 | BS72: 0.82362678 | BT72: 1
A73: Purchasing managers index Europe-11 | B73: -0.8543901 | C73: 0.63007528 | D73: 0.54083414 | E73: 0.67078402 | F73: 0.37389286 | G73: 0.44784724 | H73: 0.64294727 | I73: 0.65424844 | J73: 0.62437217 | K73: 0.73642552 | L73: 0.44926374 | M73: 0.55520176 | N73: 0.64575935 | O73: 0.6975893 | P73: 0.71338082 | Q73: 0.79093451 | R73: 0.5638349 | S73: 0.64742946 | T73: 0.61084372 | U73: 0.73641888 | V73: 0.78996846 | W73: 0.84787742 | X73: 0.5864752 | Y73: 0.74316881 | Z73: 0.54550563 | AA73: 0.79121996 | AB73: 0.84158607 | AC73: 0.89070492 | AD73: 0.62878414 | AE73: 0.8092813 | AF73: 0.50841434 | AG73: 0.82004323 | AH73: 0.88911141 | AI73: 0.92293972 | AJ73: 0.69883202 | AK73: 0.85558079 | AL73: 0.51930443 | AM73: 0.8657591 | AN73: 0.92153218 | AO73: 0.94716842 | AP73: 0.78201577 | AQ73: 0.91182927 | AR73: 0.51035087 | AS73: 0.90959659 | AT73: 0.94483614 | AU73: 0.96506877 | AV73: 0.82195296 | AW73: 0.94826063 | AX73: 0.46726635 | AY73: 0.94106276 | AZ73: 0.95892237 | BA73: 0.97099587 | BB73: 0.83444298 | BC73: 0.96433776 | BD73: 0.40050535 | BE73: 0.94556164 | BF73: 0.95503102 | BG73: 0.97440646 | BH73: 0.83158076 | BI73: 0.96710602 | BJ73: 0.32212179 | BK73: 0.9531857 | BL73: 0.95630801 | BM73: 0.97968857 | BN73: 0.86554554 | BO73: 0.98467429 | BP73: 0.19699092 | BQ73: 0.95360238 | BR73: 0.96603533 | BS73: 0.97301638 | BT73: 0.89245871 | BU73: 1
A74: Baltic index-11 | B74: 0.33348292 | C74: -0.58916221 | D74: -0.69615746 | E74: -0.59796094 | F74: -0.60098061 | G74: -0.70795107 | H74: -0.32424609 | I74: -0.55742903 | J74: -0.61196517 | K74: -0.54248014 | L74: -0.60071576 | M74: -0.65920466 | N74: -0.20701336 | O74: -0.53042233 | P74: -0.50605056 | Q74: -0.46881886 | R74: -0.60669931 | S74: -0.60698365 | T74: -0.11059941 | U74: -0.48077662 | V74: -0.40846688 | W74: -0.37607614 | X74: -0.66700467 | Y74: -0.52014343 | Z74: -0.021392428 | AA74: -0.42146475 | AB74: -0.31868322 | AC74: -0.27609663 | AD74: -0.64490059 | AE74: -0.42937981 | AF74: 0.06757347 | AG74: -0.37465455 | AH74: -0.23796288 | AI74: -0.16642462 | AJ74: -0.56474702 | AK74: -0.31906814 | AL74: 0.16097473 | AM74: -0.2829531 | AN74: -0.16140162 | AO74: -0.069007191 | AP74: -0.45164335 | AQ74: -0.18360626 | AR74: 0.23886526 | AS74: -0.1947293 | AT74: -0.072719833 | AU74: 0.019662238 | AV74: -0.37753225 | AW74: -0.085244581 | AX74: 0.3294697 | AY74: -0.098178478 | AZ74: 0.016315299 | BA74: 0.082557805 | BB74: -0.36256459 | BC74: -0.022457262 | BD74: 0.51117475 | BE74: -0.0035457538 | BF74: 0.10734626 | BG74: 0.12753765 | BH74: -0.36662199 | BI74: 0.012775884 | BJ74: 0.71763402 | BK74: 0.10404824 | BL74: 0.19347349 | BM74: 0.17095452 | BN74: -0.34113349 | BO74: 0.044772909 | BP74: 0.89537465 | BQ74: 0.18962382 | BR74: 0.23918389 | BS74: 0.18574044 | BT74: -0.33810694 | BU74: 0.041984491 | BV74: 1
A75: Semicon index -11 | B75: -0.72939949 | C75: 0.57905866 | D75: 0.49336187 | E75: 0.61273984 | F75: 0.25790308 | G75: 0.41175445 | H75: 0.64336855 | I75: 0.59649376 | J75: 0.58829171 | K75: 0.68076423 | L75: 0.30043673 | M75: 0.51372911 | N75: 0.71133703 | O75: 0.63695713 | P75: 0.67918357 | Q75: 0.73170319 | R75: 0.37573762 | S75: 0.59512416 | T75: 0.72991236 | U75: 0.6780017 | V75: 0.75193827 | W75: 0.78494046 | X75: 0.41619538 | Y75: 0.68085408 | Z75: 0.6977545 | AA75: 0.72477806 | AB75: 0.79173812 | AC75: 0.81930894 | AD75: 0.47455672 | AE75: 0.73717879 | AF75: 0.65959686 | AG75: 0.72313719 | AH75: 0.80582196 | AI75: 0.84671554 | AJ75: 0.55282235 | AK75: 0.76329108 | AL75: 0.60920581 | AM75: 0.73399326 | AN75: 0.81163086 | AO75: 0.87381871 | AP75: 0.64047045 | AQ75: 0.80946767 | AR75: 0.54151308 | AS75: 0.78552121 | AT75: 0.83350395 | AU75: 0.89576934 | AV75: 0.7195306 | AW75: 0.85149137 | AX75: 0.46574496 | AY75: 0.84078393 | AZ75: 0.86562319 | BA75: 0.90785282 | BB75: 0.7640032 | BC75: 0.87494728 | BD75: 0.41766893 | BE75: 0.86643753 | BF75: 0.88676953 | BG75: 0.91368946 | BH75: 0.76493561 | BI75: 0.87740553 | BJ75: 0.39298814 | BK75: 0.90746192 | BL75: 0.9122684 | BM75: 0.92482806 | BN75: 0.77519797 | BO75: 0.89496217 | BP75: 0.31921835 | BQ75: 0.96306081 | BR75: 0.94517876 | BS75: 0.93859405 | BT75: 0.79656275 | BU75: 0.91523277 | BV75: 0.19499809 | BW75: 1
A76: ECRI weekly (USA)-12 | B76: -0.74869255 | C76: 0.51838697 | D76: 0.42852602 | E76: 0.56569522 | F76: 0.24898937 | G76: 0.33753553 | H76: 0.58886745 | I76: 0.55625449 | J76: 0.51736453 | K76: 0.64119472 | L76: 0.3135163 | M76: 0.46241166 | N76: 0.62093426 | O76: 0.60882074 | P76: 0.61765159 | Q76: 0.69504124 | R76: 0.43180908 | S76: 0.54978673 | T76: 0.6209675 | U76: 0.63331432 | V76: 0.70963322 | W76: 0.75580226 | X76: 0.44751407 | Y76: 0.6392812 | Z76: 0.58543393 | AA76: 0.69988751 | AB76: 0.75680396 | AC76: 0.80014961 | AD76: 0.47252727 | AE76: 0.70790312 | AF76: 0.56004321 | AG76: 0.72105306 | AH76: 0.81122228 | AI76: 0.84213057 | AJ76: 0.55573554 | AK76: 0.75037341 | AL76: 0.56901726 | AM76: 0.75997433 | AN76: 0.83934285 | AO76: 0.8755852 | AP76: 0.63667449 | AQ76: 0.81380969 | AR76: 0.56153021 | AS76: 0.80445458 | AT76: 0.85579638 | AU76: 0.90873483 | AV76: 0.70583999 | AW76: 0.86058747 | AX76: 0.49687426 | AY76: 0.85862777 | AZ76: 0.88447546 | BA76: 0.93003632 | BB76: 0.74537509 | BC76: 0.90337146 | BD76: 0.41440102 | BE76: 0.87811561 | BF76: 0.9045219 | BG76: 0.94349895 | BH76: 0.75916456 | BI76: 0.90842927 | BJ76: 0.37891877 | BK76: 0.90605493 | BL76: 0.92629822 | BM76: 0.95501578 | BN76: 0.77813854 | BO76: 0.93377755 | BP76: 0.29761785 | BQ76: 0.95170322 | BR76: 0.96010495 | BS76: 0.96544133 | BT76: 0.80810091 | BU76: 0.95662738 | BV76: 0.19433865 | BW76: 0.94912396 | BX76: 1
A77: Economic sentiment (Europe) -12 | B77: -0.74299896 | C77: 0.48366222 | D77: 0.39019443 | E77: 0.53473296 | F77: 0.19223131 | G77: 0.28256221 | H77: 0.57372112 | I77: 0.50550045 | J77: 0.50177974 | K77: 0.62759373 | L77: 0.25757076 | M77: 0.41707846 | N77: 0.60684464 | O77: 0.5736558 | P77: 0.61684008 | Q77: 0.70907104 | R77: 0.36742661 | S77: 0.53689821 | T77: 0.60587335 | U77: 0.63082097 | V77: 0.72741708 | W77: 0.78797227 | X77: 0.41009084 | Y77: 0.65460382 | Z77: 0.61103199 | AA77: 0.70176218 | AB77: 0.7977134 | AC77: 0.84794544 | AD77: 0.46487993 | AE77: 0.74206739 | AF77: 0.62307816 | AG77: 0.75461031 | AH77: 0.85199733 | AI77: 0.8967964 | AJ77: 0.55393998 | AK77: 0.80618708 | AL77: 0.65248776 | AM77: 0.81061649 | AN77: 0.89825987 | AO77: 0.93256124 | AP77: 0.63981503 | AQ77: 0.87118421 | AR77: 0.66399727 | AS77: 0.86604492 | AT77: 0.92108926 | AU77: 0.95925442 | AV77: 0.69007096 | AW77: 0.91165601 | AX77: 0.63308574 | AY77: 0.91642335 | AZ77: 0.94424108 | BA77: 0.97156029 | BB77: 0.72746199 | BC77: 0.93816157 | BD77: 0.57475492 | BE77: 0.93183396 | BF77: 0.95872159 | BG77: 0.98160076 | BH77: 0.74287058 | BI77: 0.9424952 | BJ77: 0.50560298 | BK77: 0.94532461 | BL77: 0.96240135 | BM77: 0.98611512 | BN77: 0.77246511 | BO77: 0.95062526 | BP77: 0.39284767 | BQ77: 0.95960993 | BR77: 0.9604541 | BS77: 0.99021077 | BT77: 0.80255852 | BU77: 0.95613675 | BV77: 0.2113393 | BW77: 0.94461811 | BX77: 0.95936187 | BY77: 1
A78: Economic sentiment (Univ. of Michigan)-12 | B78: -0.9334596 | C78: 0.81392483 | D78: 0.76856532 | E78: 0.86176223 | F78: 0.60835875 | G78: 0.68767616 | H78: 0.65612784 | I78: 0.83091156 | J78: 0.84972726 | K78: 0.91596022 | L78: 0.65435227 | M78: 0.78932068 | N78: 0.66257916 | O78: 0.88263857 | P78: 0.9062664 | Q78: 0.94833879 | R78: 0.74135656 | S78: 0.86681523 | T78: 0.64699634 | U78: 0.91674044 | V78: 0.9455046 | W78: 0.97065791 | X78: 0.78658514 | Y78: 0.93270276 | Z78: 0.58976615 | AA78: 0.95028361 | AB78: 0.95780702 | AC78: 0.97561127 | AD78: 0.83232311 | AE78: 0.96873513 | AF78: 0.52498667 | AG78: 0.95055529 | AH78: 0.95618403 | AI78: 0.95961438 | AJ78: 0.86161666 | AK78: 0.97098835 | AL78: 0.47918345 | AM78: 0.93696016 | AN78: 0.94397371 | AO78: 0.9346643 | AP78: 0.90393423 | AQ78: 0.95836105 | AR78: 0.40620356 | AS78: 0.91577693 | AT78: 0.92218918 | AU78: 0.90765223 | AV78: 0.9108634 | AW78: 0.93566633 | AX78: 0.32497061 | AY78: 0.89626232 | AZ78: 0.89332954 | BA78: 0.87759092 | BB78: 0.923913 | BC78: 0.91357314 | BD78: 0.20097765 | BE78: 0.86396145 | BF78: 0.84775878 | BG78: 0.85336769 | BH78: 0.92337014 | BI78: 0.89087567 | BJ78: 0.052720943 | BK78: 0.81860476 | BL78: 0.80684053 | BM78: 0.84017218 | BN78: 0.94394628 | BO78: 0.87615324 | BP78: -0.12694629 | BQ78: 0.80084734 | BR78: 0.78229666 | BS78: 0.82718303 | BT78: 0.96359931 | BU78: 0.89550476 | BV78: -0.32898971 | BW78: 0.78986786 | BX78: 0.79640971 | BY78: 0.81523866 | BZ78: 1
A79: Purchasing managers index Europe-12 | B79: -0.865777 | C79: 0.66920088 | D79: 0.58797244 | E79: 0.71173954 | F79: 0.391809 | G79: 0.4913583 | H79: 0.67938127 | I79: 0.68789769 | J79: 0.67337064 | K79: 0.77898106 | L79: 0.45541654 | M79: 0.60361407 | N79: 0.68037 | O79: 0.7397662 | P79: 0.76438013 | Q79: 0.83390186 | R79: 0.56179865 | S79: 0.69640247 | T79: 0.65614891 | U79: 0.77593244 | V79: 0.84110237 | W79: 0.88582329 | X79: 0.60556641 | Y79: 0.78649418 | Z79: 0.6160964 | AA79: 0.82635537 | AB79: 0.87624635 | AC79: 0.9203151 | AD79: 0.64899514 | AE79: 0.8495179 | AF79: 0.5644853 | AG79: 0.84738645 | AH79: 0.91244338 | AI79: 0.94901011 | AJ79: 0.73024985 | AK79: 0.88838753 | AL79: 0.54395526 | AM79: 0.88337566 | AN79: 0.93713514 | AO79: 0.96356747 | AP79: 0.79334085 | AQ79: 0.93287899 | AR79: 0.52462004 | AS79: 0.92211018 | AT79: 0.94779708 | AU79: 0.9745374 | AV79: 0.84371516 | AW79: 0.95721475 | AX79: 0.46435522 | AY79: 0.95046912 | AZ79: 0.9642115 | BA79: 0.97536048 | BB79: 0.86060493 | BC79: 0.97369644 | BD79: 0.39760576 | BE79: 0.95237743 | BF79: 0.96542222 | BG79: 0.97187005 | BH79: 0.86394034 | BI79: 0.9680899 | BJ79: 0.32277578 | BK79: 0.95713831 | BL79: 0.95385108 | BM79: 0.96865283 | BN79: 0.8794704 | BO79: 0.97295684 | BP79: 0.18350105 | BQ79: 0.9604407 | BR79: 0.94647833 | BS79: 0.97097889 | BT79: 0.90837948 | BU79: 0.98360194 | BV79: 0.00029871466 | BW79: 0.93341164 | BX79: 0.95053477 | BY79: 0.96103811 | BZ79: 0.91027032 | CA79: 1
A80: Baltic index-12 | B80: 0.50261823 | C80: -0.71718149 | D80: -0.78109356 | E80: -0.7126101 | F80: -0.64174127 | G80: -0.76347349 | H80: -0.48161051 | I80: -0.67421297 | J80: -0.74420136 | K80: -0.66987636 | L80: -0.65133233 | M80: -0.73698828 | N80: -0.38609325 | O80: -0.64066487 | P80: -0.66045409 | Q80: -0.6273585 | R80: -0.64237197 | S80: -0.70263887 | T80: -0.28003833 | U80: -0.6232632 | V80: -0.56619941 | W80: -0.55924879 | X80: -0.70754531 | Y80: -0.65840871 | Z80: -0.17364733 | AA80: -0.56756462 | AB80: -0.50218132 | AC80: -0.4886647 | AD80: -0.75868207 | AE80: -0.59907895 | AF80: -0.059378205 | AG80: -0.54109725 | AH80: -0.42785834 | AI80: -0.4032015 | AJ80: -0.71564827 | AK80: -0.53394213 | AL80: 0.049917934 | AM80: -0.48949668 | AN80: -0.37252293 | AO80: -0.31061771 | AP80: -0.6468454 | AQ80: -0.42614154 | AR80: 0.13054876 | AS80: -0.40631342 | AT80: -0.32295504 | AU80: -0.22628444 | AV80: -0.56749432 | AW80: -0.32326281 | AX80: 0.18631842 | AY80: -0.33682277 | AZ80: -0.24134619 | BA80: -0.15870982 | BB80: -0.51935255 | BC80: -0.25039933 | BD80: 0.27829543 | BE80: -0.27975092 | BF80: -0.16660596 | BG80: -0.10660671 | BH80: -0.51648893 | BI80: -0.22362529 | BJ80: 0.48001744 | BK80: -0.17238457 | BL80: -0.071307946 | BM80: -0.072034838 | BN80: -0.50057802 | BO80: -0.17949059 | BP80: 0.6913222 | BQ80: -0.057769288 | BR80: 0.013857916 | BS80: -0.038353275 | BT80: -0.4862707 | BU80: -0.1755996 | BV80: 0.88396329 | BW80: -0.015673473 | BX80: 0.039882214 | BY80: -0.020275845 | BZ80: -0.52276014 | CA80: -0.21926489 | CB80: 1
A81: Semicon index -12 | B81: -0.69384452 | C81: 0.53786593 | D81: 0.45427397 | E81: 0.59041946 | F81: 0.23287393 | G81: 0.3743932 | H81: 0.57584067 | I81: 0.56691401 | J81: 0.58023197 | K81: 0.67511303 | L81: 0.29656402 | M81: 0.52096835 | N81: 0.66272412 | O81: 0.64037119 | P81: 0.681094 | Q81: 0.73334981 | R81: 0.35974928 | S81: 0.60765535 | T81: 0.71945416 | U81: 0.67379264 | V81: 0.76016536 | W81: 0.78075654 | X81: 0.36752767 | Y81: 0.68388525 | Z81: 0.74297408 | AA81: 0.72417344 | AB81: 0.79688423 | AC81: 0.81419085 | AD81: 0.42688363 | AE81: 0.73910984 | AF81: 0.72716174 | AG81: 0.74110292 | AH81: 0.82174229 | AI81: 0.83528093 | AJ81: 0.51880116 | AK81: 0.77039638 | AL81: 0.70243788 | AM81: 0.74025808 | AN81: 0.81131636 | AO81: 0.84747142 | AP81: 0.59031948 | AQ81: 0.79134763 | AR81: 0.61855751 | AS81: 0.73879475 | AT81: 0.7940321 | AU81: 0.86483121 | AV81: 0.64861907 | AW81: 0.80867439 | AX81: 0.50087516 | AY81: 0.77784198 | AZ81: 0.8098134 | BA81: 0.8752818 | BB81: 0.71315174 | BC81: 0.83525412 | BD81: 0.40105246 | BE81: 0.81332639 | BF81: 0.83602228 | BG81: 0.88300204 | BH81: 0.75530867 | BI81: 0.84366637 | BJ81: 0.35062166 | BK81: 0.8443733 | BL81: 0.85819007 | BM81: 0.88622955 | BN81: 0.77221259 | BO81: 0.84782624 | BP81: 0.28832813 | BQ81: 0.89075937 | BR81: 0.8856023 | BS81: 0.89973482 | BT81: 0.77426506 | BU81: 0.86122326 | BV81: 0.18025263 | BW81: 0.95185717 | BX81: 0.92815767 | BY81: 0.91852039 | BZ81: 0.77394652 | CA81: 0.8866589 | CB81: 0.012866268 | CC81: 1

Sheet 2b Phase correlations
B1: Contract Logistics (Global) | C1: ECRI weekly (USA) | D1: Economic sentiment (Europe) | E1: Economic sentiment (Univ. of Michigan) | F1: Purchasing managers index Europe | G1: Baltic index | H1: Semicon index
A2: 39083 | B2: 100 | C2: 100 | D2: 100 | E2: 100 | F2: 100 | G2: 100 | H2: 100 | K2: For more information: | L2: http://en.wikipedia.org/wiki/Phase_correlation
A3: 39114 | B3: 100.51025 | C3: 99.986793 | D3: 101.18074 | E3: 94.220846 | F3: 100 | G3: 114.19768 | H3: 99.460285 | J3: ECRI | K3: Fast fourier of Contract Logistics | L3: Fast fourier of ECRI == F(ECRI) | M3: Complex conjugate F(ECRI) | N3: Product F(Contract) and F*(ECRI) | O3: Abs(F(Contract) * F*(ECRI)) | P3: Quotient | Q3: Inverse Fourier transform of Quotient | R3: Abs() | S3: The x-axis is 1 too high | AC3: ECRI weekly (USA) | AD3: Short term | AE3: Long term
A4: 39142 | B4: 100.67966 | C4: 99.747802 | D4: 102.7248 | E4: 91.22807 | F4: 100 | G4: 127.70799 | H4: 100.98267 | J4: 99.747802 | K4: 3071,63222770049 | L4: 2886,21732060708 | M4: =IMCONJUGATE(L4) -> 2886,21732060708 | N4: =IMPRODUCT(M4,K4) -> 8865398,13812407 | O4: =IMABS(N4) -> 8865398.1 | P4: =IMDIV(N4,O4) -> 1 | Q4: 0.35228695 | R4: =IMABS(Q4) -> 0.35228695 | AD4: 2 | AF4: Too short
A5: 39173 | B5: 101.36116 | C5: 101.55703 | D5: 102.45232 | E5: 89.886481 | F5: 100 | G5: 148.25788 | H5: 100.08386 | J5: 101.55703 | K5: 23,498188705887-129,915273223554i | L5: 63,7556695040749-175,354331086324i | M5: =IMCONJUGATE(L5) -> 63,7556695040749+175,354331086324i | N5: =IMPRODUCT(M5,K5) -> 24279,3485870903-4162,32606091147i | O5: =IMABS(N5) -> 24633.549 | P5: =IMDIV(N5,O5) -> 0,985621227085098-0,168969810082351i | Q5: 0,170592856866982 | R5: =IMABS(Q5) -> 0.17059286 | AE5: 17 | AF5: Too long
A6: 39203 | B6: 101.47019 | C6: 101.91307 | D6: 103.81471 | E6: 91.124871 | F6: 100 | G6: 141.81086 | H6: 106.25081 | J6: 101.91307 | K6: 22,4759911368488-2,61730083468103i | L6: 66,0327303412823-7,49336525654634i | M6: =IMCONJUGATE(L6) -> 66,0327303412823+7,49336525654634i | N6: =IMPRODUCT(M6,K6) -> 1503,76345303312-4,40670914719928i | O6: =IMABS(N6) -> 1503.7699 | P6: =IMDIV(N6,O6) -> 0,999995706248265-0,00293044109896131i | Q6: 0,436741080626981 | R6: =IMABS(Q6) -> 0.43674108
A7: 39234 | B7: 101.2821 | C7: 101.73114 | D7: 103.81471 | E7: 88.028896 | F7: 100 | G7: 148.80303 | H7: 105.35845 | J7: 101.73114 | K7: -5,96307009484553-0,73554976710921i | L7: -13,7704619163829-7,37599003698234i | M7: =IMCONJUGATE(L7) -> -13,7704619163829+7,37599003698234i | N7: =IMPRODUCT(M7,K7) -> 87,5396373996944-33,8546855538263i | O7: =IMABS(N7) -> 93.85802 | P7: =IMDIV(N7,O7) -> 0,932681487837246-0,360701042756604i | Q7: 8,45681529770305E-002 | R7: =IMABS(Q7) -> 0.084568153 | AF7: ECRI seems a long or short term predictor, but not for a useful range.
A8: 39264 | B8: 105.73954 | C8: 101.1381 | D8: 102.27066 | E8: 93.292054 | F8: 99.480969 | G8: 165.75018 | H8: 108.6763 | J8: 101.1381 | K8: 11,3643852455212-17,8105990770465i | L8: 14,6732791115765-0,899311198584415i | M8: =IMCONJUGATE(L8) -> 14,6732791115765+0,899311198584415i | N8: =IMPRODUCT(M8,K8) -> 182,7700678425-251,119772485565i | O8: =IMABS(N8) -> 310.58982 | P8: =IMDIV(N8,O8) -> 0,588461226382568-0,808525438711933i | Q8: 5,18858203442976E-003 | R8: =IMABS(Q8) -> 0.005188582
A9: 39295 | B9: 102.14254 | C9: 99.246597 | D9: 102.17984 | E9: 86.068111 | F9: 99.307958 | G9: 182.55511 | H9: 107.71083 | J9: 99.246597 | K9: -4,11664772898527-0,547278508847905i | L9: -5,31207798459557-10,4577871453323i | M9: =IMCONJUGATE(L9) -> -5,31207798459557+10,4577871453323i | N9: =IMPRODUCT(M9,K9) -> 27,5912759262243-40,1438395837503i | O9: =IMABS(N9) -> 48.71146 | P9: =IMDIV(N9,O9) -> 0,566422680841898-0,824114886789383i | Q9: -0,240380194481615 | R9: =IMABS(Q9) -> 0.24038019
A10: 39326 | B10: 100.88711 | C10: 99.515847 | D10: 100.18165 | E10: 86.068111 | F10: 94.636678 | G10: 226.04883 | H10: 109.31708 | J10: 99.515847 | K10: 3,62192228605763+6,98427987598623i | L10: -0,199067005313592-11,94284907726i | M10: =IMCONJUGATE(L10) -> -0,199067005313592+11,94284907726i | N10: =IMPRODUCT(M10,K10) -> -84,1332056952118+41,8657315527662i | O10: =IMABS(N10) -> 93.974123 | P10: =IMDIV(N10,O10) -> -0,895280563191251+0,445502764494179i | Q10: -3,59261865762003E-002 | R10: =IMABS(Q10) -> 0.035926187
A11: 39356 | B11: 102.45678 | C11: 99.576246 | D11: 99.182561 | E11: 83.488132 | F11: 94.290657 | G11: 250.79403 | H11: 108.80747 | J11: 99.576246 | K11: 7,75928756177158-4,0578975970062i | L11: 0,883746500869442+2,97427981261877i | M11: =IMCONJUGATE(L11) -> 0,883746500869442-2,97427981261877i | N11: =IMPRODUCT(M11,K11) -> -5,21207967249434-26,6644451575219i | O11: =IMABS(N11) -> 27.169071 | P11: =IMDIV(N11,O11) -> -0,191838716311973-0,981426465367515i | Q11: 3,3737710821552E-002 | R11: =IMABS(Q11) -> 0.033737711
A12: 39387 | B12: 103.86168 | C12: 98.477546 | D12: 97.456857 | E12: 78.534572 | F12: 93.598616 | G12: 242.00047 | H12: 97.875543 | J12: 98.477546 | K12: 8,11561566807143+2,56586010938395i | L12: -2,83181282980491-6,89972482713824i | M12: =IMCONJUGATE(L12) -> -2,83181282980491+6,89972482713824i | N12: =IMPRODUCT(M12,K12) -> -40,6856332702905+48,7294793352664i | O12: =IMABS(N12) -> 63.481359 | P12: =IMDIV(N12,O12) -> -0,640906780519485+0,767618719602478i | Q12: 7,00628924938251E-002 | R12: =IMABS(Q12) -> 0.070062892
A13: 39417 | B13: 103.46504 | C13: 96.012231 | D13: 96.639419 | E13: 77.915377 | F13: 92.214533 | G13: 216.71012 | H13: 89.231497 | J13: 96.012231 | K13: 6,06229507364912-9,1367985003271i | L13: 11,1590988773517-3,3721927389215i | M13: =IMCONJUGATE(L13) -> 11,1590988773517+3,3721927389215i | N13: =IMPRODUCT(M13,K13) -> 98,4607957103245-81,5152104590297i | O13: =IMABS(N13) -> 127.82511 | P13: =IMDIV(N13,O13) -> 0,770277439835896-0,637708919241261i | Q13: -9,34831791032751E-002 | R13: =IMABS(Q13) -> 0.093483179
A14: 39448 | B14: 102.8046 | C14: 93.428133 | D14: 94.641235 | E14: 80.908153 | F14: 89.619377 | G14: 145.60322 | H14: 85.307272 | J14: 93.428133 | K14: 2,51939941757163-3,82108880474226i | L14: -4,63697693575164-6,92726608304879i | M14: =IMCONJUGATE(L14) -> -4,63697693575164+6,92726608304879i | N14: =IMPRODUCT(M14,K14) -> 14,7873018861827+35,1708507920455i | O14: =IMABS(N14) -> 38.153021 | P14: =IMDIV(N14,O14) -> 0,387578790374264+0,921836580556458i | Q14: 0,18332526237732 | R14: =IMABS(Q14) -> 0.18332526
A15: 39479 | B15: 102.63274 | C15: 94.631429 | D15: 92.098093 | E15: 73.065015 | F15: 91.349481 | G15: 180.4456 | H15: 81.65183 | J15: 94.631429 | K15: -6,21470414452696-1,45672695624137i | L15: 8,42637233214004-4,68556843861056i | M15: =IMCONJUGATE(L15) -> 8,42637233214004+4,68556843861056i | N15: =IMPRODUCT(M15,K15) -> -45,5418172060402-41,3943453144526i | O15: =IMABS(N15) -> 61.543066 | P15: =IMDIV(N15,O15) -> -0,739999164355763-0,672607788204071i | Q15: -2,30502852465272E-002 | R15: =IMABS(Q15) -> 0.023050285
A16: 39508 | B16: 97.285005 | C16: 92.292938 | D16: 93.46049 | E16: 71.723426 | F16: 89.619377 | G16: 187.01114 | H16: 74.291489 | J16: 92.292938 | K16: 3,74883343280933+5,33839610382992i | L16: 4,82289074699028-1,23901204660783i | M16: =IMCONJUGATE(L16) -> 4,82289074699028+1,23901204660783i | N16: =IMPRODUCT(M16,K16) -> 11,4658769928944+30,3913509569072i | O16: =IMABS(N16) -> 32.482311 | P16: =IMDIV(N16,O16) -> 0,352988335176828+0,935627722563356i | Q16: -9,94102381382659E-002 | R16: =IMABS(Q16) -> 0.099410238
A17: 39539 | B17: 98.778128 | C17: 94.049628 | D17: 90.099909 | E17: 64.602683 | F17: 89.792388 | G17: 223.726 | H17: 77.078226 | J17: 94.049628 | K17: -6,85384411996956-2,02674770917345i | L17: 1,47900964878607-2,91878076475677i | M17: =IMCONJUGATE(L17) -> 1,47900964878607+2,91878076475677i | N17: =IMPRODUCT(M17,K17) -> -4,22126935616034-23,002447799531i | O17: =IMABS(N17) -> 23.386571 | P17: =IMDIV(N17,O17) -> -0,180499710370709-0,983575037582842i | Q17: 3,87549885497371E-002 | R17: =IMABS(Q17) -> 0.038754989
A18: 39569 | B18: 97.062694 | C18: 94.754013 | D18: 89.373297 | E18: 61.713106 | F18: 88.408304 | G18: 271.1543 | H18: 86.072765 | J18: 94.754013 | K18: 3,95023083939967+8,43477923869404i | L18: 3,92198764337802+6,37797661676556i | M18: =IMCONJUGATE(L18) -> 3,92198764337802-6,37797661676556i | N18: =IMPRODUCT(M18,K18) -> 69,2895812925865+7,8866200242622i | O18: =IMABS(N18) -> 69.736969 | P18: =IMDIV(N18,O18) -> 0,993584640182076+0,113090949214579i | Q18: -6,64898375908976E-003 | R18: =IMABS(Q18) -> 0.0066489838
A19: 39600 | B19: 98.586431 | C19: 93.561574 | D19: 87.19346 | E19: 58.204334 | F19: 85.640138 | G19: 222.30386 | H19: 88.012299 | J19: 93.561574 | K19: 4,27295541492956-0,884191952123359i | L19: 2,57193473248811-3,90927109160685i | M19: =IMCONJUGATE(L19) -> 2,57193473248811+3,90927109160685i | N19: =IMPRODUCT(M19,K19) -> 14,4463084798978+14,4300570874566i | O19: =IMABS(N19) -> 20.418677 | P19: =IMDIV(N19,O19) -> 0,707504623300659+0,706708715107004i | Q19: 0,223898918604737 | R19: =IMABS(Q19) -> 0.22389892
... A35: 40087 | B35: 96.015603 | C35: 91.563795 | D35: 78.110808 | E35: 72.858617 | F35: 91.00346 | G35: 71.415027 | H35: 66.651615 | J35: 91.563795 | K35: 23,4981887058873+129,915273223554i | L35: 63,7556695040754+175,354331086324i | M35: =IMCONJUGATE(L35) -> 63,7556695040754-175,354331086324i | N35: =IMPRODUCT(M35,K35) -> 24279,3485870903+4162,32606091148i | O35: =IMABS(N35) -> 24633.549 | P35: =IMDIV(N35,O35) -> 0,985621227085098+0,168969810082351i | Q35: 6,65177550498199E-003 | R35: =IMABS(Q35) -> 0.0066517755
AC37: Economic sentiment (Europe) | AD37: Short term | AE37: Long term
J38: 102.7248 | K38: 3071,63222770049 | L38: 2644,32334241599 | M38: =IMCONJUGATE(L38) -> 2644,32334241599 | N38: =IMPRODUCT(M38,K38) -> 8122388,79902563 | O38: =IMABS(N38) -> 8122388.8 | P38: =IMDIV(N38,O38) -> 1 | Q38: 0,347376748653598 | R38: =IMABS(Q38) -> 0.34737675 | AD38: 4
J39: 102.45232 | K39: 23,498188705887-129,915273223554i | L39: 74,5584783307735-342,909472593898i | M39: =IMCONJUGATE(L39) -> 74,5584783307735+342,909472593898i | N39: =IMPRODUCT(M39,K39) -> 46301,1670164214-1628,53358742727i | O39: =IMABS(N39) -> 46329.798 | P39: =IMDIV(N39,O39) -> 0,999382016550805-0,0351508889624003i | Q39: 7,34589847854851E-002 | R39: =IMABS(Q39) -> 0.073458985 | AE39: 12
J40: 103.81471 | K40: 22,4759911368488-2,61730083468103i | L40: 100,968059450546-45,9664731416388i | M40: =IMCONJUGATE(L40) -> 100,968059450546+45,9664731416388i | N40: =IMPRODUCT(M40,K40) -> 2389,66529783625+768,878256647634i | O40: =IMABS(N40) -> 2510.3135 | P40: =IMDIV(N40,O40) -> 0,951938979379303+0,306287739777958i | Q40: 0,146718047819161 | R40: =IMABS(Q40) -> 0.14671805
J41: 103.81471 | K41: -5,96307009484553-0,73554976710921i | L41: 0,231268732122178-16,4988345223059i | M41: =IMCONJUGATE(L41) -> 0,231268732122178+16,4988345223059i | N41: =IMPRODUCT(M41,K41) -> 10,7566422300649-98,5538164018194i | O41: =IMABS(N41) -> 99.139095 | P41: =IMDIV(N41,O41) -> 0,108500509034726-0,994096393484659i | Q41: 8,69251074997855E-002 | R41: =IMABS(Q41) -> 0.086925107
J42: 102.27066 | K42: 11,3643852455212-17,8105990770465i | L42: 5,41007912420118-33,2617369790355i | M42: =IMCONJUGATE(L42) -> 5,41007912420118+33,2617369790355i | N42: =IMPRODUCT(M42,K42) -> 653,893685315947+281,642442708712i | O42: =IMABS(N42) -> 711.96869 | P42: =IMDIV(N42,O42) -> 0,918430393653218+0,395582623498548i | Q42: 0,420377423813527 | R42: =IMABS(Q42) -> 0.42037742
J43: 102.17984 | K43: -4,11664772898527-0,547278508847905i | L43: 17,056085159397-19,6429615383799i | M43: =IMCONJUGATE(L43) -> 17,056085159397+19,6429615383799i | N43: =IMPRODUCT(M43,K43) -> -59,4637235367297-90,1975818603343i | O43: =IMABS(N43) -> 108.03489 | P43: =IMDIV(N43,O43) -> -0,55041220173889-0,834893051939557i | Q43: -0,30370303215144 | R43: =IMABS(Q43) -> 0.30370303
J44: 100.18165 | K44: 3,62192228605763+6,98427987598623i | L44: 4,57716783046628-16,1812091478525i | M44: =IMCONJUGATE(L44) -> 4,57716783046628+16,1812091478525i | N44: =IMPRODUCT(M44,K44) -> -96,4359472482786+90,5753031953037i | O44: =IMABS(N44) -> 132.30184 | P44: =IMDIV(N44,O44) -> -0,728908574412945+0,68461105026671i | Q44: -0,175007653268759 | R44: =IMABS(Q44) -> 0.17500765
J45: 99.182561 | K45: 7,75928756177158-4,0578975970062i | L45: 15,4638433437274-13,1647075432725i | M45: =IMCONJUGATE(L45) -> 15,4638433437274+13,1647075432725i | N45: =IMPRODUCT(M45,K45) -> 173,409442419303+39,3980587498831i | O45: =IMABS(N45) -> 177.82869 | P45: =IMDIV(N45,O45) -> 0,975148868283525+0,221550636842598i | Q45: 8,17163051169534E-002 | R45: =IMABS(Q45) -> 0.081716305
J46: 97.456857 | K46: 8,11561566807143+2,56586010938395i | L46: 7,90190735694818-11,1716621253406i | M46: =IMCONJUGATE(L46) -> 7,90190735694818+11,1716621253406i | N46: =IMPRODUCT(M46,K46) -> 35,4639209507706+110,940105058055i | O46: =IMABS(N46) -> 116.47058 | P46: =IMDIV(N46,O46) -> 0,304488225046874+0,952516100025508i | Q46: 8,51310188879415E-002 | R46: =IMABS(Q46) -> 0.085131019
J47: 96.639419 | K47: 6,06229507364912-9,1367985003271i | L47: 13,653018457278-12,5907231851835i | M47: =IMCONJUGATE(L47) -> 13,653018457278+12,5907231851835i | N47: =IMPRODUCT(M47,K47) -> 197,807527250415-48,4161994261782i | O47: =IMABS(N47) -> 203.64662 | P47: =IMDIV(N47,O47) -> 0,971327323658362-0,237746146792503i | Q47: -5,70038848818125E-002 | R47: =IMABS(Q47) -> 0.057003885
J48: 94.641235 | K48: 2,51939941757163-3,82108880474226i | L48: 12,4461994195764-1,79059223404093i | M48: =IMCONJUGATE(L48) -> 12,4461994195764+1,79059223404093i | N48: =IMPRODUCT(M48,K48) -> 38,1989595080134-43,046816232182i | O48: =IMABS(N48) -> 57.551619 | P48: =IMDIV(N48,O48) -> 0,663733877660028-0,747968809273745i | Q48: 2,25008652011681E-002 | R48: =IMABS(Q48) -> 0.022500865
J49: 92.098093 | K49: -6,21470414452696-1,45672695624137i | L49: 17,4771023926175-6,6358351316545i | M49: =IMCONJUGATE(L49) -> 17,4771023926175+6,6358351316545i | N49: =IMPRODUCT(M49,K49) -> -98,9484207602674-66,6991182674073i | O49: =IMABS(N49) -> 119.32964 | P49: =IMDIV(N49,O49) -> -0,829202392320993-0,558948470405942i | Q49: -3,4465691461195E-002 | R49: =IMABS(Q49) -> 0.034465691
J50: 93.46049 | K50: 3,74883343280933+5,33839610382992i | L50: 7,85059299205665-1,29080146586561i | M50: =IMCONJUGATE(L50) -> 7,85059299205665+1,29080146586561i | N50: =IMPRODUCT(M50,K50) -> 22,5397559598057+46,748574731906i | O50: =IMABS(N50) -> 51.89865 | P50: =IMDIV(N50,O50) -> 0,434303321965405+0,900766687067086i | Q50: -0,378601940277189 | R50: =IMABS(Q50) -> 0.37860194
J51: 90.099909 | K51: -6,85384411996956-2,02674770917345i | L51: 18,2070389046396-2,12511650977247i | M51: =IMCONJUGATE(L51) -> 18,2070389046396+2,12511650977247i | N51: =IMPRODUCT(M51,K51) -> -120,481131520713-51,4662916855645i | O51: =IMABS(N51) -> 131.01329 | P51: =IMDIV(N51,O51) -> -0,919609997236596-0,392832601730696i | Q51: 0,286518356065147 | R51: =IMABS(Q51) -> 0.28651836
... J69: 78.110808 | K69: 23,4981887058873+129,915273223554i | L69: 74,5584783307744+342,909472593898i | M69: =IMCONJUGATE(L69) -> 74,5584783307744-342,909472593898i | N69: =IMPRODUCT(M69,K69) -> 46301,1670164214+1628,53358742728i | O69: =IMABS(N69) -> 46329.798 | P69: =IMDIV(N69,O69) -> 0,999382016550805+0,0351508889624006i | Q69: 0,109265199690233 | R69: =IMABS(Q69) -> 0.1092652
AC72: Economic sentiment (Univ. of Michigan) | AD72: Short term | AE72: Long term
J73: 91.22807 | K73: 3071,63222770049 | L73: 2324,35500515996 | M73: =IMCONJUGATE(L73) -> 2324,35500515996 | N73: =IMPRODUCT(M73,K73) -> 7139563,74246627 | O73: =IMABS(N73) -> 7139563.7 | P73: =IMDIV(N73,O73) -> 1 | Q73: 0,263998403232744 | R73: =IMABS(Q73) -> 0.2639984 | AD73: 6
J74: 89.886481 | K74: 23,498188705887-129,915273223554i | L74: 165,770912509916-156,443524266196i | M74: =IMCONJUGATE(L74) -> 165,770912509916+156,443524266196i | N74: =IMPRODUCT(M74,K74) -> 24219,7193832036-17860,0339362225i | O74: =IMABS(N74) -> 30092.784 | P74: =IMDIV(N74,O74) -> 0,80483479959583-0,593498900891602i | Q74: -5,02867730488598E-002 | R74: =IMABS(Q74) -> 0.050286773 | AE74: 15 | AF74: probably too long in relation to data
J75: 91.124871 | K75: 22,4759911368488-2,61730083468103i | L75: 12,3760871665252-53,3697799766945i | M75: =IMCONJUGATE(L75) -> 12,3760871665252+53,3697799766945i | N75: =IMPRODUCT(M75,K75) -> 417,849595143434+1167,14675846072i | O75: =IMABS(N75) -> 1239.6894 | P75: =IMDIV(N75,O75) -> 0,33705990457337+0,941483202573998i | Q75: 9,26529801409825E-002 | R75: =IMABS(Q75) -> 0.09265298 | AE75: 17 | AF75: probably too long in relation to data
J76: 88.028896 | K76: -5,96307009484553-0,73554976710921i | L76: 2,68685911619343-6,29832739978972i | M76: =IMCONJUGATE(L76) -> 2,68685911619343+6,29832739978972i | N76: =IMPRODUCT(M76,K76) -> -11,3891959927432-39,5336863624036i | O76: =IMABS(N76) -> 41.141538 | P76: =IMDIV(N76,O76) -> -0,276829612294716-0,960919021435603i | Q76: 0,116435160353131 | R76: =IMABS(Q76) -> 0.11643516
J77: 93.292054 | K77: 11,3643852455212-17,8105990770465i | L77: 1,05488394292555-56,0541839984474i | M77: =IMCONJUGATE(L77) -> 1,05488394292555+56,0541839984474i | N77: =IMPRODUCT(M77,K77) -> 1010,34670530406+618,233226601425i | O77: =IMABS(N77) -> 1184.4884 | P77: =IMDIV(N77,O77) -> 0,852981505725159+0,521941137381257i | Q77: 0,138084383076392 | R77: =IMABS(Q77) -> 0.13808438
J78: 86.068111 | K78: -4,11664772898527-0,547278508847905i | L78: 10,8420603839657+4,79377520954247i | M78: =IMCONJUGATE(L78) -> 10,8420603839657-4,79377520954247i | N78: =IMPRODUCT(M78,K78) -> -47,256473405604+13,8006571898532i | O78: =IMABS(N78) -> 49.230401 | P78: =IMDIV(N78,O78) -> -0,959904288907292+0,280327943911032i | Q78: -5,68617534674816E-002 | R78: =IMABS(Q78) -> 0.056861753
J79: 86.068111 | K79: 3,62192228605763+6,98427987598623i | L79: 34,149423209878-20,8365058028793i | M79: =IMCONJUGATE(L79) -> 34,149423209878+20,8365058028793i | N79: =IMPRODUCT(M79,K79) -> -21,8414311850494+313,977334032306i | O79: =IMABS(N79) -> 314.7361 | P79: =IMDIV(N79,O79) -> -0,0693960146012007+0,9975891905777i | Q79: 0,187468303771101 | R79: =IMABS(Q79) -> 0.1874683
J80: 83.488132 | K80: 7,75928756177158-4,0578975970062i | L80: 15,7403566442526+23,8794753445715i | M80: =IMCONJUGATE(L80) -> 15,7403566442526-23,8794753445715i | N80: =IMPRODUCT(M80,K80) -> 25,2334879090924-249,160471425498i | O80: =IMABS(N80) -> 250.43496 | P80: =IMDIV(N80,O80) -> 0,100758647515676-0,994910897995801i | Q80: -0,106378046516207 | R80: =IMABS(Q80) -> 0.10637805
J81: 78.534572 | K81: 8,11561566807143+2,56586010938395i | L81: -20,0206398348812-9,39112487100112i | M81: =IMCONJUGATE(L81) -> -20,0206398348812+9,39112487100112i | N81: =IMPRODUCT(M81,K81) -> -186,576131017522+24,844599027247i | O81: =IMABS(N81) -> 188.22302 | P81: =IMDIV(N81,O81) -> -0,991250310645887+0,131995536456473i | Q81: -0,100718286059121 | R81: =IMABS(Q81) -> 0.10071829
J82: 77.915377 | K82: 6,06229507364912-9,1367985003271i | L82: 16,1978274637424-7,03285882987808i | M82: =IMCONJUGATE(L82) -> 16,1978274637424+7,03285882987808i | N82: =IMPRODUCT(M82,K82) -> 162,453823647106-105,361020241239i | O82: =IMABS(N82) -> 193.629 | P82: =IMDIV(N82,O82) -> 0,838995316615353-0,54413863922488i | Q82: 0,130918684670194 | R82: =IMABS(Q82) -> 0.13091868
J83: 80.908153 | K83: 2,51939941757163-3,82108880474226i | L83: -1,00478204628111-8,61352414951863i | M83: =IMCONJUGATE(L83) -> -1,00478204628111+8,61352414951863i | N83: =IMPRODUCT(M83,K83) -> 30,3815933949157+25,5402691537872i | O83: =IMABS(N83) -> 39.690636 | P83: =IMDIV(N83,O83) -> 0,765459983857338+0,643483498710824i | Q83: 0,156727525091083 | R83: =IMABS(Q83) -> 0.15672753
J84: 73.065015 | K84: -6,21470414452696-1,45672695624137i | L84: -2,02295808278341-29,7351025127456i | M84: =IMCONJUGATE(L84) -> -2,02295808278341+29,7351025127456i | N84: =IMPRODUCT(M84,K84) -> 55,8880113581954-181,847967253357i | O84: =IMABS(N84) -> 190.24235 | P84: =IMDIV(N84,O84) -> 0,293772708202781-0,955875303538701i | Q84: 0,156315000389278 | R84: =IMABS(Q84) -> 0.156315
J85: 71.723426 | K85: 3,74883343280933+5,33839610382992i | L85: 2,66028633571226+1,32455697162488i | M85: =IMCONJUGATE(L85) -> 2,66028633571226-1,32455697162488i | N85: =IMPRODUCT(M85,K85) -> 17,043980132787+9,23611875075028i | O85: =IMABS(N85) -> 19.385643 | P85: =IMDIV(N85,O85) -> 0,879206342183163+0,476441190352915i | Q85: -0,265469566400953 | R85: =IMABS(Q85) -> 0.26546957
J86: 64.602683 | K86: -6,85384411996956-2,02674770917345i | L86: 8,53707558780529-5,76292543662592i | M86: =IMCONJUGATE(L86) -> 8,53707558780529+5,76292543662592i | N86: =IMPRODUCT(M86,K86) -> -46,831789392396-56,8006910082665i | O86: =IMABS(N86) -> 73.617491 | P86: =IMDIV(N86,O86) -> -0,636150304621234-0,771565155985099i | Q86: 0,126075312475843 | R86: =IMABS(Q86) -> 0.12607531
J87: 61.713106 | K87: 3,95023083939967+8,43477923869404i | L87: 21,3523366853577+0,958464834560946i | M87: =IMCONJUGATE(L87) -> 21,3523366853577-0,958464834560946i | N87: =IMPRODUCT(M87,K87) -> 92,4310981553179+176,316088823297i | O87: =IMABS(N87) -> 199.07504 | P87: =IMDIV(N87,O87) -> 0,464302801093223+0,885676526107013i | Q87: 6,72481698297697E-002 | R87: =IMABS(Q87) -> 0.06724817
... J104: 72.858617 | K104: 23,4981887058873+129,915273223554i | L104: 165,770912509916+156,443524266196i | M104: =IMCONJUGATE(L104) -> 165,770912509916-156,443524266196i | N104: =IMPRODUCT(M104,K104) -> 24219,7193832037+17860,0339362225i | O104: =IMABS(N104) -> 30092.784 | P104: =IMDIV(N104,O104) -> 0,804834799595831+0,5934989008916i | Q104: -7,62575849957905E-002 | R104: =IMABS(Q104) -> 0.076257585
AC106: Purchasing managers index Europe | AD106: Short term | AE106: Long term
J107: 100 | K107: 3071,63222770049 | L107: 2729,41176470588 | M107: =IMCONJUGATE(L107) -> 2729,41176470588 | N107: =IMPRODUCT(M107,K107) -> 8383749,13913545 | O107: =IMABS(N107) -> 8383749.1 | P107: =IMDIV(N107,O107) -> 1 | Q107: 0,107378142020439 | R107: =IMABS(Q107) -> 0.10737814 | AD107: 4 | AE107: 12
J108: 100 | K108: 23,498188705887-129,915273223554i | L108: 108,16696301681-211,83423168879i | M108: =IMCONJUGATE(L108) -> 108,16696301681+211,83423168879i | N108: =IMPRODUCT(M108,K108) -> 30062,2297966625-9074,81980350116i | O108: =IMABS(N108) -> 31402.07 | P108: =IMDIV(N108,O108) -> 0,957332735555429-0,288987946866231i | Q108: 0,168820501168488 | R108: =IMABS(Q108) -> 0.1688205
J109: 100 | K109: 22,4759911368488-2,61730083468103i | L109: 89,2213933719444+6,57472484929616i | M109: =IMCONJUGATE(L109) -> 89,2213933719444-6,57472484929616i | N109: =IMPRODUCT(M109,K109) -> 1988,13121380926-381,292684783795i | O109: =IMABS(N109) -> 2024.3641 | P109: =IMDIV(N109,O109) -> 0,9821016170739-0,18835183498132i | Q109: 0,256948872555361 | R109: =IMABS(Q109) -> 0.25694887
J110: 100 | K110: -5,96307009484553-0,73554976710921i | L110: -15,089181038737-1,18826853390235i | M110: =IMCONJUGATE(L110) -> -15,089181038737+1,18826853390235i | N110: =IMPRODUCT(M110,K110) -> 90,8518748511779+4,01311503975266i | O110: =IMABS(N110) -> 90.940465 | P110: =IMDIV(N110,O110) -> 0,999025839613102+0,0441290356266202i | Q110: -3,63060562606753E-002 | R110: =IMABS(Q110) -> 0.036306056
J111: 99.480969 | K111: 11,3643852455212-17,8105990770465i | L111: 0,440165376692688-18,7834848607135i | M111: =IMCONJUGATE(L111) -> 0,440165376692688+18,7834848607135i | N111: =IMPRODUCT(M111,K111) -> 339,547327036416+205,623149158693i | O111: =IMABS(N111) -> 396.95499 | P111: =IMDIV(N111,O111) -> 0,855379911327414+0,518001165343772i | Q111: 0,276624057086689 | R111: =IMABS(Q111) -> 0.27662406
J112: 99.307958 | K112: -4,11664772898527-0,547278508847905i | L112: 9,46028743389044+1,49093579349759i | M112: =IMCONJUGATE(L112) -> 9,46028743389044-1,49093579349759i | N112: =IMPRODUCT(M112,K112) -> -39,7606278981263+0,960245448272572i | O112: =IMABS(N112) -> 39.772221 | P112: =IMDIV(N112,O112) -> -0,999708500292632+0,0241436211587251i | Q112: -0,184050896346042 | R112: =IMABS(Q112) -> 0.1840509
J113: 94.636678 | K113: 3,62192228605763+6,98427987598623i | L113: 6,31161947719556E-002-6,99981288404235i | M113: =IMCONJUGATE(L113) -> 0,0631161947719556+6,99981288404235i | N113: =IMPRODUCT(M113,K113) -> -48,6600503092304+25,7935994519409i | O113: =IMABS(N113) -> 55.07368 | P113: =IMDIV(N113,O113) -> -0,88354455318834+0,468347117564757i | Q113: -8,01778886948942E-002 | R113: =IMABS(Q113) -> 0.080177889
J114: 94.290657 | K114: 7,75928756177158-4,0578975970062i | L114: 10,1087009113435+6,28667800882923i | M114: =IMCONJUGATE(L114) -> 10,1087009113435-6,28667800882923i | N114: =IMPRODUCT(M114,K114) -> 52,9256216618768-89,8002156157667i | O114: =IMABS(N114) -> 104.23627 | P114: =IMDIV(N114,O114) -> 0,507746691715286-0,861506411498012i | Q114: 3,99793862118011E-002 | R114: =IMABS(Q114) -> 0.039979386
J115: 93.598616 | K115: 8,11561566807143+2,56586010938395i | L115: -4,15224913494808-10,3806228373703i | M115: =IMCONJUGATE(L115) -> -4,15224913494808+10,3806228373703i | N115: =IMPRODUCT(M115,K115) -> -60,3332841862892+73,5910549237152i | O115: =IMABS(N115) -> 95.161697 | P115: =IMDIV(N115,O115) -> -0,634008074568715+0,773326426149832i | Q115: 0,13857262781635 | R115: =IMABS(Q115) -> 0.13857263
J116: 92.214533 | K116: 6,06229507364912-9,1367985003271i | L116: 13,0618530466957-13,896767828509i | M116: =IMCONJUGATE(L116) -> 13,0618530466957+13,896767828509i | N116: =IMPRODUCT(M116,K116) -> 206,156774832627-35,0972121821265i | O116: =IMABS(N116) -> 209.123 | P116: =IMDIV(N116,O116) -> 0,985815871591613-0,167830471959261i | Q116: -0,161795970719176 | R116: =IMABS(Q116) -> 0.16179597
J117: 89.619377 | K117: 2,51939941757163-3,82108880474226i | L117: 2,0597187356068+1,79403263927011i | M117: =IMCONJUGATE(L117) -> 2,0597187356068-1,79403263927011i | N117: =IMPRODUCT(M117,K117) -> -1,66590385040808-12,3902529880266i | O117: =IMABS(N117) -> 12.501744 | P117: =IMDIV(N117,O117) -> -0,133253715747478-0,991081957882137i | Q117: 0,277327804400531 | R117: =IMABS(Q117) -> 0.2773278
J118: 91.349481 | K118: -6,21470414452696-1,45672695624137i | L118: 3,74183648708838+2,48087839249901i | M118: =IMCONJUGATE(L118) -> 3,74183648708838-2,48087839249901i | N118: =IMPRODUCT(M118,K118) -> -26,8683691539604+9,96709115134182i | O118: =IMABS(N118) -> 28.657498 | P118: =IMDIV(N118,O118) -> -0,937568574775501+0,347800470950565i | Q118: 9,62981025932532E-002 | R118: =IMABS(Q118) -> 0.096298103
J119: 89.619377 | K119: 3,74883343280933+5,33839610382992i | L119: 9,24841593818606-0,790405275938427i | M119: =IMCONJUGATE(L119) -> 9,24841593818606+0,790405275938427i | N119: =IMPRODUCT(M119,K119) -> 30,4512744240823+52,3348053349179i | O119: =IMABS(N119) -> 60.549252 | P119: =IMDIV(N119,O119) -> 0,502917430493552+0,864334459631087i | Q119: -0,414822345865634 | R119: =IMABS(Q119) -> 0.41482235
... J122: 85.640138 | K122: 4,27295541492956-0,884191952123359i | L122: 5,39655624573448-8,16785967308151i | M122: =IMCONJUGATE(L122) -> 5,39655624573448+8,16785967308151i | N122: =IMPRODUCT(M122,K122) -> 30,2812000211947+30,1293086168189i | O122: =IMABS(N122) -> 42.716815 | P122: =IMDIV(N122,O122) -> 0,708882433837829+0,705326658362036i | Q122: 0,138412279706472 | R122: =IMABS(Q122) -> 0.13841228
J123: 82.698962 | K123: 1,63535900141119 | L123: 0 | M123: =IMCONJUGATE(L123) -> 0 | N123: =IMPRODUCT(M123,K123) -> 0 | O123: =IMABS(N123) -> 0 | P123: 0 | Q123: -7,16543400123998E-002 | R123: =IMABS(Q123) -> 0.07165434
J124: 83.391003 | K124: 4,27295541492964+0,884191952123359i | L124: 5,39655624573461+8,16785967308159i | M124: =IMCONJUGATE(L124) -> 5,39655624573461-8,16785967308159i | N124: =IMPRODUCT(M124,K124) -> 30,2812000211957-30,1293086168198i | O124: =IMABS(N124) -> 42.716815 | P124: =IMDIV(N124,O124) -> 0,70888243383783-0,705326658362034i | Q124: -6,32053819050876E-002 | R124: =IMABS(Q124) -> 0.063205382
J125: 81.141869 | K125: 3,95023083939965-8,43477923869402i | L125: 5,25266653496459E-003+1,24042616718375i | M125: =IMCONJUGATE(L125) -> 0,00525266653496459-1,24042616718375i | N125: =IMPRODUCT(M125,K125) -> -10,4419716367588-4,94427478224446i | O125: =IMABS(N125) -> 11.553382 | P125: =IMDIV(N125,O125) -> -0,903802199326025-0,427950446305926i | Q125: -4,96349106026831E-002 | R125: =IMABS(Q125) -> 0.049634911
J126: 75.432526 | K126: -6,85384411996958+2,02674770917345i | L126: 3,5612883954443-4,96637081087898i | M126: =IMCONJUGATE(L126) -> 3,5612883954443+4,96637081087898i | N126: =IMPRODUCT(M126,K126) -> -34,4740961924867-26,8208982825587i | O126: =IMABS(N126) -> 43.678643 | P126: =IMDIV(N126,O126) -> -0,789266640982417-0,614050624486559i | Q126: 0,166320956176327 | R126: =IMABS(Q126) -> 0.16632096
J127: 67.301038 | K127: 3,74883343280932-5,33839610382991i | L127: 9,24841593818607+0,790405275938411i | M127: =IMCONJUGATE(L127) -> 9,24841593818607-0,790405275938411i | N127: =IMPRODUCT(M127,K127) -> 30,4512744240823-52,3348053349178i | O127: =IMABS(N127) -> 60.549252 | P127: =IMDIV(N127,O127) -> 0,502917430493552-0,864334459631087i | Q127: -0,203695814543632 | R127: =IMABS(Q127) -> 0.20369581
J128: 66.262976 | K128: -6,21470414452695+1,45672695624138i | L128: 3,74183648708837-2,48087839249898i | M128: =IMCONJUGATE(L128) -> 3,74183648708837+2,48087839249898i | N128: =IMPRODUCT(M128,K128) -> -26,8683691539603-9,96709115134159i | O128: =IMABS(N128) -> 28.657498 | P128: =IMDIV(N128,O128) -> -0,937568574775504-0,347800470950559i | Q128: 1,13782898699237E-002 | R128: =IMABS(Q128) -> 0.01137829
J129: 66.608997 | K129: 2,51939941757162+3,82108880474228i | L129: 2,05971873560677-1,79403263927006i | M129: =IMCONJUGATE(L129) -> 2,05971873560677+1,79403263927006i | N129: =IMPRODUCT(M129,K129) -> -1,66590385040802+12,3902529880264i | O129: =IMABS(N129) -> 12.501744 | P129: =IMDIV(N129,O129) -> -0,133253715747475+0,991081957882137i | Q129: 7,3207769968068E-003 | R129: =IMABS(Q129) -> 0.007320777
J130: 62.629758 | K130: 6,06229507364909+9,13679850032704i | L130: 13,0618530466956+13,8967678285089i | M130: =IMCONJUGATE(L130) -> 13,0618530466956-13,8967678285089i | N130: =IMPRODUCT(M130,K130) -> 206,156774832624+35,0972121821259i | O130: =IMABS(N130) -> 209.123 | P130: =IMDIV(N130,O130) -> 0,985815871591613+0,16783047195926i | Q130: 0,139526047334708 | R130: =IMABS(Q130) -> 0.13952605
J131: 66.262976 | K131: 8,11561566807143-2,56586010938395i | L131: -4,15224913494807+10,3806228373703i | M131: =IMCONJUGATE(L131) -> -4,15224913494807-10,3806228373703i | N131: =IMPRODUCT(M131,K131) -> -60,3332841862891-73,5910549237152i | O131: =IMABS(N131) -> 95.161697 | P131: =IMDIV(N131,O131) -> -0,634008074568714-0,773326426149832i | Q131: 0,131775886988674 | R131: =IMABS(Q131) -> 0.13177589
J132: 70.069204 | K132: 7,75928756177163+4,05789759700622i | L132: 10,1087009113435-6,28667800882913i | M132: =IMCONJUGATE(L132) -> 10,1087009113435+6,28667800882913i | N132: =IMPRODUCT(M132,K132) -> 52,9256216618776+89,8002156157665i | O132: =IMABS(N132) -> 104.23627 | P132: =IMDIV(N132,O132) -> 0,507746691715293+0,861506411498008i | Q132: -0,194208326077684 | R132: =IMABS(Q132) -> 0.19420833
J133: 75.951557 | K133: 3,6219222860576-6,98427987598622i | L133: 6,31161947718898E-002+6,99981288404241i | M133: =IMCONJUGATE(L133) -> 0,0631161947718898-6,99981288404241i | N133: =IMPRODUCT(M133,K133) -> -48,660050309231-25,7935994519405i | O133: =IMABS(N133) -> 55.07368 | P133: =IMDIV(N133,O133) -> -0,883544553188345-0,468347117564747i | Q133: -0,114556424139201 | R133: =IMABS(Q133) -> 0.11455642
J134: 76.816609 | K134: -4,11664772898529+0,54727850884788i | L134: 9,46028743389036-1,49093579349765i | M134: =IMCONJUGATE(L134) -> 9,46028743389036+1,49093579349765i | N134: =IMPRODUCT(M134,K134) -> -39,7606278981262-0,960245448273129i | O134: =IMABS(N134) -> 39.772221 | P134: =IMDIV(N134,O134) -> -0,999708500292632-0,0241436211587392i | Q134: -0,214653272123178 | R134: =IMABS(Q134) -> 0.21465327
J135: 81.314879 | K135: 11,3643852455212+17,8105990770465i | L135: 0,440165376692725+18,7834848607135i | M135: =IMCONJUGATE(L135) -> 0,440165376692725-18,7834848607135i | N135: =IMPRODUCT(M135,K135) -> 339,547327036417-205,623149158692i | O135: =IMABS(N135) -> 396.95499 | P135: =IMDIV(N135,O135) -> 0,855379911327416-0,518001165343769i | Q135: -3,1182250774844E-002 | R135: =IMABS(Q135) -> 0.031182251
... J138: 91.00346 | K138: 23,4981887058873+129,915273223554i | L138: 108,16696301681+211,83423168879i | M138: =IMCONJUGATE(L138) -> 108,16696301681-211,83423168879i | N138: =IMPRODUCT(M138,K138) -> 30062,2297966625+9074,81980350109i | O138: =IMABS(N138) -> 31402.07 | P138: =IMDIV(N138,O138) -> 0,957332735555429+0,288987946866229i | Q138: 0,307085769436209 | R138: =IMABS(Q138) -> 0.30708577
AC140: Baltic index | AD140: Short term | AE140: Long term
J141: 127.70799 | K141: 3071,63222770049 | L141: 4146,66982697322 | M141: =IMCONJUGATE(L141) -> 4146,66982697322 | N141: =IMPRODUCT(M141,K141) -> 12737044,6781642 | O141: =IMABS(N141) -> 12737045 | P141: =IMDIV(N141,O141) -> 1 | Q141: 0,190336619256798 | R141: =IMABS(Q141) -> 0.19033662 | AD141: 4
J142: 148.25788 | K142: 23,498188705887-129,915273223554i | L142: -265,759813083972-1515,84513829678i | M142: =IMCONJUGATE(L142) -> -265,759813083972+1515,84513829678i | N142: =IMPRODUCT(M142,K142) -> 190686,561068134+70145,873837244i | O142: =IMABS(N142) -> 203179.25 | P142: =IMDIV(N142,O142) -> 0,938513946575798+0,345241324413403i | Q142: 0,156935199140883 | R142: =IMABS(Q142) -> 0.1569352 | AE142: 20
J143: 141.81086 | K143: 22,4759911368488-2,61730083468103i | L143: 120,448519560947+294,113920587748i | M143: =IMCONJUGATE(L143) -> 120,448519560947-294,113920587748i | N143: =IMPRODUCT(M143,K143) -> 1937,41524825278-6925,75188313703i | O143: =IMABS(N143) -> 7191.6352 | P143: =IMDIV(N143,O143) -> 0,269398431890808-0,963028807925689i | Q143: 0,460656799352307 | R143: =IMABS(Q143) -> 0.4606568
J144: 148.80303 | K144: -5,96307009484553-0,73554976710921i | L144: -496,560350451192-241,321435312295i | M144: =IMCONJUGATE(L144) -> -496,560350451192+241,321435312295i | N144: =IMPRODUCT(M144,K144) -> 3138,52810160394-1073,7717840259i | O144: =IMABS(N144) -> 3317.129 | P144: =IMDIV(N144,O144) -> 0,946158001806171-0,323705167734706i | Q144: -3,18508468685311E-002 | R144: =IMABS(Q144) -> 0.031850847
J145: 165.75018 | K145: 11,3643852455212-17,8105990770465i | L145: 317,038746378233+184,719271348892i | M145: =IMCONJUGATE(L145) -> 317,038746378233-184,719271348892i | N145: =IMPRODUCT(M145,K145) -> 312,989567800051-7745,87096551291i | O145: =IMABS(N145) -> 7752.1919 | P145: =IMDIV(N145,O145) -> 0,0403743317038391-0,999184624250928i | Q145: 0,276311115314299 | R145: =IMABS(Q145) -> 0.27631112
J146: 182.55511 | K146: -4,11664772898527-0,547278508847905i | L146: 66,6769027969799-326,905246482841i | M146: =IMCONJUGATE(L146) -> 66,6769027969799+326,905246482841i | N146: =IMPRODUCT(M146,K146) -> -95,5771046452728-1382,24457646429i | O146: =IMABS(N146) -> 1385.545 | P146: =IMDIV(N146,O146) -> -0,0689815935459876-0,997617932753745i | Q146: -6,696246675478E-002 | R146: =IMABS(Q146) -> 0.066962467
J147: 226.04883 | K147: 3,62192228605763+6,98427987598623i | L147: 40,790213944951-147,688257234213i | M147: =IMCONJUGATE(L147) -> 40,790213944951+147,688257234213i | N147: =IMPRODUCT(M147,K147) -> -883,757137980115+819,805660658502i | O147: =IMABS(N147) -> 1205.4493 | P147: =IMDIV(N147,O147) -> -0,73313505798031+0,680083073425745i | Q147: -0,263959217126224 | R147: =IMABS(Q147) -> 0.26395922
J148: 250.79403 | K148: 7,75928756177158-4,0578975970062i | L148: 75,432254065985+68,5016943330773i | M148: =IMCONJUGATE(L148) -> 75,432254065985-68,5016943330773i | N148: =IMPRODUCT(M148,K148) -> 307,327689905544-837,620707310047i | O148: =IMABS(N148) -> 892.22125 | P148: =IMDIV(N148,O148) -> 0,344452331786364-0,938803808645308i | Q148: 4,94610068993282E-002 | R148: =IMABS(Q148) -> 0.049461007
J149: 242.00047 | K149: 8,11561566807143+2,56586010938395i | L149: 42,6167338231808-10,5238208106184i | M149: =IMCONJUGATE(L149) -> 42,6167338231808+10,5238208106184i | N149: =IMPRODUCT(M149,K149) -> 318,858380721165+194,755862367764i | O149: =IMABS(N149) -> 373.63152 | P149: =IMDIV(N149,O149) -> 0,853403322490868+0,521251157467826i | Q149: -5,34226040228429E-003 | R149: =IMABS(Q149) -> 0.0053422604
J150: 216.71012 | K150: 6,06229507364912-9,1367985003271i | L150: 20,7606641269583+18,0357390814275i | M150: =IMCONJUGATE(L150) -> 20,7606641269583-18,0357390814275i | N150: =IMPRODUCT(M150,K150) -> -38,9316419289343-299,023977043946i | O150: =IMABS(N150) -> 301.54769 | P150: =IMDIV(N150,O150) -> -0,12910608417561-0,991630787656797i | Q150: 0,177560988188435 | R150: =IMABS(Q150) -> 0.17756099
J151: 145.60322 | K151: 2,51939941757163-3,82108880474226i | L151: -43,7943417187248-92,140588617826i | M151: =IMCONJUGATE(L151) -> -43,7943417187248+92,140588617826i | N151: =IMPRODUCT(M151,K151) -> 241,741932610849+399,481014150934i | O151: =IMABS(N151) -> 466.93066 | P151: =IMDIV(N151,O151) -> 0,517725548015834+0,85554675905628i | Q151: -1,25562838302905E-002 | R151: =IMABS(Q151) -> 0.012556284
J152: 180.4456 | K152: -6,21470414452696-1,45672695624137i | L152: 91,5877037153704+44,8978862771421i | M152: =IMCONJUGATE(L152) -> 91,5877037153704-44,8978862771421i | N152: =IMPRODUCT(M152,K152) -> -634,594443085792+145,608803064627i | O152: =IMABS(N152) -> 651.08527 | P152: =IMDIV(N152,O152) -> -0,974671784009086+0,223640142766332i | Q152: -0,100306861050522 | R152: =IMABS(Q152) -> 0.10030686
J153: 187.01114 | K153: 3,74883343280933+5,33839610382992i | L153: -7,77114742113406-97,4328974114772i | M153: =IMCONJUGATE(L153) -> -7,77114742113406+97,4328974114772i | N153: =IMPRODUCT(M153,K153) -> -549,268137189928+323,774240156357i | O153: =IMABS(N153) -> 637.59332 | P153: =IMDIV(N153,O153) -> -0,861470968492425+0,507806823944621i | Q153: -3,72370679912162E-002 | R153: =IMABS(Q153) -> 0.037237068
J154: 223.726 | K154: -6,85384411996956-2,02674770917345i | L154: -53,0787669418508+38,2914433116164i | M154: =IMCONJUGATE(L154) -> -53,0787669418508-38,2914433116164i | N154: =IMPRODUCT(M154,K154) -> 286,186499686875+370,020852891617i | O154: =IMABS(N154) -> 467.78002 | P154: =IMDIV(N154,O154) -> 0,611797189638886+0,791014664054948i | Q154: -0,10898951729605 | R154: =IMABS(Q154) -> 0.10898952
... J172: 71.415027 | K172: 23,4981887058873+129,915273223554i | L172: -265,759813083967+1515,84513829678i | M172: =IMCONJUGATE(L172) -> -265,759813083967-1515,84513829678i | N172: =IMPRODUCT(M172,K172) -> 190686,561068134-70145,8738372438i | O172: =IMABS(N172) -> 203179.25 | P172: =IMDIV(N172,O172) -> 0,938513946575798-0,345241324413402i | Q172: 8,94091350835717E-002 | R172: =IMABS(Q172) -> 0.089409135
AC174: Semicon index | AD174: Short term | AE174: Long term
J175: 100.98267 | K175: 3071,63222770049 | L175: 2453,62533866598 | M175: =IMCONJUGATE(L175) -> 2453,62533866598 | N175: =IMPRODUCT(M175,K175) -> 7536634,66494895 | O175: =IMABS(N175) -> 7536634.7 | P175: =IMDIV(N175,O175) -> 1 | Q175: 0,383676979040908 | R175: =IMABS(Q175) -> 0.38367698 | AD175: 5 | AE175: 12
...

Sheet 3 Data to create model
A1: Month | B1: Contract Logistics (Global) | C1: Purchasing managers index Europe-12 | D1: Economic sentiment (Europe) -12 | E1: Semicon index -12 | F1: Baltic index-12 | G1: Economic sentiment (Univ. of Michigan)-12 | H1: ECRI weekly (USA)-12
A2: 39448 | B2: 102.8046 | C2: 100 | D2: 100 | E2: 100 | F2: 100 | G2: 100 | H2: 100
A3: 39479 | B3: 102.63274 | C3: 100 | D3: 101.18074 | E3: 99.460285 | F3: 114.19768 | G3: 94.220846 | H3: 99.986793
A4: 39508 | B4: 97.285005 | C4: 100 | D4: 102.7248 | E4: 100.98267 | F4: 127.70799 | G4: 91.22807 | H4: 99.747802
A5: 39539 | B5: 98.778128 | C5: 100 | D5: 102.45232 | E5: 100.08386 | F5: 148.25788 | G5: 89.886481 | H5: 101.55703
A6: 39569 | B6: 97.062694 | C6: 100 | D6: 103.81471 | E6: 106.25081 | F6: 141.81086 | G6: 91.124871 | H6: 101.91307
A7: 39600 | B7: 98.586431 | C7: 100 | D7: 103.81471 | E7: 105.35845 | F7: 148.80303 | G7: 88.028896 | H7: 101.73114
A8: 39630 | B8: 98.374107 | C8: 99.480969 | D8: 102.27066 | E8: 108.6763 | F8: 165.75018 | G8: 93.292054 | H8: 101.1381
A9: 39661 | B9: 93.51704 | C9: 99.307958 | D9: 102.17984 | E9: 107.71083 | F9: 182.55511 | G9: 86.068111 | H9: 99.246597
A10: 39692 | B10: 94.302961 | C10: 94.636678 | D10: 100.18165 | E10: 109.31708 | F10: 226.04883 | G10: 86.068111 | H10: 99.515847
A11: 39722 | B11: 91.581054 | C11: 94.290657 | D11: 99.182561 | E11: 108.80747 | F11: 250.79403 | G11: 83.488132 | H11: 99.576246
A12: 39753 | B12: 88.197169 | C12: 93.598616 | D12: 97.456857 | E12: 97.875543 | F12: 242.00047 | G12: 78.534572 | H12: 98.477546
A13: 39783 | B13: 86.356622 | C13: 92.214533 | D13: 96.639419 | E13: 89.231497 | F13: 216.71012 | G13: 77.915377 | H13: 96.012231
... A23: 40087 | B23: 96.015603 | C23: 75.432526 | D23: 72.388738 | E23: 62.045758 | F23: 20.170657 | G23: 58.410733 | H23: 78.563072
A24: 40118 | C24: 67.301038 | D24: 66.757493 | E24: 53.264095 | F24: 16.591609 | G24: 57.069143 | H24: 77.801439
A25: 40148 | C25: 66.262976 | D25: 60.490463 | E25: 39.401368 | F25: 18.34558 | G25: 62.022704 | H25: 77.477376
A26: 40179 | C26: 66.608997 | D26: 57.402361 | E26: 47.716424 | F26: 25.36146 | G26: 63.157895 | H26: 76.562908
A27: 40210 | C27: 62.629758 | D27: 55.313351 | E27: 45.267277 | F27: 47.072766 | G27: 58.101135 | H27: 75.243971
A28: 40238 | C28: 66.262976 | D28: 54.768392 | E28: 40.633467 | F28: 37.307419 | G28: 59.133127 | H28: 76.089228
A29: 40269 | C29: 70.069204 | D29: 58.038147 | E29: 50.288135 | F29: 42.427115 | G29: 63.880289 | H29: 76.445785
A30: 40299 | C30: 75.951557 | D30: 60.58129 | E30: 55.517568 | F30: 74.994074 | G30: 70.897833 | H30: 79.226928
A31: 40330 | C31: 76.816609 | D31: 64.577657 | E31: 58.338709 | F31: 96.468357 | G31: 73.065015 | H31: 82.293317
A32: 40360 | C32: 81.314879 | D32: 68.119891 | E32: 56.584097 | F32: 79.284191 | G32: 68.111455 | H32: 84.432658
A33: 40391 | C33: 86.50519 | D33: 73.478656 | E33: 66.055993 | F33: 57.383266 | G33: 65.221878 | H33: 89.139208
A34: 40422 | C34: 88.062284 | D34: 75.022707 | E34: 64.21537 | F34: 52.619104 | G34: 75.851393 | H34: 91.207238
A35: 40452 | C35: 91.00346 | D35: 78.110808 | E35: 66.651615 | F35: 71.415027 | G35: 72.858617 | H35: 91.563795

Sheet 4 Regression on all vars
A1: SUMMARY OUTPUT
A3: Regression Statistics
A4: Multiple R | B4: 0.92689768
A5: R Square | B5: 0.85913931
A6: Adjusted R Square | B6: 0.80279504
A7: Standard Error | B7: 2.3359058
A8: Observations | B8: 22
A10: ANOVA
B11: df | C11: SS | D11: MS | E11: F | F11: Significance F
A12: Regression | B12: 6 | C12: 499.20128 | D12: 83.200213 | E12: 15.248032 | F12: 1.2790295e-05
A13: Residual | B13: 15 | C13: 81.846836 | D13: 5.4564557
A14: Total | B14: 21 | C14: 581.04811
B16: Coefficients | C16: Standard Error | D16: t Stat | E16: P-value | F16: Lower 95% | G16: Upper 95% | H16: Lower 95,0% | I16: Upper 95,0%
A17: Intercept | B17: 52.468288 | C17: 20.406019 | D17: 2.5712162 | E17: 0.021282861 | F17: 8.9738879 | G17: 95.962687 | H17: 8.9738879 | I17: 95.962687
A18: Purchasing managers index Europe-12 | B18: 1.1937306 | C18: 0.54125361 | D18: 2.2054922 | E18: 0.043437709 | F18: 0.04007588 | G18: 2.3473854 | H18: 0.04007588 | I18: 2.3473854
A19: Economic sentiment (Europe) -12 | B19: -1.1973965 | C19: 0.34783849 | D19: -3.442392 | E19: 0.0036280447 | F19: -1.9387967 | G19: -0.45599627 | H19: -1.9387967 | I19: -0.45599627
A20: Semicon index -12 | B20: 0.30533515 | C20: 0.099784798 | D20: 3.0599365 | E20: 0.0079408611 | F20: 0.092648888 | G20: 0.51802141 | H20: 0.092648888 | I20: 0.51802141
A21: Baltic index-12 | B21: -0.05488099 | C21: 0.022373159 | D21: -2.4529835 | E21: 0.026883325 | F21: -0.10256825 | G21: -0.0071937299 | H21: -0.10256825 | I21: -0.0071937299
A22: Economic sentiment (Univ. of Michigan)-12 | B22: -0.057071679 | C22: 0.14887003 | D22: -0.38336581 | E22: 0.70682728 | F22: -0.37438063 | G22: 0.26023727 | H22: -0.37438063 | I22: 0.26023727
A23: ECRI weekly (USA)-12 | B23: 0.3047103 | C23: 0.54806042 | D23: 0.5559794 | E23: 0.58642326 | F23: -0.86345282 | G23: 1.4728734 | H23: -0.86345282 | I23: 1.4728734
A27: RESIDUAL OUTPUT | F27: PROBABILITY OUTPUT
A29: Observation | B29: Predicted Contract Logistics (Global) | C29: Residuals | D29: Standard Residuals | F29: Percentile | G29: Contract Logistics (Global)
A30: 1 | B30: 101.91098 | C30: 0.89361311 | D30: 0.45264552 | F30: 2.2727273 | G30: 85.512899
A31: 2 | B31: 99.878988 | C31: 2.7537524 | D31: 1.3948695 | F31: 6.8181818 | G31: 86.356622
A32: 3 | B32: 97.851505 | C32: -0.56649994 | D32: -0.28695154 | F32: 11.363636 | G32: 86.473718
A33: 4 | B33: 97.403392 | C33: 1.3747362 | D33: 0.69635078 | F33: 15.909091 | G33: 87.05021
A34: 5 | B34: 98.046677 | C34: -0.98398323 | D34: -0.49842107 | F34: 20.454545 | G34: 88.197169
A35: 6 | B35: 97.511729 | C35: 1.0747024 | D35: 0.54437341 | F35: 25 | G35: 88.315947
A36: 7 | B36: 98.342884 | C36: 0.031223305 | D36: 0.015815669 | F36: 29.545455 | G36: 89.339045
A37: 8 | B37: 96.863972 | C37: -3.3469327 | D37: -1.6953356 | F37: 34.090909 | G37: 89.753723
A38: 9 | B38: 91.865847 | C38: 2.4371133 | D38: 1.234481 | F38: 38.636364 | G38: 91.187337
A39: 10 | B39: 91.301105 | C39: 0.2799486 | D39: 0.14180352 | F39: 43.181818 | G39: 91.581054
A40: 11 | B40: 89.633967 | C40: -1.4367983 | D40: -0.72778734 | F40: 47.727273 | G40: 92.279802
A41: 12 | B41: 86.993303 | C41: -0.63668083 | D41: -0.32250056 | F41: 52.272727 | G41: 92.879596
... A51: 22 | B51: 94.27953 | C51: 1.7360722 | D51: 0.87937977 | F51: 97.727273 | G51: 102.8046

Sheet 5a Regression on relevant vars
A1: SUMMARY OUTPUT
A3: Regression Statistics
A4: Multiple R | B4: 0.92502012
A5: R Square | B5: 0.85566222
A6: Adjusted R Square | B6: 0.82170039
A7: Standard Error | B7: 2.2211178
A8: Observations | B8: 22
A10: ANOVA
B11: df | C11: SS | D11: MS | E11: F | F11: Significance F
A12: Regression | B12: 4 | C12: 497.18092 | D12: 124.29523 | E12: 25.194821 | F12: 5.921066e-07
A13: Residual | B13: 17 | C13: 83.867193 | D13: 4.9333643
A14: Total | B14: 21 | C14: 581.04811
B16: Coefficients | C16: Standard Error | D16: t Stat | E16: P-value | F16: Lower 95% | G16: Upper 95% | H16: Lower 95,0% | I16: Upper 95,0%
A17: Intercept | B17: 63.173777 | C17: 9.3215736 | D17: 6.777158 | E17: 3.229424e-06 | F17: 43.506976 | G17: 82.840578 | H17: 43.506976 | I17: 82.840578
A18: Purchasing managers index Europe-12 | B18: 1.394784 | C18: 0.35453438 | D18: 3.9341289 | E18: 0.0010695183 | F18: 0.64678181 | G18: 2.1427861 | H18: 0.64678181 | I18: 2.1427861
A19: Economic sentiment (Europe) -12 | B19: -1.2790834 | C19: 0.30238708 | D19: -4.2299538 | E19: 0.00056397621 | F19: -1.9170643 | G19: -0.6411024 | H19: -1.9170643 | I19: -0.6411024
A20: Semicon index -12 | B20: 0.31806837 | C20: 0.080182187 | D20: 3.9668209 | E20: 0.00099633333 | F20: 0.14889875 | G20: 0.487238 | H20: 0.14889875 | I20: 0.487238
A21: Baltic index-12 | B21: -0.043170208 | C21: 0.0096266931 | D21: -4.4844276 | E21: 0.00032644607 | F21: -0.063480754 | G21: -0.022859661 | H21: -0.063480754 | I21: -0.022859661
A22: Prediction model | B22: =B17 -> 63.173777 | C22: + | D22: =B18 -> 1.394784 | E22: =CONCATENATE("*",A18) -> *Purchasing managers index Europe-12 | F22: =B19 -> -1.2790834 | G22: =CONCATENATE("*",A19) -> *Economic sentiment (Europe) -12 | H22: + | I22: =B20 -> 0.31806837 | J22: =+CONCATENATE("*",A20) -> *Semicon index -12 | K22: =B21 -> -0.043170208 | L22: =CONCATENATE("*",A21) -> *Baltic index-12
A25: RESIDUAL OUTPUT | F25: PROBABILITY OUTPUT
A27: Observation | B27: Predicted Contract Logistics (Global) | C27: Residuals | D27: Standard Residuals | F27: Percentile | G27: Contract Logistics (Global)
A28: 1 | B28: 102.23365 | C28: 0.57094326 | D28: 0.28569757 | F28: 2.2727273 | G28: 85.512899
A29: 2 | B29: 99.938799 | C29: 2.693942 | D29: 1.348037 | F29: 6.8181818 | G29: 86.356622
A30: 3 | B30: 97.864808 | C30: -0.57980298 | D30: -0.29013094 | F30: 11.363636 | G30: 86.473718
A31: 4 | B31: 97.040307 | C31: 1.7378213 | D31: 0.86959833 | F31: 15.909091 | G31: 87.05021
A32: 5 | B32: 97.537516 | C32: -0.4748222 | D32: -0.237599 | F32: 20.454545 | G32: 88.197169
A33: 6 | B33: 96.951832 | C33: 1.6345998 | D33: 0.81794677 | F33: 25 | G33: 88.315947
A34: 7 | B34: 98.526557 | C34: -0.15245004 | D34: -0.07628535 | F34: 29.545455 | G34: 89.339045
A35: 8 | B35: 97.368863 | C35: -3.8518231 | D35: -1.9274358 | F35: 34.090909 | G35: 89.753723
A36: 9 | B36: 92.042542 | C36: 2.2604188 | D36: 1.1311039 | F36: 38.636364 | G36: 91.187337
A37: 10 | B37: 91.607492 | C37: -0.026438562 | D37: -0.013229744 | F37: 43.181818 | G37: 91.581054
A38: 11 | B38: 89.752084 | C38: -1.5549149 | D38: -0.77807276 | F38: 47.727273 | G38: 92.279802
A39: 12 | B39: 87.209551 | C39: -0.85292907 | D39: -0.42680206 | F39: 52.272727 | G39: 92.879596
... A49: 22 | B49: 94.658646 | C49: 1.3569565 | D49: 0.67901526 | F49: 97.727273 | G49: 102.8046

Sheet 5b forecast 4 Months
A1: SUMMARY OUTPUT
A3: Regression Statistics
A4: Multiple R | B4: 0.95506423
A5: R Square | B5: 0.91214768
A6: Adjusted R Square | B6: 0.89686902
A7: Standard Error | B7: 2.0171711
A8: Observations | B8: 28
A10: ANOVA
B11: df | C11: SS | D11: MS | E11: F | F11: Significance F
A12: Regression | B12: 4 | C12: 971.68445 | D12: 242.92111 | E12: 59.700749 | F12: 8.1935229e-12
A13: Residual | B13: 23 | C13: 93.586523 | D13: 4.0689793
A14: Total | B14: 27 | C14: 1065.271
B16: Coefficients | C16: Standard Error | D16: t Stat | E16: P-value | F16: Lower 95% | G16: Upper 95% | H16: Lower 95,0% | I16: Upper 95,0%
A17: Intercept | B17: 47.690644 | C17: 4.723204 | D17: 10.097096 | E17: 6.3685261e-10 | F17: 37.919952 | G17: 57.461336 | H17: 37.919952 | I17: 57.461336
A18: Economic sentiment (Europe) -4 | B18: -0.60846664 | C18: 0.12110458 | D18: -5.0243073 | E18: 4.3916429e-05 | F18: -0.85899055 | G18: -0.35794272 | H18: -0.85899055 | I18: -0.35794272
A19: Purchasing managers index Europe-4 | B19: 0.67767032 | C19: 0.15100677 | D19: 4.4876816 | E19: 0.00016692126 | F19: 0.36528901 | G19: 0.99005163 | H19: 0.36528901 | I19: 0.99005163
A20: Baltic index-4 | B20: 0.021147326 | C20: 0.0086773854 | D20: 2.4370619 | E20: 0.022955907 | F20: 0.0031967864 | G20: 0.039097865 | H20: 0.0031967864 | I20: 0.039097865
A21: Economic sentiment (Univ. of Michigan)-6 | B21: 0.50865883 | C21: 0.067950096 | D21: 7.4857706 | E21: 1.3151941e-07 | F21: 0.36809335 | G21: 0.64922431 | H21: 0.36809335 | I21: 0.64922431
A25: RESIDUAL OUTPUT | F25: PROBABILITY OUTPUT
A27: Observation | B27: Predicted Contract Logistics (Global) | C27: Residuals | D27: Standard Residuals | F27: Percentile | G27: Contract Logistics (Global)
A28: 1 | B28: 106.51963 | C28: -0.78009424 | D28: -0.41900798 | F28: 1.7857143 | G28: 85.512899
A29: 2 | B29: 104.18038 | C29: -2.0378381 | D29: -1.0945734 | F29: 5.3571429 | G29: 86.356622
A30: 3 | B30: 101.69277 | C30: -0.80566321 | D30: -0.43274171 | F30: 8.9285714 | G30: 86.473718
A31: 4 | B31: 101.15822 | C31: 1.2985546 | D31: 0.69748589 | F31: 12.5 | G31: 87.05021
A32: 5 | B32: 102.7343 | C32: 1.1273754 | D32: 0.60554133 | F32: 16.071429 | G32: 88.197169
A33: 6 | B33: 101.45291 | C33: 2.0121388 | D33: 1.0807697 | F33: 19.642857 | G33: 88.315947
A34: 7 | B34: 103.10007 | C34: -0.29547705 | D34: -0.15870806 | F34: 23.214286 | G34: 89.339045
A35: 8 | B35: 100.32227 | C35: 2.3104688 | D35: 1.2410101 | F35: 26.785714 | G35: 89.753723
A36: 9 | B36: 100.71737 | C36: -3.4323637 | D36: -1.8436078 | F36: 30.357143 | G36: 91.187337
A37: 10 | B37: 98.429649 | C37: 0.34847924 | D37: 0.18717685 | F37: 33.928571 | G37: 91.581054
A38: 11 | B38: 93.863424 | C38: 3.1992703 | D38: 1.7184075 | F38: 37.5 | G38: 92.279802
A39: 12 | B39: 97.005145 | C39: 1.5812861 | D39: 0.84934804 | F39: 41.071429 | G39: 92.879596
... A55: 28 | B55: 94.986951 | C55: 1.0286515 | D55: 0.55251426 | F55: 98.214286 | G55: 105.73954

Sheet 6 Forecast 12 months
A1: Month | B1: Actual Contract Logistics (Global) | C1: Purchasing managers index Europe-12 | D1: Economic sentiment (Europe) -12 | E1: Semicon index -12 | F1: Baltic index-12 | G1: Economic sentiment (Univ. of Michigan)-12 | H1: ECRI weekly (USA)-12 | I1: Contract Logistic forecast current month (= best fit) | J1: Year ahead forecast (= prediction!) | K1: Purchasing managers index Europe | L1: Economic sentiment (Europe) | M1: Semicon index | N1: Baltic index | O1: Economic sentiment (Univ. of Michigan) | P1: ECRI weekly (USA) | Q1: ECRI weekly (USA)-1 | R1: Economic sentiment (Europe) -1 | S1: Economic sentiment (Univ. of Michigan)-1 | T1: Purchasing managers index Europe-1 | U1: Baltic index-1 | V1: Semicon index -1 | W1: ECRI weekly (USA)-2 | X1: Economic sentiment (Europe) -2 | Y1: Economic sentiment (Univ. of Michigan)-2 | Z1: Purchasing managers index Europe-2 | AA1: Baltic index-2 | AB1: Semicon index -2 | AC1: ECRI weekly (USA)-3 | AD1: Economic sentiment (Europe) -3 | AE1: Economic sentiment (Univ. of Michigan)-3 | AF1: Baltic index-3 | AG1: ECRI weekly (USA)-4 | AH1: Economic sentiment (Europe) -4 | AI1: Economic sentiment (Univ. of Michigan)-4 | AJ1: Baltic index-4 | AK1: Semicon index -4 | AL1: ECRI weekly (USA)-5 | AM1: Economic sentiment (Europe) -5 | AN1: Economic sentiment (Univ. of Michigan)-5 | AO1: Purchasing managers index Europe-5 | AP1: Baltic index-5 | AQ1: Semicon index -5 | AR1: ECRI weekly (USA)-6 | AS1: Economic sentiment (Europe) -6 | AT1: Economic sentiment (Univ. of Michigan)-6 | AU1: Purchasing managers index Europe-6 | AV1: Baltic index-6 | AW1: Semicon index -6 | AX1: ECRI weekly (USA)-7 | AY1: Economic sentiment (Europe) -7 | AZ1: Purchasing managers index Europe-7 | BA1: Baltic index-7 | BB1: Semicon index -7 | BC1: ECRI weekly (USA)-8 | BD1: Economic sentiment (Europe) -8 | BE1: Economic sentiment (Univ. of Michigan)-8 | BF1: Purchasing managers index Europe-8 | BG1: Baltic index-8 | BH1: Semicon index -8 | BI1: ECRI weekly (USA)-9 | BJ1: Economic sentiment (Europe) -9 | BK1: Economic sentiment (Univ. of Michigan)-9 | BL1: Purchasing managers index Europe-9 | BM1: Baltic index-9 | BN1: Semicon index -9 | BO1: ECRI weekly (USA)-10 | BP1: Economic sentiment (Europe) -10 | BQ1: Economic sentiment (Univ. of Michigan)-10 | BR1: Purchasing managers index Europe-10 | BS1: Baltic index-10 | BT1: Semicon index -10 | BU1: ECRI weekly (USA)-11 | BV1: Economic sentiment (Europe) -11 | BW1: Economic sentiment (Univ. of Michigan)-11 | BX1: Purchasing managers index Europe-11 | BY1: Baltic index-11 | BZ1: Semicon index -11
A2: 39083 | B2: 100 | C2: 100 | D2: 100 | E2: 100 | F2: 100 | G2: 100 | H2: 100 | I2: ='5a Regression on relevant vars'!$B$17+'5a Regression on relevant vars'!$B$18*'6 Forecast 12 months'!C2+'5a Regression on relevant vars'!$B$19*'6 Forecast 12 months'!D2+'5a Regression on relevant vars'!$B$20*'6 Forecast 12 months'!E2+'5a Regression on relevant vars'!$B$21*'6 Forecast 12 months'!F2 -> 102.23365 | J2: ='5a Regression on relevant vars'!$B$17+'5a Regression on relevant vars'!$B$18*'6 Forecast 12 months'!K2+'5a Regression on relevant vars'!$B$19*'6 Forecast 12 months'!L2+'5a Regression on relevant vars'!$B$20*'6 Forecast 12 months'!M2+'5a Regression on relevant vars'!$B$21*'6 Forecast 12 months'!N2 -> 102.23365 | K2: 100 | L2: 100 | M2: 100 | N2: 100 | O2: 100 | P2: 100 | Q2: 100 | R2: 100 | S2: 100 | T2: 100 | U2: 100 | V2: 100 | W2: 100 | X2: 100 | Y2: 100 | Z2: 100 | AA2: 100 | AB2: 100 | AC2: 100 | AD2: 100 | AE2: 100 | AF2: 100 | AG2: 100 | AH2: 100 | AI2: 100 | AJ2: 100 | AK2: 100 | AL2: 100 | AM2: 100 | AN2: 100 | AO2: 100 | AP2: 100 | AQ2: 100 | AR2: 100 | AS2: 100 | AT2: 100 | AU2: 100 | AV2: 100 | AW2: 100 | AX2: 100 | AY2: 100 | AZ2: 100 | BA2: 100 | BB2: 100 | BC2: 100 | BD2: 100 | BE2: 100 | BF2: 100 | BG2: 100 | BH2: 100 | BI2: 100 | BJ2: 100 | BK2: 100 | BL2: 100 | BM2: 100 | BN2: 100 | BO2: 100 | BP2: 100 | BQ2: 100 | BR2: 100 | BS2: 100 | BT2: 100 | BU2: 100 | BV2: 100 | BW2: 100 | BX2: 100 | BY2: 100 | BZ2: 100
A3: 39114 | B3: 100.51025 | C3: 100 | D3: 100 | E3: 100 | F3: 100 | G3: 100 | H3: 100 | I3: ='5a Regression on relevant vars'!$B$17+'5a Regression on relevant vars'!$B$18*'6 Forecast 12 months'!C3+'5a Regression on relevant vars'!$B$19*'6 Forecast 12 months'!D3+'5a Regression on relevant vars'!$B$20*'6 Forecast 12 months'!E3+'5a Regression on relevant vars'!$B$21*'6 Forecast 12 months'!F3 -> 102.23365 | J3: ='5a Regression on relevant vars'!$B$17+'5a Regression on relevant vars'!$B$18*'6 Forecast 12 months'!K3+'5a Regression on relevant vars'!$B$19*'6 Forecast 12 months'!L3+'5a Regression on relevant vars'!$B$20*'6 Forecast 12 months'!M3+'5a Regression on relevant vars'!$B$21*'6 Forecast 12 months'!N3 -> 99.938799 | K3: 100 | L3: 101.18074 | M3: 99.460285 | N3: 114.19768 | O3: 94.220846 | P3: 99.986793 | Q3: 100 | R3: 100 | S3: 100 | T3: 100 | U3: 100 | V3: 100 | W3: 100 | X3: 100 | Y3: 100 | Z3: 100 | AA3: 100 | AB3: 100 | AC3: 100 | AD3: 100 | AE3: 100 | AF3: 100 | AG3: 100 | AH3: 100 | AI3: 100 | AJ3: 100 | AK3: 100 | AL3: 100 | AM3: 100 | AN3: 100 | AO3: 100 | AP3: 100 | AQ3: 100 | AR3: 100 | AS3: 100 | AT3: 100 | AU3: 100 | AV3: 100 | AW3: 100 | AX3: 100 | AY3: 100 | AZ3: 100 | BA3: 100 | BB3: 100 | BC3: 100 | BD3: 100 | BE3: 100 | BF3: 100 | BG3: 100 | BH3: 100 | BI3: 100 | BJ3: 100 | BK3: 100 | BL3: 100 | BM3: 100 | BN3: 100 | BO3: 100 | BP3: 100 | BQ3: 100 | BR3: 100 | BS3: 100 | BT3: 100 | BU3: 100 | BV3: 100 | BW3: 100 | BX3: 100 | BY3: 100 | BZ3: 100
A4: 39142 | B4: 100.67966 | C4: 100 | D4: 100 | E4: 100 | F4: 100 | G4: 100 | H4: 100 | I4: ='5a Regression on relevant vars'!$B$17+'5a Regression on relevant vars'!$B$18*'6 Forecast 12 months'!C4+'5a Regression on relevant vars'!$B$19*'6 Forecast 12 months'!D4+'5a Regression on relevant vars'!$B$20*'6 Forecast 12 months'!E4+'5a Regression on relevant vars'!$B$21*'6 Forecast 12 months'!F4 -> 102.23365 | J4: ='5a Regression on relevant vars'!$B$17+'5a Regression on relevant vars'!$B$18*'6 Forecast 12 months'!K4+'5a Regression on relevant vars'!$B$19*'6 Forecast 12 months'!L4+'5a Regression on relevant vars'!$B$20*'6 Forecast 12 months'!M4+'5a Regression on relevant vars'!$B$21*'6 Forecast 12 months'!N4 -> 97.864808 | K4: 100 | L4: 102.7248 | M4: 100.98267 | N4: 127.70799 | O4: 91.22807 | P4: 99.747802 | Q4: 99.986793 | R4: 101.18074 | S4: 94.220846 | T4: 100 | U4: 114.19768 | V4: 99.460285 | W4: 100 | X4: 100 | Y4: 100 | Z4: 100 | AA4: 100 | AB4: 100 | AC4: 100 | AD4: 100 | AE4: 100 | AF4: 100 | AG4: 100 | AH4: 100 | AI4: 100 | AJ4: 100 | AK4: 100 | AL4: 100 | AM4: 100 | AN4: 100 | AO4: 100 | AP4: 100 | AQ4: 100 | AR4: 100 | AS4: 100 | AT4: 100 | AU4: 100 | AV4: 100 | AW4: 100 | AX4: 100 | AY4: 100 | AZ4: 100 | BA4: 100 | BB4: 100 | BC4: 100 | BD4: 100 | BE4: 100 | BF4: 100 | BG4: 100 | BH4: 100 | BI4: 100 | BJ4: 100 | BK4: 100 | BL4: 100 | BM4: 100 | BN4: 100 | BO4: 100 | BP4: 100 | BQ4: 100 | BR4: 100 | BS4: 100 | BT4: 100 | BU4: 100 | BV4: 100 | BW4: 100 | BX4: 100 | BY4: 100 | BZ4: 100
A5: 39173 | B5: 101.36116 | C5: 100 | D5: 100 | E5: 100 | F5: 100 | G5: 100 | H5: 100 | I5: ='5a Regression on relevant vars'!$B$17+'5a Regression on relevant vars'!$B$18*'6 Forecast 12 months'!C5+'5a Regression on relevant vars'!$B$19*'6 Forecast 12 months'!D5+'5a Regression on relevant vars'!$B$20*'6 Forecast 12 months'!E5+'5a Regression on relevant vars'!$B$21*'6 Forecast 12 months'!F5 -> 102.23365 | J5: ='5a Regression on relevant vars'!$B$17+'5a Regression on relevant vars'!$B$18*'6 Forecast 12 months'!K5+'5a Regression on relevant vars'!$B$19*'6 Forecast 12 months'!L5+'5a Regression on relevant vars'!$B$20*'6 Forecast 12 months'!M5+'5a Regression on relevant vars'!$B$21*'6 Forecast 12 months'!N5 -> 97.040307 | K5: 100 | L5: 102.45232 | M5: 100.08386 | N5: 148.25788 | O5: 89.886481 | P5: 101.55703 | Q5: 99.747802 | R5: 102.7248 | S5: 91.22807 | T5: 100 | U5: 127.70799 | V5: 100.98267 | W5: 99.986793 | X5: 101.18074 | Y5: 94.220846 | Z5: 100 | AA5: 114.19768 | AB5: 99.460285 | AC5: 100 | AD5: 100 | AE5: 100 | AF5: 100 | AG5: 100 | AH5: 100 | AI5: 100 | AJ5: 100 | AK5: 100 | AL5: 100 | AM5: 100 | AN5: 100 | AO5: 100 | AP5: 100 | AQ5: 100 | AR5: 100 | AS5: 100 | AT5: 100 | AU5: 100 | AV5: 100 | AW5: 100 | AX5: 100 | AY5: 100 | AZ5: 100 | BA5: 100 | BB5: 100 | BC5: 100 | BD5: 100 | BE5: 100 | BF5: 100 | BG5: 100 | BH5: 100 | BI5: 100 | BJ5: 100 | BK5: 100 | BL5: 100 | BM5: 100 | BN5: 100 | BO5: 100 | BP5: 100 | BQ5: 100 | BR5: 100 | BS5: 100 | BT5: 100 | BU5: 100 | BV5: 100 | BW5: 100 | BX5: 100 | BY5: 100 | BZ5: 100
A6: 39203 | B6: 101.47019 | C6: 100 | D6: 100 | E6: 100 | F6: 100 | G6: 100 | H6: 100 | I6: ='5a Regression on relevant vars'!$B$17+'5a Regression on relevant vars'!$B$18*'6 Forecast 12 months'!C6+'5a Regression on relevant vars'!$B$19*'6 Forecast 12 months'!D6+'5a Regression on relevant vars'!$B$20*'6 Forecast 12 months'!E6+'5a Regression on relevant vars'!$B$21*'6 Forecast 12 months'!F6 -> 102.23365 | J6: ='5a Regression on relevant vars'!$B$17+'5a Regression on relevant vars'!$B$18*'6 Forecast 12 months'!K6+'5a Regression on relevant vars'!$B$19*'6 Forecast 12 months'!L6+'5a Regression on relevant vars'!$B$20*'6 Forecast 12 months'!M6+'5a Regression on relevant vars'!$B$21*'6 Forecast 12 months'!N6 -> 97.537516 | K6: 100 | L6: 103.81471 | M6: 106.25081 | N6: 141.81086 | O6: 91.124871 | P6: 101.91307 | Q6: 101.55703 | R6: 102.45232 | S6: 89.886481 | T6: 100 | U6: 148.25788 | V6: 100.08386 | W6: 99.747802 | X6: 102.7248 | Y6: 91.22807 | Z6: 100 | AA6: 127.70799 | AB6: 100.98267 | AC6: 99.986793 | AD6: 101.18074 | AE6: 94.220846 | AF6: 114.19768 | AG6: 100 | AH6: 100 | AI6: 100 | AJ6: 100 | AK6: 100 | AL6: 100 | AM6: 100 | AN6: 100 | AO6: 100 | AP6: 100 | AQ6: 100 | AR6: 100 | AS6: 100 | AT6: 100 | AU6: 100 | AV6: 100 | AW6: 100 | AX6: 100 | AY6: 100 | AZ6: 100 | BA6: 100 | BB6: 100 | BC6: 100 | BD6: 100 | BE6: 100 | BF6: 100 | BG6: 100 | BH6: 100 | BI6: 100 | BJ6: 100 | BK6: 100 | BL6: 100 | BM6: 100 | BN6: 100 | BO6: 100 | BP6: 100 | BQ6: 100 | BR6: 100 | BS6: 100 | BT6: 100 | BU6: 100 | BV6: 100 | BW6: 100 | BX6: 100 | BY6: 100 | BZ6: 100
A7: 39234 | B7: 101.2821 | C7: 100 | D7: 100 | E7: 100 | F7: 100 | G7: 100 | H7: 100 | I7: ='5a Regression on relevant vars'!$B$17+'5a Regression on relevant vars'!$B$18*'6 Forecast 12 months'!C7+'5a Regression on relevant vars'!$B$19*'6 Forecast 12 months'!D7+'5a Regression on relevant vars'!$B$20*'6 Forecast 12 months'!E7+'5a Regression on relevant vars'!$B$21*'6 Forecast 12 months'!F7 -> 102.23365 | J7: ='5a Regression on relevant vars'!$B$17+'5a Regression on relevant vars'!$B$18*'6 Forecast 12 months'!K7+'5a Regression on relevant vars'!$B$19*'6 Forecast 12 months'!L7+'5a Regression on relevant vars'!$B$20*'6 Forecast 12 months'!M7+'5a Regression on relevant vars'!$B$21*'6 Forecast 12 months'!N7 -> 96.951832 | K7: 100 | L7: 103.81471 | M7: 105.35845 | N7: 148.80303 | O7: 88.028896 | P7: 101.73114 | Q7: 101.91307 | R7: 103.81471 | S7: 91.124871 | T7: 100 | U7: 141.81086 | V7: 106.25081 | W7: 101.55703 | X7: 102.45232 | Y7: 89.886481 | Z7: 100 | AA7: 148.25788 | AB7: 100.08386 | AC7: 99.747802 | AD7: 102.7248 | AE7: 91.22807 | AF7: 127.70799 | AG7: 99.986793 | AH7: 101.18074 | AI7: 94.220846 | AJ7: 114.19768 | AK7: 99.460285 | AL7: 100 | AM7: 100 | AN7: 100 | AO7: 100 | AP7: 100 | AQ7: 100 | AR7: 100 | AS7: 100 | AT7: 100 | AU7: 100 | AV7: 100 | AW7: 100 | AX7: 100 | AY7: 100 | AZ7: 100 | BA7: 100 | BB7: 100 | BC7: 100 | BD7: 100 | BE7: 100 | BF7: 100 | BG7: 100 | BH7: 100 | BI7: 100 | BJ7: 100 | BK7: 100 | BL7: 100 | BM7: 100 | BN7: 100 | BO7: 100 | BP7: 100 | BQ7: 100 | BR7: 100 | BS7: 100 | BT7: 100 | BU7: 100 | BV7: 100 | BW7: 100 | BX7: 100 | BY7: 100 | BZ7: 100
A8: 39264 | B8: 105.73954 | C8: 100 | D8: 100 | E8: 100 | F8: 100 | G8: 100 | H8: 100 | I8: ='5a Regression on relevant vars'!$B$17+'5a Regression on relevant vars'!$B$18*'6 Forecast 12 months'!C8+'5a Regression on relevant vars'!$B$19*'6 Forecast 12 months'!D8+'5a Regression on relevant vars'!$B$20*'6 Forecast 12 months'!E8+'5a Regression on relevant vars'!$B$21*'6 Forecast 12 months'!F8 -> 102.23365 | J8: ='5a Regression on relevant vars'!$B$17+'5a Regression on relevant vars'!$B$18*'6 Forecast 12 months'!K8+'5a Regression on relevant vars'!$B$19*'6 Forecast 12 months'!L8+'5a Regression on relevant vars'!$B$20*'6 Forecast 12 months'!M8+'5a Regression on relevant vars'!$B$21*'6 Forecast 12 months'!N8 -> 98.526557 | K8: 99.480969 | L8: 102.27066 | M8: 108.6763 | N8: 165.75018 | O8: 93.292054 | P8: 101.1381 | Q8: 101.73114 | R8: 103.81471 | S8: 88.028896 | T8: 100 | U8: 148.80303 | V8: 105.35845 | W8: 101.91307 | X8: 103.81471 | Y8: 91.124871 | Z8: 100 | AA8: 141.81086 | AB8: 106.25081 | AC8: 101.55703 | AD8: 102.45232 | AE8: 89.886481 | AF8: 148.25788 | AG8: 99.747802 | AH8: 102.7248 | AI8: 91.22807 | AJ8: 127.70799 | AK8: 100.98267 | AL8: 99.986793 | AM8: 101.18074 | AN8: 94.220846 | AO8: 100 | AP8: 114.19768 | AQ8: 99.460285 | AR8: 100 | AS8: 100 | AT8: 100 | AU8: 100 | AV8: 100 | AW8: 100 | AX8: 100 | AY8: 100 | AZ8: 100 | BA8: 100 | BB8: 100 | BC8: 100 | BD8: 100 | BE8: 100 | BF8: 100 | BG8: 100 | BH8: 100 | BI8: 100 | BJ8: 100 | BK8: 100 | BL8: 100 | BM8: 100 | BN8: 100 | BO8: 100 | BP8: 100 | BQ8: 100 | BR8: 100 | BS8: 100 | BT8: 100 | BU8: 100 | BV8: 100 | BW8: 100 | BX8: 100 | BY8: 100 | BZ8: 100
A9: 39295 | B9: 102.14254 | C9: 100 | D9: 100 | E9: 100 | F9: 100 | G9: 100 | H9: 100 | I9: ='5a Regression on relevant vars'!$B$17+'5a Regression on relevant vars'!$B$18*'6 Forecast 12 months'!C9+'5a Regression on relevant vars'!$B$19*'6 Forecast 12 months'!D9+'5a Regression on relevant vars'!$B$20*'6 Forecast 12 months'!E9+'5a Regression on relevant vars'!$B$21*'6 Forecast 12 months'!F9 -> 102.23365 | J9: ='5a Regression on relevant vars'!$B$17+'5a Regression on relevant vars'!$B$18*'6 Forecast 12 months'!K9+'5a Regression on relevant vars'!$B$19*'6 Forecast 12 months'!L9+'5a Regression on relevant vars'!$B$20*'6 Forecast 12 months'!M9+'5a Regression on relevant vars'!$B$21*'6 Forecast 12 months'!N9 -> 97.368863 | K9: 99.307958 | L9: 102.17984 | M9: 107.71083 | N9: 182.55511 | O9: 86.068111 | P9: 99.246597 | Q9: 101.1381 | R9: 102.27066 | S9: 93.292054 | T9: 99.480969 | U9: 165.75018 | V9: 108.6763 | W9: 101.73114 | X9: 103.81471 | Y9: 88.028896 | Z9: 100 | AA9: 148.80303 | AB9: 105.35845 | AC9: 101.91307 | AD9: 103.81471 | AE9: 91.124871 | AF9: 141.81086 | AG9: 101.55703 | AH9: 102.45232 | AI9: 89.886481 | AJ9: 148.25788 | AK9: 100.08386 | AL9: 99.747802 | AM9: 102.7248 | AN9: 91.22807 | AO9: 100 | AP9: 127.70799 | AQ9: 100.98267 | AR9: 99.986793 | AS9: 101.18074 | AT9: 94.220846 | AU9: 100 | AV9: 114.19768 | AW9: 99.460285 | AX9: 100 | AY9: 100 | AZ9: 100 | BA9: 100 | BB9: 100 | BC9: 100 | BD9: 100 | BE9: 100 | BF9: 100 | BG9: 100 | BH9: 100 | BI9: 100 | BJ9: 100 | BK9: 100 | BL9: 100 | BM9: 100 | BN9: 100 | BO9: 100 | BP9: 100 | BQ9: 100 | BR9: 100 | BS9: 100 | BT9: 100 | BU9: 100 | BV9: 100 | BW9: 100 | BX9: 100 | BY9: 100 | BZ9: 100
A10: 39326 | B10: 100.88711 | C10: 100 | D10: 100 | E10: 100 | F10: 100 | G10: 100 | H10: 100 | I10: ='5a Regression on relevant vars'!$B$17+'5a Regression on relevant vars'!$B$18*'6 Forecast 12 months'!C10+'5a Regression on relevant vars'!$B$19*'6 Forecast 12 months'!D10+'5a Regression on relevant vars'!$B$20*'6 Forecast 12 months'!E10+'5a Regression on relevant vars'!$B$21*'6 Forecast 12 months'!F10 -> 102.23365 | J10: ='5a Regression on relevant vars'!$B$17+'5a Regression on relevant vars'!$B$18*'6 Forecast 12 months'!K10+'5a Regression on relevant vars'!$B$19*'6 Forecast 12 months'!L10+'5a Regression on relevant vars'!$B$20*'6 Forecast 12 months'!M10+'5a Regression on relevant vars'!$B$21*'6 Forecast 12 months'!N10 -> 92.042542 | K10: 94.636678 | L10: 100.18165 | M10: 109.31708 | N10: 226.04883 | O10: 86.068111 | P10: 99.515847 | Q10: 99.246597 | R10: 102.17984 | S10: 86.068111 | T10: 99.307958 | U10: 182.55511 | V10: 107.71083 | W10: 101.1381 | X10: 102.27066 | Y10: 93.292054 | Z10: 99.480969 | AA10: 165.75018 | AB10: 108.6763 | AC10: 101.73114 | AD10: 103.81471 | AE10: 88.028896 | AF10: 148.80303 | AG10: 101.91307 | AH10: 103.81471 | AI10: 91.124871 | AJ10: 141.81086 | AK10: 106.25081 | AL10: 101.55703 | AM10: 102.45232 | AN10: 89.886481 | AO10: 100 | AP10: 148.25788 | AQ10: 100.08386 | AR10: 99.747802 | AS10: 102.7248 | AT10: 91.22807 | AU10: 100 | AV10: 127.70799 | AW10: 100.98267 | AX10: 99.986793 | AY10: 101.18074 | AZ10: 100 | BA10: 114.19768 | BB10: 99.460285 | BC10: 100 | BD10: 100 | BE10: 100 | BF10: 100 | BG10: 100 | BH10: 100 | BI10: 100 | BJ10: 100 | BK10: 100 | BL10: 100 | BM10: 100 | BN10: 100 | BO10: 100 | BP10: 100 | BQ10: 100 | BR10: 100 | BS10: 100 | BT10: 100 | BU10: 100 | BV10: 100 | BW10: 100 | BX10: 100 | BY10: 100 | BZ10: 100
A11: 39356 | B11: 102.45678 | C11: 100 | D11: 100 | E11: 100 | F11: 100 | G11: 100 | H11: 100 | I11: ='5a Regression on relevant vars'!$B$17+'5a Regression on relevant vars'!$B$18*'6 Forecast 12 months'!C11+'5a Regression on relevant vars'!$B$19*'6 Forecast 12 months'!D11+'5a Regression on relevant vars'!$B$20*'6 Forecast 12 months'!E11+'5a Regression on relevant vars'!$B$21*'6 Forecast 12 months'!F11 -> 102.23365 | J11: ='5a Regression on relevant vars'!$B$17+'5a Regression on relevant vars'!$B$18*'6 Forecast 12 months'!K11+'5a Regression on relevant vars'!$B$19*'6 Forecast 12 months'!L11+'5a Regression on relevant vars'!$B$20*'6 Forecast 12 months'!M11+'5a Regression on relevant vars'!$B$21*'6 Forecast 12 months'!N11 -> 91.607492 | K11: 94.290657 | L11: 99.182561 | M11: 108.80747 | N11: 250.79403 | O11: 83.488132 | P11: 99.576246 | Q11: 99.515847 | R11: 100.18165 | S11: 86.068111 | T11: 94.636678 | U11: 226.04883 | V11: 109.31708 | W11: 99.246597 | X11: 102.17984 | Y11: 86.068111 | Z11: 99.307958 | AA11: 182.55511 | AB11: 107.71083 | AC11: 101.1381 | AD11: 102.27066 | AE11: 93.292054 | AF11: 165.75018 | AG11: 101.73114 | AH11: 103.81471 | AI11: 88.028896 | AJ11: 148.80303 | AK11: 105.35845 | AL11: 101.91307 | AM11: 103.81471 | AN11: 91.124871 | AO11: 100 | AP11: 141.81086 | AQ11: 106.25081 | AR11: 101.55703 | AS11: 102.45232 | AT11: 89.886481 | AU11: 100 | AV11: 148.25788 | AW11: 100.08386 | AX11: 99.747802 | AY11: 102.7248 | AZ11: 100 | BA11: 127.70799 | BB11: 100.98267 | BC11: 99.986793 | BD11: 101.18074 | BE11: 94.220846 | BF11: 100 | BG11: 114.19768 | BH11: 99.460285 | BI11: 100 | BJ11: 100 | BK11: 100 | BL11: 100 | BM11: 100 | BN11: 100 | BO11: 100 | BP11: 100 | BQ11: 100 | BR11: 100 | BS11: 100 | BT11: 100 | BU11: 100 | BV11: 100 | BW11: 100 | BX11: 100 | BY11: 100 | BZ11: 100
A12: 39387 | B12: 103.86168 | C12: 100 | D12: 100 | E12: 100 | F12: 100 | G12: 100 | H12: 100 | I12: ='5a Regression on relevant vars'!$B$17+'5a Regression on relevant vars'!$B$18*'6 Forecast 12 months'!C12+'5a Regression on relevant vars'!$B$19*'6 Forecast 12 months'!D12+'5a Regression on relevant vars'!$B$20*'6 Forecast 12 months'!E12+'5a Regression on relevant vars'!$B$21*'6 Forecast 12 months'!F12 -> 102.23365 | J12: ='5a Regression on relevant vars'!$B$17+'5a Regression on relevant vars'!$B$18*'6 Forecast 12 months'!K12+'5a Regression on relevant vars'!$B$19*'6 Forecast 12 months'!L12+'5a Regression on relevant vars'!$B$20*'6 Forecast 12 months'!M12+'5a Regression on relevant vars'!$B$21*'6 Forecast 12 months'!N12 -> 89.752084 | K12: 93.598616 | L12: 97.456857 | M12: 97.875543 | N12: 242.00047 | O12: 78.534572 | P12: 98.477546 | Q12: 99.576246 | R12: 99.182561 | S12: 83.488132 | T12: 94.290657 | U12: 250.79403 | V12: 108.80747 | W12: 99.515847 | X12: 100.18165 | Y12: 86.068111 | Z12: 94.636678 | AA12: 226.04883 | AB12: 109.31708 | AC12: 99.246597 | AD12: 102.17984 | AE12: 86.068111 | AF12: 182.55511 | AG12: 101.1381 | AH12: 102.27066 | AI12: 93.292054 | AJ12: 165.75018 | AK12: 108.6763 | AL12: 101.73114 | AM12: 103.81471 | AN12: 88.028896 | AO12: 100 | AP12: 148.80303 | AQ12: 105.35845 | AR12: 101.91307 | AS12: 103.81471 | AT12: 91.124871 | AU12: 100 | AV12: 141.81086 | AW12: 106.25081 | AX12: 101.55703 | AY12: 102.45232 | AZ12: 100 | BA12: 148.25788 | BB12: 100.08386 | BC12: 99.747802 | BD12: 102.7248 | BE12: 91.22807 | BF12: 100 | BG12: 127.70799 | BH12: 100.98267 | BI12: 99.986793 | BJ12: 101.18074 | BK12: 94.220846 | BL12: 100 | BM12: 114.19768 | BN12: 99.460285 | BO12: 100 | BP12: 100 | BQ12: 100 | BR12: 100 | BS12: 100 | BT12: 100 | BU12: 100 | BV12: 100 | BW12: 100 | BX12: 100 | BY12: 100 | BZ12: 100
A13: 39417 | B13: 103.46504 | C13: 100 | D13: 100 | E13: 100 | F13: 100 | G13: 100 | H13: 100 | I13: ='5a Regression on relevant vars'!$B$17+'5a Regression on relevant vars'!$B$18*'6 Forecast 12 months'!C13+'5a Regression on relevant vars'!$B$19*'6 Forecast 12 months'!D13+'5a Regression on relevant vars'!$B$20*'6 Forecast 12 months'!E13+'5a Regression on relevant vars'!$B$21*'6 Forecast 12 months'!F13 -> 102.23365 | J13: ='5a Regression on relevant vars'!$B$17+'5a Regression on relevant vars'!$B$18*'6 Forecast 12 months'!K13+'5a Regression on relevant vars'!$B$19*'6 Forecast 12 months'!L13+'5a Regression on relevant vars'!$B$20*'6 Forecast 12 months'!M13+'5a Regression on relevant vars'!$B$21*'6 Forecast 12 months'!N13 -> 87.209551 | K13: 92.214533 | L13: 96.639419 | M13: 89.231497 | N13: 216.71012 | O13: 77.915377 | P13: 96.012231 | Q13: 98.477546 | R13: 97.456857 | S13: 78.534572 | T13: 93.598616 | U13: 242.00047 | V13: 97.875543 | W13: 99.576246 | X13: 99.182561 | Y13: 83.488132 | Z13: 94.290657 | AA13: 250.79403 | AB13: 108.80747 | AC13: 99.515847 | AD13: 100.18165 | AE13: 86.068111 | AF13: 226.04883 | AG13: 99.246597 | AH13: 102.17984 | AI13: 86.068111 | AJ13: 182.55511 | AK13: 107.71083 | AL13: 101.1381 | AM13: 102.27066 | AN13: 93.292054 | AO13: 99.480969 | AP13: 165.75018 | AQ13: 108.6763 | AR13: 101.73114 | AS13: 103.81471 | AT13: 88.028896 | AU13: 100 | AV13: 148.80303 | AW13: 105.35845 | AX13: 101.91307 | AY13: 103.81471 | AZ13: 100 | BA13: 141.81086 | BB13: 106.25081 | BC13: 101.55703 | BD13: 102.45232 | BE13: 89.886481 | BF13: 100 | BG13: 148.25788 | BH13: 100.08386 | BI13: 99.747802 | BJ13: 102.7248 | BK13: 91.22807 | BL13: 100 | BM13: 127.70799 | BN13: 100.98267 | BO13: 99.986793 | BP13: 101.18074 | BQ13: 94.220846 | BR13: 100 | BS13: 114.19768 | BT13: 99.460285 | BU13: 100 | BV13: 100 | BW13: 100 | BX13: 100 | BY13: 100 | BZ13: 100
... A35: 40087 | B35: 96.015603 | C35: 75.432526 | D35: 72.388738 | E35: 62.045758 | F35: 20.170657 | G35: 58.410733 | H35: 78.563072 | I35: ='5a Regression on relevant vars'!$B$17+'5a Regression on relevant vars'!$B$18*'6 Forecast 12 months'!C35+'5a Regression on relevant vars'!$B$19*'6 Forecast 12 months'!D35+'5a Regression on relevant vars'!$B$20*'6 Forecast 12 months'!E35+'5a Regression on relevant vars'!$B$21*'6 Forecast 12 months'!F35 -> 94.658646 | J35: ='5a Regression on relevant vars'!$B$17+'5a Regression on relevant vars'!$B$18*'6 Forecast 12 months'!K35+'5a Regression on relevant vars'!$B$19*'6 Forecast 12 months'!L35+'5a Regression on relevant vars'!$B$20*'6 Forecast 12 months'!M35+'5a Regression on relevant vars'!$B$21*'6 Forecast 12 months'!N35 -> 108.31048 | K35: 91.00346 | L35: 78.110808 | M35: 66.651615 | N35: 71.415027 | O35: 72.858617 | P35: 91.563795 | Q35: 91.207238 | R35: 75.022707 | S35: 75.851393 | T35: 88.062284 | U35: 52.619104 | V35: 64.21537 | W35: 89.139208 | X35: 73.478656 | Y35: 65.221878 | Z35: 86.50519 | AA35: 57.383266 | AB35: 66.055993 | AC35: 84.432658 | AD35: 68.119891 | AE35: 68.111455 | AF35: 79.284191 | AG35: 82.293317 | AH35: 64.577657 | AI35: 73.065015 | AJ35: 96.468357 | AK35: 58.338709 | AL35: 79.226928 | AM35: 60.58129 | AN35: 70.897833 | AO35: 75.951557 | AP35: 74.994074 | AQ35: 55.517568 | AR35: 76.445785 | AS35: 58.038147 | AT35: 63.880289 | AU35: 70.069204 | AV35: 42.427115 | AW35: 50.288135 | AX35: 76.089228 | AY35: 54.768392 | AZ35: 66.262976 | BA35: 37.307419 | BB35: 40.633467 | BC35: 75.243971 | BD35: 55.313351 | BE35: 58.101135 | BF35: 62.629758 | BG35: 47.072766 | BH35: 45.267277 | BI35: 76.562908 | BJ35: 57.402361 | BK35: 63.157895 | BL35: 66.608997 | BM35: 25.36146 | BN35: 47.716424 | BO35: 77.477376 | BP35: 60.490463 | BQ35: 62.022704 | BR35: 66.262976 | BS35: 18.34558 | BT35: 39.401368 | BU35: 77.801439 | BV35: 66.757493 | BW35: 57.069143 | BX35: 67.301038 | BY35: 16.591609 | BZ35: 53.264095
A36: 40118 | C36: 67.301038 | D36: 66.757493 | E36: 53.264095 | F36: 16.591609 | G36: 57.069143 | H36: 77.801439 | I36: ='5a Regression on relevant vars'!$B$17+'5a Regression on relevant vars'!$B$18*'6 Forecast 12 months'!C36+'5a Regression on relevant vars'!$B$19*'6 Forecast 12 months'!D36+'5a Regression on relevant vars'!$B$20*'6 Forecast 12 months'!E36+'5a Regression on relevant vars'!$B$21*'6 Forecast 12 months'!F36 -> 87.881147 | J36: ='5a Regression on relevant vars'!$B$17+'5a Regression on relevant vars'!$B$18*'6 Forecast 12 months'!K36+'5a Regression on relevant vars'!$B$19*'6 Forecast 12 months'!L36+'5a Regression on relevant vars'!$B$20*'6 Forecast 12 months'!M36+'5a Regression on relevant vars'!$B$21*'6 Forecast 12 months'!N36 -> 63.173777 | Q36: 91.563795 | R36: 78.110808 | S36: 72.858617 | T36: 91.00346 | U36: 71.415027 | V36: 66.651615 | W36: 91.207238 | X36: 75.022707 | Y36: 75.851393 | Z36: 88.062284 | AA36: 52.619104 | AB36: 64.21537 | AC36: 89.139208 | AD36: 73.478656 | AE36: 65.221878 | AF36: 57.383266 | AG36: 84.432658 | AH36: 68.119891 | AI36: 68.111455 | AJ36: 79.284191 | AK36: 56.584097 | AL36: 82.293317 | AM36: 64.577657 | AN36: 73.065015 | AO36: 76.816609 | AP36: 96.468357 | AQ36: 58.338709 | AR36: 79.226928 | AS36: 60.58129 | AT36: 70.897833 | AU36: 75.951557 | AV36: 74.994074 | AW36: 55.517568 | AX36: 76.445785 | AY36: 58.038147 | AZ36: 70.069204 | BA36: 42.427115 | BB36: 50.288135 | BC36: 76.089228 | BD36: 54.768392 | BE36: 59.133127 | BF36: 66.262976 | BG36: 37.307419 | BH36: 40.633467 | BI36: 75.243971 | BJ36: 55.313351 | BK36: 58.101135 | BL36: 62.629758 | BM36: 47.072766 | BN36: 45.267277 | BO36: 76.562908 | BP36: 57.402361 | BQ36: 63.157895 | BR36: 66.608997 | BS36: 25.36146 | BT36: 47.716424 | BU36: 77.477376 | BV36: 60.490463 | BW36: 62.022704 | BX36: 66.262976 | BY36: 18.34558 | BZ36: 39.401368
A37: 40148 | C37: 66.262976 | D37: 60.490463 | E37: 39.401368 | F37: 18.34558 | G37: 62.022704 | H37: 77.477376 | I37: ='5a Regression on relevant vars'!$B$17+'5a Regression on relevant vars'!$B$18*'6 Forecast 12 months'!C37+'5a Regression on relevant vars'!$B$19*'6 Forecast 12 months'!D37+'5a Regression on relevant vars'!$B$20*'6 Forecast 12 months'!E37+'5a Regression on relevant vars'!$B$21*'6 Forecast 12 months'!F37 -> 89.964314 | J37: ='5a Regression on relevant vars'!$B$17+'5a Regression on relevant vars'!$B$18*'6 Forecast 12 months'!K37+'5a Regression on relevant vars'!$B$19*'6 Forecast 12 months'!L37+'5a Regression on relevant vars'!$B$20*'6 Forecast 12 months'!M37+'5a Regression on relevant vars'!$B$21*'6 Forecast 12 months'!N37 -> 63.173777 | W37: 91.563795 | X37: 78.110808 | Y37: 72.858617 | Z37: 91.00346 | AA37: 71.415027 | AB37: 66.651615 | AC37: 91.207238 | AD37: 75.022707 | AE37: 75.851393 | AF37: 52.619104 | AG37: 89.139208 | AH37: 73.478656 | AI37: 65.221878 | AJ37: 57.383266 | AK37: 66.055993 | AL37: 84.432658 | AM37: 68.119891 | AN37: 68.111455 | AO37: 81.314879 | AP37: 79.284191 | AQ37: 56.584097 | AR37: 82.293317 | AS37: 64.577657 | AT37: 73.065015 | AU37: 76.816609 | AV37: 96.468357 | AW37: 58.338709 | AX37: 79.226928 | AY37: 60.58129 | AZ37: 75.951557 | BA37: 74.994074 | BB37: 55.517568 | BC37: 76.445785 | BD37: 58.038147 | BE37: 63.880289 | BF37: 70.069204 | BG37: 42.427115 | BH37: 50.288135 | BI37: 76.089228 | BJ37: 54.768392 | BK37: 59.133127 | BL37: 66.262976 | BM37: 37.307419 | BN37: 40.633467 | BO37: 75.243971 | BP37: 55.313351 | BQ37: 58.101135 | BR37: 62.629758 | BS37: 47.072766 | BT37: 45.267277 | BU37: 76.562908 | BV37: 57.402361 | BW37: 63.157895 | BX37: 66.608997 | BY37: 25.36146 | BZ37: 47.716424
A38: 40179 | C38: 66.608997 | D38: 57.402361 | E38: 47.716424 | F38: 25.36146 | G38: 63.157895 | H38: 76.562908 | I38: ='5a Regression on relevant vars'!$B$17+'5a Regression on relevant vars'!$B$18*'6 Forecast 12 months'!C38+'5a Regression on relevant vars'!$B$19*'6 Forecast 12 months'!D38+'5a Regression on relevant vars'!$B$20*'6 Forecast 12 months'!E38+'5a Regression on relevant vars'!$B$21*'6 Forecast 12 months'!F38 -> 96.738757 | J38: ='5a Regression on relevant vars'!$B$17+'5a Regression on relevant vars'!$B$18*'6 Forecast 12 months'!K38+'5a Regression on relevant vars'!$B$19*'6 Forecast 12 months'!L38+'5a Regression on relevant vars'!$B$20*'6 Forecast 12 months'!M38+'5a Regression on relevant vars'!$B$21*'6 Forecast 12 months'!N38 -> 63.173777 | AC38: 91.563795 | AD38: 78.110808 | AE38: 72.858617 | AF38: 71.415027 | AG38: 91.207238 | AH38: 75.022707 | AI38: 75.851393 | AJ38: 52.619104 | AK38: 64.21537 | AL38: 89.139208 | AM38: 73.478656 | AN38: 65.221878 | AO38: 86.50519 | AP38: 57.383266 | AQ38: 66.055993 | AR38: 84.432658 | AS38: 68.119891 | AT38: 68.111455 | AU38: 81.314879 | AV38: 79.284191 | AW38: 56.584097 | AX38: 82.293317 | AY38: 64.577657 | AZ38: 76.816609 | BA38: 96.468357 | BB38: 58.338709 | BC38: 79.226928 | BD38: 60.58129 | BE38: 70.897833 | BF38: 75.951557 | BG38: 74.994074 | BH38: 55.517568 | BI38: 76.445785 | BJ38: 58.038147 | BK38: 63.880289 | BL38: 70.069204 | BM38: 42.427115 | BN38: 50.288135 | BO38: 76.089228 | BP38: 54.768392 | BQ38: 59.133127 | BR38: 66.262976 | BS38: 37.307419 | BT38: 40.633467 | BU38: 75.243971 | BV38: 55.313351 | BW38: 58.101135 | BX38: 62.629758 | BY38: 47.072766 | BZ38: 45.267277
A39: 40210 | C39: 62.629758 | D39: 55.313351 | E39: 45.267277 | F39: 47.072766 | G39: 58.101135 | H39: 75.243971 | I39: ='5a Regression on relevant vars'!$B$17+'5a Regression on relevant vars'!$B$18*'6 Forecast 12 months'!C39+'5a Regression on relevant vars'!$B$19*'6 Forecast 12 months'!D39+'5a Regression on relevant vars'!$B$20*'6 Forecast 12 months'!E39+'5a Regression on relevant vars'!$B$21*'6 Forecast 12 months'!F39 -> 92.144319 | J39: ='5a Regression on relevant vars'!$B$17+'5a Regression on relevant vars'!$B$18*'6 Forecast 12 months'!K39+'5a Regression on relevant vars'!$B$19*'6 Forecast 12 months'!L39+'5a Regression on relevant vars'!$B$20*'6 Forecast 12 months'!M39+'5a Regression on relevant vars'!$B$21*'6 Forecast 12 months'!N39 -> 63.173777 | AG39: 91.563795 | AH39: 78.110808 | AI39: 72.858617 | AJ39: 71.415027 | AK39: 66.651615 | AL39: 91.207238 | AM39: 75.022707 | AN39: 75.851393 | AO39: 88.062284 | AP39: 52.619104 | AQ39: 64.21537 | AR39: 89.139208 | AS39: 73.478656 | AT39: 65.221878 | AU39: 86.50519 | AV39: 57.383266 | AW39: 66.055993 | AX39: 84.432658 | AY39: 68.119891 | AZ39: 81.314879 | BA39: 79.284191 | BB39: 56.584097 | BC39: 82.293317 | BD39: 64.577657 | BE39: 73.065015 | BF39: 76.816609 | BG39: 96.468357 | BH39: 58.338709 | BI39: 79.226928 | BJ39: 60.58129 | BK39: 70.897833 | BL39: 75.951557 | BM39: 74.994074 | BN39: 55.517568 | BO39: 76.445785 | BP39: 58.038147 | BQ39: 63.880289 | BR39: 70.069204 | BS39: 42.427115 | BT39: 50.288135 | BU39: 76.089228 | BV39: 54.768392 | BW39: 59.133127 | BX39: 66.262976 | BY39: 37.307419 | BZ39: 40.633467
A40: 40238 | C40: 66.262976 | D40: 54.768392 | E40: 40.633467 | F40: 37.307419 | G40: 59.133127 | H40: 76.089228 | I40: ='5a Regression on relevant vars'!$B$17+'5a Regression on relevant vars'!$B$18*'6 Forecast 12 months'!C40+'5a Regression on relevant vars'!$B$19*'6 Forecast 12 months'!D40+'5a Regression on relevant vars'!$B$20*'6 Forecast 12 months'!E40+'5a Regression on relevant vars'!$B$21*'6 Forecast 12 months'!F40 -> 96.856625 | J40: ='5a Regression on relevant vars'!$B$17+'5a Regression on relevant vars'!$B$18*'6 Forecast 12 months'!K40+'5a Regression on relevant vars'!$B$19*'6 Forecast 12 months'!L40+'5a Regression on relevant vars'!$B$20*'6 Forecast 12 months'!M40+'5a Regression on relevant vars'!$B$21*'6 Forecast 12 months'!N40 -> 63.173777 | AL40: 91.563795 | AM40: 78.110808 | AN40: 72.858617 | AO40: 91.00346 | AP40: 71.415027 | AQ40: 66.651615 | AR40: 91.207238 | AS40: 75.022707 | AT40: 75.851393 | AU40: 88.062284 | AV40: 52.619104 | AW40: 64.21537 | AX40: 89.139208 | AY40: 73.478656 | AZ40: 86.50519 | BA40: 57.383266 | BB40: 66.055993 | BC40: 84.432658 | BD40: 68.119891 | BE40: 68.111455 | BF40: 81.314879 | BG40: 79.284191 | BH40: 56.584097 | BI40: 82.293317 | BJ40: 64.577657 | BK40: 73.065015 | BL40: 76.816609 | BM40: 96.468357 | BN40: 58.338709 | BO40: 79.226928 | BP40: 60.58129 | BQ40: 70.897833 | BR40: 75.951557 | BS40: 74.994074 | BT40: 55.517568 | BU40: 76.445785 | BV40: 58.038147 | BW40: 63.880289 | BX40: 70.069204 | BY40: 42.427115 | BZ40: 50.288135
A41: 40269 | C41: 70.069204 | D41: 58.038147 | E41: 50.288135 | F41: 42.427115 | G41: 63.880289 | H41: 76.445785 | I41: ='5a Regression on relevant vars'!$B$17+'5a Regression on relevant vars'!$B$18*'6 Forecast 12 months'!C41+'5a Regression on relevant vars'!$B$19*'6 Forecast 12 months'!D41+'5a Regression on relevant vars'!$B$20*'6 Forecast 12 months'!E41+'5a Regression on relevant vars'!$B$21*'6 Forecast 12 months'!F41 -> 100.83303 | J41: ='5a Regression on relevant vars'!$B$17+'5a Regression on relevant vars'!$B$18*'6 Forecast 12 months'!K41+'5a Regression on relevant vars'!$B$19*'6 Forecast 12 months'!L41+'5a Regression on relevant vars'!$B$20*'6 Forecast 12 months'!M41+'5a Regression on relevant vars'!$B$21*'6 Forecast 12 months'!N41 -> 63.173777 | AR41: 91.563795 | AS41: 78.110808 | AT41: 72.858617 | AU41: 91.00346 | AV41: 71.415027 | AW41: 66.651615 | AX41: 91.207238 | AY41: 75.022707 | AZ41: 88.062284 | BA41: 52.619104 | BB41: 64.21537 | BC41: 89.139208 | BD41: 73.478656 | BE41: 65.221878 | BF41: 86.50519 | BG41: 57.383266 | BH41: 66.055993 | BI41: 84.432658 | BJ41: 68.119891 | BK41: 68.111455 | BL41: 81.314879 | BM41: 79.284191 | BN41: 56.584097 | BO41: 82.293317 | BP41: 64.577657 | BQ41: 73.065015 | BR41: 76.816609 | BS41: 96.468357 | BT41: 58.338709 | BU41: 79.226928 | BV41: 60.58129 | BW41: 70.897833 | BX41: 75.951557 | BY41: 74.994074 | BZ41: 55.517568
A42: 40299 | C42: 75.951557 | D42: 60.58129 | E42: 55.517568 | F42: 74.994074 | G42: 70.897833 | H42: 79.226928 | I42: ='5a Regression on relevant vars'!$B$17+'5a Regression on relevant vars'!$B$18*'6 Forecast 12 months'!C42+'5a Regression on relevant vars'!$B$19*'6 Forecast 12 months'!D42+'5a Regression on relevant vars'!$B$20*'6 Forecast 12 months'!E42+'5a Regression on relevant vars'!$B$21*'6 Forecast 12 months'!F42 -> 106.04214 | J42: ='5a Regression on relevant vars'!$B$17+'5a Regression on relevant vars'!$B$18*'6 Forecast 12 months'!K42+'5a Regression on relevant vars'!$B$19*'6 Forecast 12 months'!L42+'5a Regression on relevant vars'!$B$20*'6 Forecast 12 months'!M42+'5a Regression on relevant vars'!$B$21*'6 Forecast 12 months'!N42 -> 63.173777 | AX42: 91.563795 | AY42: 78.110808 | AZ42: 91.00346 | BA42: 71.415027 | BB42: 66.651615 | BC42: 91.207238 | BD42: 75.022707 | BE42: 75.851393 | BF42: 88.062284 | BG42: 52.619104 | BH42: 64.21537 | BI42: 89.139208 | BJ42: 73.478656 | BK42: 65.221878 | BL42: 86.50519 | BM42: 57.383266 | BN42: 66.055993 | BO42: 84.432658 | BP42: 68.119891 | BQ42: 68.111455 | BR42: 81.314879 | BS42: 79.284191 | BT42: 56.584097 | BU42: 82.293317 | BV42: 64.577657 | BW42: 73.065015 | BX42: 76.816609 | BY42: 96.468357 | BZ42: 58.338709
A43: 40330 | C43: 76.816609 | D43: 64.577657 | E43: 58.338709 | F43: 96.468357 | G43: 73.065015 | H43: 82.293317 | I43: ='5a Regression on relevant vars'!$B$17+'5a Regression on relevant vars'!$B$18*'6 Forecast 12 months'!C43+'5a Regression on relevant vars'!$B$19*'6 Forecast 12 months'!D43+'5a Regression on relevant vars'!$B$20*'6 Forecast 12 months'!E43+'5a Regression on relevant vars'!$B$21*'6 Forecast 12 months'!F43 -> 102.10728 | J43: ='5a Regression on relevant vars'!$B$17+'5a Regression on relevant vars'!$B$18*'6 Forecast 12 months'!K43+'5a Regression on relevant vars'!$B$19*'6 Forecast 12 months'!L43+'5a Regression on relevant vars'!$B$20*'6 Forecast 12 months'!M43+'5a Regression on relevant vars'!$B$21*'6 Forecast 12 months'!N43 -> 63.173777 | BC43: 91.563795 | BD43: 78.110808 | BE43: 72.858617 | BF43: 91.00346 | BG43: 71.415027 | BH43: 66.651615 | BI43: 91.207238 | BJ43: 75.022707 | BK43: 75.851393 | BL43: 88.062284 | BM43: 52.619104 | BN43: 64.21537 | BO43: 89.139208 | BP43: 73.478656 | BQ43: 65.221878 | BR43: 86.50519 | BS43: 57.383266 | BT43: 66.055993 | BU43: 84.432658 | BV43: 68.119891 | BW43: 68.111455 | BX43: 81.314879 | BY43: 79.284191 | BZ43: 56.584097
A44: 40360 | C44: 81.314879 | D44: 68.119891 | E44: 56.584097 | F44: 79.284191 | G44: 68.111455 | H44: 84.432658 | I44: ='5a Regression on relevant vars'!$B$17+'5a Regression on relevant vars'!$B$18*'6 Forecast 12 months'!C44+'5a Regression on relevant vars'!$B$19*'6 Forecast 12 months'!D44+'5a Regression on relevant vars'!$B$20*'6 Forecast 12 months'!E44+'5a Regression on relevant vars'!$B$21*'6 Forecast 12 months'!F44 -> 104.03434 | J44: ='5a Regression on relevant vars'!$B$17+'5a Regression on relevant vars'!$B$18*'6 Forecast 12 months'!K44+'5a Regression on relevant vars'!$B$19*'6 Forecast 12 months'!L44+'5a Regression on relevant vars'!$B$20*'6 Forecast 12 months'!M44+'5a Regression on relevant vars'!$B$21*'6 Forecast 12 months'!N44 -> 63.173777 | BI44: 91.563795 | BJ44: 78.110808 | BK44: 72.858617 | BL44: 91.00346 | BM44: 71.415027 | BN44: 66.651615 | BO44: 91.207238 | BP44: 75.022707 | BQ44: 75.851393 | BR44: 88.062284 | BS44: 52.619104 | BT44: 64.21537 | BU44: 89.139208 | BV44: 73.478656 | BW44: 65.221878 | BX44: 86.50519 | BY44: 57.383266 | BZ44: 66.055993
A45: 40391 | C45: 86.50519 | D45: 73.478656 | E45: 66.055993 | F45: 57.383266 | G45: 65.221878 | H45: 89.139208 | I45: ='5a Regression on relevant vars'!$B$17+'5a Regression on relevant vars'!$B$18*'6 Forecast 12 months'!C45+'5a Regression on relevant vars'!$B$19*'6 Forecast 12 months'!D45+'5a Regression on relevant vars'!$B$20*'6 Forecast 12 months'!E45+'5a Regression on relevant vars'!$B$21*'6 Forecast 12 months'!F45 -> 108.37758 | J45: ='5a Regression on relevant vars'!$B$17+'5a Regression on relevant vars'!$B$18*'6 Forecast 12 months'!K45+'5a Regression on relevant vars'!$B$19*'6 Forecast 12 months'!L45+'5a Regression on relevant vars'!$B$20*'6 Forecast 12 months'!M45+'5a Regression on relevant vars'!$B$21*'6 Forecast 12 months'!N45 -> 63.173777 | BO45: 91.563795 | BP45: 78.110808 | BQ45: 72.858617 | BR45: 91.00346 | BS45: 71.415027 | BT45: 66.651615 | BU45: 91.207238 | BV45: 75.022707 | BW45: 75.851393 | BX45: 88.062284 | BY45: 52.619104 | BZ45: 64.21537
A46: 40422 | C46: 88.062284 | D46: 75.022707 | E46: 64.21537 | F46: 52.619104 | G46: 75.851393 | H46: 91.207238 | I46: ='5a Regression on relevant vars'!$B$17+'5a Regression on relevant vars'!$B$18*'6 Forecast 12 months'!C46+'5a Regression on relevant vars'!$B$19*'6 Forecast 12 months'!D46+'5a Regression on relevant vars'!$B$20*'6 Forecast 12 months'!E46+'5a Regression on relevant vars'!$B$21*'6 Forecast 12 months'!F46 -> 108.19464 | J46: ='5a Regression on relevant vars'!$B$17+'5a Regression on relevant vars'!$B$18*'6 Forecast 12 months'!K46+'5a Regression on relevant vars'!$B$19*'6 Forecast 12 months'!L46+'5a Regression on relevant vars'!$B$20*'6 Forecast 12 months'!M46+'5a Regression on relevant vars'!$B$21*'6 Forecast 12 months'!N46 -> 63.173777 | BU46: 91.563795 | BV46: 78.110808 | BW46: 72.858617 | BX46: 91.00346 | BY46: 71.415027 | BZ46: 66.651615
A47: 40452 | C47: 91.00346 | D47: 78.110808 | E47: 66.651615 | F47: 71.415027 | G47: 72.858617 | H47: 91.563795 | I47: ='5a Regression on relevant vars'!$B$17+'5a Regression on relevant vars'!$B$18*'6 Forecast 12 months'!C47+'5a Regression on relevant vars'!$B$19*'6 Forecast 12 months'!D47+'5a Regression on relevant vars'!$B$20*'6 Forecast 12 months'!E47+'5a Regression on relevant vars'!$B$21*'6 Forecast 12 months'!F47 -> 108.31048 | J47: ='5a Regression on relevant vars'!$B$17+'5a Regression on relevant vars'!$B$18*'6 Forecast 12 months'!K47+'5a Regression on relevant vars'!$B$19*'6 Forecast 12 months'!L47+'5a Regression on relevant vars'!$B$20*'6 Forecast 12 months'!M47+'5a Regression on relevant vars'!$B$21*'6 Forecast 12 months'!N47 -> 63.173777

Sheet 6b data forecast 4 months
A1: Month | B1: Contract Logistics (Global) | C1: Economic sentiment (Europe) -4 | D1: Purchasing managers index Europe-4 | E1: Baltic index-4 | F1: Economic sentiment (Univ. of Michigan)-6
A2: 39264 | B2: 105.73954 | C2: 102.7248 | D2: 100 | E2: 127.70799 | F2: 100
A3: 39295 | B3: 102.14254 | C3: 102.45232 | D3: 100 | E3: 148.25788 | F3: 94.220846
A4: 39326 | B4: 100.88711 | C4: 103.81471 | D4: 100 | E4: 141.81086 | F4: 91.22807
A5: 39356 | B5: 102.45678 | C5: 103.81471 | D5: 100 | E5: 148.80303 | F5: 89.886481
A6: 39387 | B6: 103.86168 | C6: 102.27066 | D6: 99.480969 | E6: 165.75018 | F6: 91.124871
A7: 39417 | B7: 103.46504 | C7: 102.17984 | D7: 99.307958 | E7: 182.55511 | F7: 88.028896
A8: 39448 | B8: 102.8046 | C8: 100.18165 | D8: 94.636678 | E8: 226.04883 | F8: 93.292054
A9: 39479 | B9: 102.63274 | C9: 99.182561 | D9: 94.290657 | E9: 250.79403 | F9: 86.068111
A10: 39508 | B10: 97.285005 | C10: 97.456857 | D10: 93.598616 | E10: 242.00047 | F10: 86.068111
A11: 39539 | B11: 98.778128 | C11: 96.639419 | D11: 92.214533 | E11: 216.71012 | F11: 83.488132
A12: 39569 | B12: 97.062694 | C12: 94.641235 | D12: 89.619377 | E12: 145.60322 | F12: 78.534572
A13: 39600 | B13: 98.586431 | C13: 92.098093 | D13: 91.349481 | E13: 180.4456 | F13: 77.915377
... A29: 40087 | B29: 96.015603 | C29: 64.577657 | D29: 76.816609 | E29: 96.468357 | F29: 63.880289
C30: 68.119891 | D30: 81.314879 | E30: 79.284191 | F30: 70.897833
C31: 73.478656 | D31: 86.50519 | E31: 57.383266 | F31: 73.065015
C32: 75.022707 | D32: 88.062284 | E32: 52.619104 | F32: 68.111455
C33: 78.110808 | D33: 91.00346 | E33: 71.415027 | F33: 65.221878
F34: 75.851393
F35: 72.858617

Sheet 7 Graph plot

Sheet Base copy
A1: Month | B1: Contract Logistics (Global) | C1: ECRI weekly (USA) | D1: Economic sentiment (Europe) | E1: Economic sentiment (Univ. of Michigan) | F1: Purchasing managers index Europe | G1: Baltic index | H1: Semicon index | I1: ECRI weekly (USA)-1 | J1: Economic sentiment (Europe) -1 | K1: Economic sentiment (Univ. of Michigan)-1 | L1: Purchasing managers index Europe-1 | M1: Baltic index-1 | N1: Semicon index -1 | O1: ECRI weekly (USA)-2 | P1: Economic sentiment (Europe) -2 | Q1: Economic sentiment (Univ. of Michigan)-2 | R1: Purchasing managers index Europe-2 | S1: Baltic index-2 | T1: Semicon index -2 | U1: ECRI weekly (USA)-3 | V1: Economic sentiment (Europe) -3 | W1: Economic sentiment (Univ. of Michigan)-3 | X1: Purchasing managers index Europe-3 | Y1: Baltic index-3 | Z1: Semicon index -3 | AA1: ECRI weekly (USA)-4 | AB1: Economic sentiment (Europe) -4 | AC1: Economic sentiment (Univ. of Michigan)-4 | AD1: Purchasing managers index Europe-4 | AE1: Baltic index-4 | AF1: Semicon index -4 | AG1: ECRI weekly (USA)-5 | AH1: Economic sentiment (Europe) -5 | AI1: Economic sentiment (Univ. of Michigan)-5 | AJ1: Purchasing managers index Europe-5 | AK1: Baltic index-5 | AL1: Semicon index -5 | AM1: ECRI weekly (USA)-6 | AN1: Economic sentiment (Europe) -6 | AO1: Economic sentiment (Univ. of Michigan)-6 | AP1: Purchasing managers index Europe-6 | AQ1: Baltic index-6 | AR1: Semicon index -6 | AS1: ECRI weekly (USA)-7 | AT1: Economic sentiment (Europe) -7 | AU1: Economic sentiment (Univ. of Michigan)-7 | AV1: Purchasing managers index Europe-7 | AW1: Baltic index-7 | AX1: Semicon index -7 | AY1: ECRI weekly (USA)-8 | AZ1: Economic sentiment (Europe) -8 | BA1: Economic sentiment (Univ. of Michigan)-8 | BB1: Purchasing managers index Europe-8 | BC1: Baltic index-8 | BD1: Semicon index -8 | BE1: ECRI weekly (USA)-9 | BF1: Economic sentiment (Europe) -9 | BG1: Economic sentiment (Univ. of Michigan)-9 | BH1: Purchasing managers index Europe-9 | BI1: Baltic index-9 | BJ1: Semicon index -9 | BK1: ECRI weekly (USA)-10 | BL1: Economic sentiment (Europe) -10 | BM1: Economic sentiment (Univ. of Michigan)-10 | BN1: Purchasing managers index Europe-10 | BO1: Baltic index-10 | BP1: Semicon index -10 | BQ1: ECRI weekly (USA)-11 | BR1: Economic sentiment (Europe) -11 | BS1: Economic sentiment (Univ. of Michigan)-11 | BT1: Purchasing managers index Europe-11 | BU1: Baltic index-11 | BV1: Semicon index -11 | BW1: ECRI weekly (USA)-12 | BX1: Economic sentiment (Europe) -12 | BY1: Economic sentiment (Univ. of Michigan)-12 | BZ1: Purchasing managers index Europe-12 | CA1: Baltic index-12 | CB1: Semicon index -12
A2: 39083 | B2: 100 | C2: 100 | D2: 100 | E2: 100 | F2: 100 | G2: 100 | H2: 100 | I2: 100 | J2: 100 | K2: 100 | L2: 100 | M2: 100 | N2: 100 | O2: 100 | P2: 100 | Q2: 100 | R2: 100 | S2: 100 | T2: 100 | U2: 100 | V2: 100 | W2: 100 | X2: 100 | Y2: 100 | Z2: 100 | AA2: 100 | AB2: 100 | AC2: 100 | AD2: 100 | AE2: 100 | AF2: 100 | AG2: 100 | AH2: 100 | AI2: 100 | AJ2: 100 | AK2: 100 | AL2: 100 | AM2: 100 | AN2: 100 | AO2: 100 | AP2: 100 | AQ2: 100 | AR2: 100 | AS2: 100 | AT2: 100 | AU2: 100 | AV2: 100 | AW2: 100 | AX2: 100 | AY2: 100 | AZ2: 100 | BA2: 100 | BB2: 100 | BC2: 100 | BD2: 100 | BE2: 100 | BF2: 100 | BG2: 100 | BH2: 100 | BI2: 100 | BJ2: 100 | BK2: 100 | BL2: 100 | BM2: 100 | BN2: 100 | BO2: 100 | BP2: 100 | BQ2: 100 | BR2: 100 | BS2: 100 | BT2: 100 | BU2: 100 | BV2: 100 | BW2: 100 | BX2: 100 | BY2: 100 | BZ2: 100 | CA2: 100 | CB2: 100
A3: 39114 | B3: 100.51025 | C3: 99.986793 | D3: 101.18074 | E3: 94.220846 | F3: 100 | G3: 114.19768 | H3: 99.460285 | I3: 100 | J3: 100 | K3: 100 | L3: 100 | M3: 100 | N3: 100 | O3: 100 | P3: 100 | Q3: 100 | R3: 100 | S3: 100 | T3: 100 | U3: 100 | V3: 100 | W3: 100 | X3: 100 | Y3: 100 | Z3: 100 | AA3: 100 | AB3: 100 | AC3: 100 | AD3: 100 | AE3: 100 | AF3: 100 | AG3: 100 | AH3: 100 | AI3: 100 | AJ3: 100 | AK3: 100 | AL3: 100 | AM3: 100 | AN3: 100 | AO3: 100 | AP3: 100 | AQ3: 100 | AR3: 100 | AS3: 100 | AT3: 100 | AU3: 100 | AV3: 100 | AW3: 100 | AX3: 100 | AY3: 100 | AZ3: 100 | BA3: 100 | BB3: 100 | BC3: 100 | BD3: 100 | BE3: 100 | BF3: 100 | BG3: 100 | BH3: 100 | BI3: 100 | BJ3: 100 | BK3: 100 | BL3: 100 | BM3: 100 | BN3: 100 | BO3: 100 | BP3: 100 | BQ3: 100 | BR3: 100 | BS3: 100 | BT3: 100 | BU3: 100 | BV3: 100 | BW3: 100 | BX3: 100 | BY3: 100 | BZ3: 100 | CA3: 100 | CB3: 100
A4: 39142 | B4: 100.67966 | C4: 99.747802 | D4: 102.7248 | E4: 91.22807 | F4: 100 | G4: 127.70799 | H4: 100.98267 | I4: 99.986793 | J4: 101.18074 | K4: 94.220846 | L4: 100 | M4: 114.19768 | N4: 99.460285 | O4: 100 | P4: 100 | Q4: 100 | R4: 100 | S4: 100 | T4: 100 | U4: 100 | V4: 100 | W4: 100 | X4: 100 | Y4: 100 | Z4: 100 | AA4: 100 | AB4: 100 | AC4: 100 | AD4: 100 | AE4: 100 | AF4: 100 | AG4: 100 | AH4: 100 | AI4: 100 | AJ4: 100 | AK4: 100 | AL4: 100 | AM4: 100 | AN4: 100 | AO4: 100 | AP4: 100 | AQ4: 100 | AR4: 100 | AS4: 100 | AT4: 100 | AU4: 100 | AV4: 100 | AW4: 100 | AX4: 100 | AY4: 100 | AZ4: 100 | BA4: 100 | BB4: 100 | BC4: 100 | BD4: 100 | BE4: 100 | BF4: 100 | BG4: 100 | BH4: 100 | BI4: 100 | BJ4: 100 | BK4: 100 | BL4: 100 | BM4: 100 | BN4: 100 | BO4: 100 | BP4: 100 | BQ4: 100 | BR4: 100 | BS4: 100 | BT4: 100 | BU4: 100 | BV4: 100 | BW4: 100 | BX4: 100 | BY4: 100 | BZ4: 100 | CA4: 100 | CB4: 100
A5: 39173 | B5: 101.36116 | C5: 101.55703 | D5: 102.45232 | E5: 89.886481 | F5: 100 | G5: 148.25788 | H5: 100.08386 | I5: 99.747802 | J5: 102.7248 | K5: 91.22807 | L5: 100 | M5: 127.70799 | N5: 100.98267 | O5: 99.986793 | P5: 101.18074 | Q5: 94.220846 | R5: 100 | S5: 114.19768 | T5: 99.460285 | U5: 100 | V5: 100 | W5: 100 | X5: 100 | Y5: 100 | Z5: 100 | AA5: 100 | AB5: 100 | AC5: 100 | AD5: 100 | AE5: 100 | AF5: 100 | AG5: 100 | AH5: 100 | AI5: 100 | AJ5: 100 | AK5: 100 | AL5: 100 | AM5: 100 | AN5: 100 | AO5: 100 | AP5: 100 | AQ5: 100 | AR5: 100 | AS5: 100 | AT5: 100 | AU5: 100 | AV5: 100 | AW5: 100 | AX5: 100 | AY5: 100 | AZ5: 100 | BA5: 100 | BB5: 100 | BC5: 100 | BD5: 100 | BE5: 100 | BF5: 100 | BG5: 100 | BH5: 100 | BI5: 100 | BJ5: 100 | BK5: 100 | BL5: 100 | BM5: 100 | BN5: 100 | BO5: 100 | BP5: 100 | BQ5: 100 | BR5: 100 | BS5: 100 | BT5: 100 | BU5: 100 | BV5: 100 | BW5: 100 | BX5: 100 | BY5: 100 | BZ5: 100 | CA5: 100 | CB5: 100
A6: 39203 | B6: 101.47019 | C6: 101.91307 | D6: 103.81471 | E6: 91.124871 | F6: 100 | G6: 141.81086 | H6: 106.25081 | I6: 101.55703 | J6: 102.45232 | K6: 89.886481 | L6: 100 | M6: 148.25788 | N6: 100.08386 | O6: 99.747802 | P6: 102.7248 | Q6: 91.22807 | R6: 100 | S6: 127.70799 | T6: 100.98267 | U6: 99.986793 | V6: 101.18074 | W6: 94.220846 | X6: 100 | Y6: 114.19768 | Z6: 99.460285 | AA6: 100 | AB6: 100 | AC6: 100 | AD6: 100 | AE6: 100 | AF6: 100 | AG6: 100 | AH6: 100 | AI6: 100 | AJ6: 100 | AK6: 100 | AL6: 100 | AM6: 100 | AN6: 100 | AO6: 100 | AP6: 100 | AQ6: 100 | AR6: 100 | AS6: 100 | AT6: 100 | AU6: 100 | AV6: 100 | AW6: 100 | AX6: 100 | AY6: 100 | AZ6: 100 | BA6: 100 | BB6: 100 | BC6: 100 | BD6: 100 | BE6: 100 | BF6: 100 | BG6: 100 | BH6: 100 | BI6: 100 | BJ6: 100 | BK6: 100 | BL6: 100 | BM6: 100 | BN6: 100 | BO6: 100 | BP6: 100 | BQ6: 100 | BR6: 100 | BS6: 100 | BT6: 100 | BU6: 100 | BV6: 100 | BW6: 100 | BX6: 100 | BY6: 100 | BZ6: 100 | CA6: 100 | CB6: 100
A7: 39234 | B7: 101.2821 | C7: 101.73114 | D7: 103.81471 | E7: 88.028896 | F7: 100 | G7: 148.80303 | H7: 105.35845 | I7: 101.91307 | J7: 103.81471 | K7: 91.124871 | L7: 100 | M7: 141.81086 | N7: 106.25081 | O7: 101.55703 | P7: 102.45232 | Q7: 89.886481 | R7: 100 | S7: 148.25788 | T7: 100.08386 | U7: 99.747802 | V7: 102.7248 | W7: 91.22807 | X7: 100 | Y7: 127.70799 | Z7: 100.98267 | AA7: 99.986793 | AB7: 101.18074 | AC7: 94.220846 | AD7: 100 | AE7: 114.19768 | AF7: 99.460285 | AG7: 100 | AH7: 100 | AI7: 100 | AJ7: 100 | AK7: 100 | AL7: 100 | AM7: 100 | AN7: 100 | AO7: 100 | AP7: 100 | AQ7: 100 | AR7: 100 | AS7: 100 | AT7: 100 | AU7: 100 | AV7: 100 | AW7: 100 | AX7: 100 | AY7: 100 | AZ7: 100 | BA7: 100 | BB7: 100 | BC7: 100 | BD7: 100 | BE7: 100 | BF7: 100 | BG7: 100 | BH7: 100 | BI7: 100 | BJ7: 100 | BK7: 100 | BL7: 100 | BM7: 100 | BN7: 100 | BO7: 100 | BP7: 100 | BQ7: 100 | BR7: 100 | BS7: 100 | BT7: 100 | BU7: 100 | BV7: 100 | BW7: 100 | BX7: 100 | BY7: 100 | BZ7: 100 | CA7: 100 | CB7: 100
A8: 39264 | B8: 105.73954 | C8: 101.1381 | D8: 102.27066 | E8: 93.292054 | F8: 99.480969 | G8: 165.75018 | H8: 108.6763 | I8: 101.73114 | J8: 103.81471 | K8: 88.028896 | L8: 100 | M8: 148.80303 | N8: 105.35845 | O8: 101.91307 | P8: 103.81471 | Q8: 91.124871 | R8: 100 | S8: 141.81086 | T8: 106.25081 | U8: 101.55703 | V8: 102.45232 | W8: 89.886481 | X8: 100 | Y8: 148.25788 | Z8: 100.08386 | AA8: 99.747802 | AB8: 102.7248 | AC8: 91.22807 | AD8: 100 | AE8: 127.70799 | AF8: 100.98267 | AG8: 99.986793 | AH8: 101.18074 | AI8: 94.220846 | AJ8: 100 | AK8: 114.19768 | AL8: 99.460285 | AM8: 100 | AN8: 100 | AO8: 100 | AP8: 100 | AQ8: 100 | AR8: 100 | AS8: 100 | AT8: 100 | AU8: 100 | AV8: 100 | AW8: 100 | AX8: 100 | AY8: 100 | AZ8: 100 | BA8: 100 | BB8: 100 | BC8: 100 | BD8: 100 | BE8: 100 | BF8: 100 | BG8: 100 | BH8: 100 | BI8: 100 | BJ8: 100 | BK8: 100 | BL8: 100 | BM8: 100 | BN8: 100 | BO8: 100 | BP8: 100 | BQ8: 100 | BR8: 100 | BS8: 100 | BT8: 100 | BU8: 100 | BV8: 100 | BW8: 100 | BX8: 100 | BY8: 100 | BZ8: 100 | CA8: 100 | CB8: 100
A9: 39295 | B9: 102.14254 | C9: 99.246597 | D9: 102.17984 | E9: 86.068111 | F9: 99.307958 | G9: 182.55511 | H9: 107.71083 | I9: 101.1381 | J9: 102.27066 | K9: 93.292054 | L9: 99.480969 | M9: 165.75018 | N9: 108.6763 | O9: 101.73114 | P9: 103.81471 | Q9: 88.028896 | R9: 100 | S9: 148.80303 | T9: 105.35845 | U9: 101.91307 | V9: 103.81471 | W9: 91.124871 | X9: 100 | Y9: 141.81086 | Z9: 106.25081 | AA9: 101.55703 | AB9: 102.45232 | AC9: 89.886481 | AD9: 100 | AE9: 148.25788 | AF9: 100.08386 | AG9: 99.747802 | AH9: 102.7248 | AI9: 91.22807 | AJ9: 100 | AK9: 127.70799 | AL9: 100.98267 | AM9: 99.986793 | AN9: 101.18074 | AO9: 94.220846 | AP9: 100 | AQ9: 114.19768 | AR9: 99.460285 | AS9: 100 | AT9: 100 | AU9: 100 | AV9: 100 | AW9: 100 | AX9: 100 | AY9: 100 | AZ9: 100 | BA9: 100 | BB9: 100 | BC9: 100 | BD9: 100 | BE9: 100 | BF9: 100 | BG9: 100 | BH9: 100 | BI9: 100 | BJ9: 100 | BK9: 100 | BL9: 100 | BM9: 100 | BN9: 100 | BO9: 100 | BP9: 100 | BQ9: 100 | BR9: 100 | BS9: 100 | BT9: 100 | BU9: 100 | BV9: 100 | BW9: 100 | BX9: 100 | BY9: 100 | BZ9: 100 | CA9: 100 | CB9: 100
A10: 39326 | B10: 100.88711 | C10: 99.515847 | D10: 100.18165 | E10: 86.068111 | F10: 94.636678 | G10: 226.04883 | H10: 109.31708 | I10: 99.246597 | J10: 102.17984 | K10: 86.068111 | L10: 99.307958 | M10: 182.55511 | N10: 107.71083 | O10: 101.1381 | P10: 102.27066 | Q10: 93.292054 | R10: 99.480969 | S10: 165.75018 | T10: 108.6763 | U10: 101.73114 | V10: 103.81471 | W10: 88.028896 | X10: 100 | Y10: 148.80303 | Z10: 105.35845 | AA10: 101.91307 | AB10: 103.81471 | AC10: 91.124871 | AD10: 100 | AE10: 141.81086 | AF10: 106.25081 | AG10: 101.55703 | AH10: 102.45232 | AI10: 89.886481 | AJ10: 100 | AK10: 148.25788 | AL10: 100.08386 | AM10: 99.747802 | AN10: 102.7248 | AO10: 91.22807 | AP10: 100 | AQ10: 127.70799 | AR10: 100.98267 | AS10: 99.986793 | AT10: 101.18074 | AU10: 94.220846 | AV10: 100 | AW10: 114.19768 | AX10: 99.460285 | AY10: 100 | AZ10: 100 | BA10: 100 | BB10: 100 | BC10: 100 | BD10: 100 | BE10: 100 | BF10: 100 | BG10: 100 | BH10: 100 | BI10: 100 | BJ10: 100 | BK10: 100 | BL10: 100 | BM10: 100 | BN10: 100 | BO10: 100 | BP10: 100 | BQ10: 100 | BR10: 100 | BS10: 100 | BT10: 100 | BU10: 100 | BV10: 100 | BW10: 100 | BX10: 100 | BY10: 100 | BZ10: 100 | CA10: 100 | CB10: 100
A11: 39356 | B11: 102.45678 | C11: 99.576246 | D11: 99.182561 | E11: 83.488132 | F11: 94.290657 | G11: 250.79403 | H11: 108.80747 | I11: 99.515847 | J11: 100.18165 | K11: 86.068111 | L11: 94.636678 | M11: 226.04883 | N11: 109.31708 | O11: 99.246597 | P11: 102.17984 | Q11: 86.068111 | R11: 99.307958 | S11: 182.55511 | T11: 107.71083 | U11: 101.1381 | V11: 102.27066 | W11: 93.292054 | X11: 99.480969 | Y11: 165.75018 | Z11: 108.6763 | AA11: 101.73114 | AB11: 103.81471 | AC11: 88.028896 | AD11: 100 | AE11: 148.80303 | AF11: 105.35845 | AG11: 101.91307 | AH11: 103.81471 | AI11: 91.124871 | AJ11: 100 | AK11: 141.81086 | AL11: 106.25081 | AM11: 101.55703 | AN11: 102.45232 | AO11: 89.886481 | AP11: 100 | AQ11: 148.25788 | AR11: 100.08386 | AS11: 99.747802 | AT11: 102.7248 | AU11: 91.22807 | AV11: 100 | AW11: 127.70799 | AX11: 100.98267 | AY11: 99.986793 | AZ11: 101.18074 | BA11: 94.220846 | BB11: 100 | BC11: 114.19768 | BD11: 99.460285 | BE11: 100 | BF11: 100 | BG11: 100 | BH11: 100 | BI11: 100 | BJ11: 100 | BK11: 100 | BL11: 100 | BM11: 100 | BN11: 100 | BO11: 100 | BP11: 100 | BQ11: 100 | BR11: 100 | BS11: 100 | BT11: 100 | BU11: 100 | BV11: 100 | BW11: 100 | BX11: 100 | BY11: 100 | BZ11: 100 | CA11: 100 | CB11: 100
A12: 39387 | B12: 103.86168 | C12: 98.477546 | D12: 97.456857 | E12: 78.534572 | F12: 93.598616 | G12: 242.00047 | H12: 97.875543 | I12: 99.576246 | J12: 99.182561 | K12: 83.488132 | L12: 94.290657 | M12: 250.79403 | N12: 108.80747 | O12: 99.515847 | P12: 100.18165 | Q12: 86.068111 | R12: 94.636678 | S12: 226.04883 | T12: 109.31708 | U12: 99.246597 | V12: 102.17984 | W12: 86.068111 | X12: 99.307958 | Y12: 182.55511 | Z12: 107.71083 | AA12: 101.1381 | AB12: 102.27066 | AC12: 93.292054 | AD12: 99.480969 | AE12: 165.75018 | AF12: 108.6763 | AG12: 101.73114 | AH12: 103.81471 | AI12: 88.028896 | AJ12: 100 | AK12: 148.80303 | AL12: 105.35845 | AM12: 101.91307 | AN12: 103.81471 | AO12: 91.124871 | AP12: 100 | AQ12: 141.81086 | AR12: 106.25081 | AS12: 101.55703 | AT12: 102.45232 | AU12: 89.886481 | AV12: 100 | AW12: 148.25788 | AX12: 100.08386 | AY12: 99.747802 | AZ12: 102.7248 | BA12: 91.22807 | BB12: 100 | BC12: 127.70799 | BD12: 100.98267 | BE12: 99.986793 | BF12: 101.18074 | BG12: 94.220846 | BH12: 100 | BI12: 114.19768 | BJ12: 99.460285 | BK12: 100 | BL12: 100 | BM12: 100 | BN12: 100 | BO12: 100 | BP12: 100 | BQ12: 100 | BR12: 100 | BS12: 100 | BT12: 100 | BU12: 100 | BV12: 100 | BW12: 100 | BX12: 100 | BY12: 100 | BZ12: 100 | CA12: 100 | CB12: 100
A13: 39417 | B13: 103.46504 | C13: 96.012231 | D13: 96.639419 | E13: 77.915377 | F13: 92.214533 | G13: 216.71012 | H13: 89.231497 | I13: 98.477546 | J13: 97.456857 | K13: 78.534572 | L13: 93.598616 | M13: 242.00047 | N13: 97.875543 | O13: 99.576246 | P13: 99.182561 | Q13: 83.488132 | R13: 94.290657 | S13: 250.79403 | T13: 108.80747 | U13: 99.515847 | V13: 100.18165 | W13: 86.068111 | X13: 94.636678 | Y13: 226.04883 | Z13: 109.31708 | AA13: 99.246597 | AB13: 102.17984 | AC13: 86.068111 | AD13: 99.307958 | AE13: 182.55511 | AF13: 107.71083 | AG13: 101.1381 | AH13: 102.27066 | AI13: 93.292054 | AJ13: 99.480969 | AK13: 165.75018 | AL13: 108.6763 | AM13: 101.73114 | AN13: 103.81471 | AO13: 88.028896 | AP13: 100 | AQ13: 148.80303 | AR13: 105.35845 | AS13: 101.91307 | AT13: 103.81471 | AU13: 91.124871 | AV13: 100 | AW13: 141.81086 | AX13: 106.25081 | AY13: 101.55703 | AZ13: 102.45232 | BA13: 89.886481 | BB13: 100 | BC13: 148.25788 | BD13: 100.08386 | BE13: 99.747802 | BF13: 102.7248 | BG13: 91.22807 | BH13: 100 | BI13: 127.70799 | BJ13: 100.98267 | BK13: 99.986793 | BL13: 101.18074 | BM13: 94.220846 | BN13: 100 | BO13: 114.19768 | BP13: 99.460285 | BQ13: 100 | BR13: 100 | BS13: 100 | BT13: 100 | BU13: 100 | BV13: 100 | BW13: 100 | BX13: 100 | BY13: 100 | BZ13: 100 | CA13: 100 | CB13: 100
... A35: 40087 | B35: 96.015603 | C35: 91.563795 | D35: 78.110808 | E35: 72.858617 | F35: 91.00346 | G35: 71.415027 | H35: 66.651615 | I35: 91.207238 | J35: 75.022707 | K35: 75.851393 | L35: 88.062284 | M35: 52.619104 | N35: 64.21537 | O35: 89.139208 | P35: 73.478656 | Q35: 65.221878 | R35: 86.50519 | S35: 57.383266 | T35: 66.055993 | U35: 84.432658 | V35: 68.119891 | W35: 68.111455 | X35: 81.314879 | Y35: 79.284191 | Z35: 56.584097 | AA35: 82.293317 | AB35: 64.577657 | AC35: 73.065015 | AD35: 76.816609 | AE35: 96.468357 | AF35: 58.338709 | AG35: 79.226928 | AH35: 60.58129 | AI35: 70.897833 | AJ35: 75.951557 | AK35: 74.994074 | AL35: 55.517568 | AM35: 76.445785 | AN35: 58.038147 | AO35: 63.880289 | AP35: 70.069204 | AQ35: 42.427115 | AR35: 50.288135 | AS35: 76.089228 | AT35: 54.768392 | AU35: 59.133127 | AV35: 66.262976 | AW35: 37.307419 | AX35: 40.633467 | AY35: 75.243971 | AZ35: 55.313351 | BA35: 58.101135 | BB35: 62.629758 | BC35: 47.072766 | BD35: 45.267277 | BE35: 76.562908 | BF35: 57.402361 | BG35: 63.157895 | BH35: 66.608997 | BI35: 25.36146 | BJ35: 47.716424 | BK35: 77.477376 | BL35: 60.490463 | BM35: 62.022704 | BN35: 66.262976 | BO35: 18.34558 | BP35: 39.401368 | BQ35: 77.801439 | BR35: 66.757493 | BS35: 57.069143 | BT35: 67.301038 | BU35: 16.591609 | BV35: 53.264095 | BW35: 78.563072 | BX35: 72.388738 | BY35: 58.410733 | BZ35: 75.432526 | CA35: 20.170657 | CB35: 62.045758
