Workbook

Sheet 1 Enance Data
A1: Month | B1: Contract Logistics (Global) | C1: ECRI weekly (USA) | D1: Economic sentiment (Europe) | E1: Economic sentiment (Univ. of Michigan) | F1: Purchasing managers index Europe | G1: Baltic index | H1: Semicon index | I1: ECRI weekly (USA)-1 | J1: Economic sentiment (Europe) -1 | K1: Economic sentiment (Univ. of Michigan)-1 | L1: Purchasing managers index Europe-1 | M1: Baltic index-1 | N1: Semicon index -1 | O1: ECRI weekly (USA)-2 | P1: Economic sentiment (Europe) -2 | Q1: Economic sentiment (Univ. of Michigan)-2 | R1: Purchasing managers index Europe-2 | S1: Baltic index-2 | T1: Semicon index -2 | U1: ECRI weekly (USA)-3 | V1: Economic sentiment (Europe) -3 | W1: Economic sentiment (Univ. of Michigan)-3 | X1: Purchasing managers index Europe-3 | Y1: Baltic index-3 | Z1: Semicon index -3 | AA1: ECRI weekly (USA)-4 | AB1: Economic sentiment (Europe) -4 | AC1: Economic sentiment (Univ. of Michigan)-4 | AD1: Purchasing managers index Europe-4 | AE1: Baltic index-4 | AF1: Semicon index -4 | AG1: ECRI weekly (USA)-5 | AH1: Economic sentiment (Europe) -5 | AI1: Economic sentiment (Univ. of Michigan)-5 | AJ1: Purchasing managers index Europe-5 | AK1: Baltic index-5 | AL1: Semicon index -5 | AM1: ECRI weekly (USA)-6 | AN1: Economic sentiment (Europe) -6 | AO1: Economic sentiment (Univ. of Michigan)-6 | AP1: Purchasing managers index Europe-6 | AQ1: Baltic index-6 | AR1: Semicon index -6 | AS1: ECRI weekly (USA)-7 | AT1: Economic sentiment (Europe) -7 | AU1: Economic sentiment (Univ. of Michigan)-7 | AV1: Purchasing managers index Europe-7 | AW1: Baltic index-7 | AX1: Semicon index -7 | AY1: ECRI weekly (USA)-8 | AZ1: Economic sentiment (Europe) -8 | BA1: Economic sentiment (Univ. of Michigan)-8 | BB1: Purchasing managers index Europe-8 | BC1: Baltic index-8 | BD1: Semicon index -8 | BE1: ECRI weekly (USA)-9 | BF1: Economic sentiment (Europe) -9 | BG1: Economic sentiment (Univ. of Michigan)-9 | BH1: Purchasing managers index Europe-9 | BI1: Baltic index-9 | BJ1: Semicon index -9 | BK1: ECRI weekly (USA)-10 | BL1: Economic sentiment (Europe) -10 | BM1: Economic sentiment (Univ. of Michigan)-10 | BN1: Purchasing managers index Europe-10 | BO1: Baltic index-10 | BP1: Semicon index -10 | BQ1: ECRI weekly (USA)-11 | BR1: Economic sentiment (Europe) -11 | BS1: Economic sentiment (Univ. of Michigan)-11 | BT1: Purchasing managers index Europe-11 | BU1: Baltic index-11 | BV1: Semicon index -11 | BW1: ECRI weekly (USA)-12 | BX1: Economic sentiment (Europe) -12 | BY1: Economic sentiment (Univ. of Michigan)-12 | BZ1: Purchasing managers index Europe-12 | CA1: Baltic index-12 | CB1: Semicon index -12
A2: 39083 | B2: 100 | C2: 100 | D2: 100 | E2: 100 | F2: 100 | G2: 100 | H2: 100 | I2: 100 | J2: 100 | K2: 100 | L2: 100 | M2: 100 | N2: 100 | O2: 100 | P2: 100 | Q2: 100 | R2: 100 | S2: 100 | T2: 100 | U2: 100 | V2: 100 | W2: 100 | X2: 100 | Y2: 100 | Z2: 100 | AA2: 100 | AB2: 100 | AC2: 100 | AD2: 100 | AE2: 100 | AF2: 100 | AG2: 100 | AH2: 100 | AI2: 100 | AJ2: 100 | AK2: 100 | AL2: 100 | AM2: 100 | AN2: 100 | AO2: 100 | AP2: 100 | AQ2: 100 | AR2: 100 | AS2: 100 | AT2: 100 | AU2: 100 | AV2: 100 | AW2: 100 | AX2: 100 | AY2: 100 | AZ2: 100 | BA2: 100 | BB2: 100 | BC2: 100 | BD2: 100 | BE2: 100 | BF2: 100 | BG2: 100 | BH2: 100 | BI2: 100 | BJ2: 100 | BK2: 100 | BL2: 100 | BM2: 100 | BN2: 100 | BO2: 100 | BP2: 100 | BQ2: 100 | BR2: 100 | BS2: 100 | BT2: 100 | BU2: 100 | BV2: 100 | BW2: 100 | BX2: 100 | BY2: 100 | BZ2: 100 | CA2: 100 | CB2: 100
A3: 39114 | B3: 100.51025 | C3: 99.986793 | D3: 101.18074 | E3: 94.220846 | F3: 100 | G3: 114.19768 | H3: 99.460285 | I3: 100 | J3: 100 | K3: 100 | L3: 100 | M3: 100 | N3: 100 | O3: 100 | P3: 100 | Q3: 100 | R3: 100 | S3: 100 | T3: 100 | U3: 100 | V3: 100 | W3: 100 | X3: 100 | Y3: 100 | Z3: 100 | AA3: 100 | AB3: 100 | AC3: 100 | AD3: 100 | AE3: 100 | AF3: 100 | AG3: 100 | AH3: 100 | AI3: 100 | AJ3: 100 | AK3: 100 | AL3: 100 | AM3: 100 | AN3: 100 | AO3: 100 | AP3: 100 | AQ3: 100 | AR3: 100 | AS3: 100 | AT3: 100 | AU3: 100 | AV3: 100 | AW3: 100 | AX3: 100 | AY3: 100 | AZ3: 100 | BA3: 100 | BB3: 100 | BC3: 100 | BD3: 100 | BE3: 100 | BF3: 100 | BG3: 100 | BH3: 100 | BI3: 100 | BJ3: 100 | BK3: 100 | BL3: 100 | BM3: 100 | BN3: 100 | BO3: 100 | BP3: 100 | BQ3: 100 | BR3: 100 | BS3: 100 | BT3: 100 | BU3: 100 | BV3: 100 | BW3: 100 | BX3: 100 | BY3: 100 | BZ3: 100 | CA3: 100 | CB3: 100
A4: 39142 | B4: 100.67966 | C4: 99.747802 | D4: 102.7248 | E4: 91.22807 | F4: 100 | G4: 127.70799 | H4: 100.98267 | I4: 99.986793 | J4: 101.18074 | K4: 94.220846 | L4: 100 | M4: 114.19768 | N4: 99.460285 | O4: 100 | P4: 100 | Q4: 100 | R4: 100 | S4: 100 | T4: 100 | U4: 100 | V4: 100 | W4: 100 | X4: 100 | Y4: 100 | Z4: 100 | AA4: 100 | AB4: 100 | AC4: 100 | AD4: 100 | AE4: 100 | AF4: 100 | AG4: 100 | AH4: 100 | AI4: 100 | AJ4: 100 | AK4: 100 | AL4: 100 | AM4: 100 | AN4: 100 | AO4: 100 | AP4: 100 | AQ4: 100 | AR4: 100 | AS4: 100 | AT4: 100 | AU4: 100 | AV4: 100 | AW4: 100 | AX4: 100 | AY4: 100 | AZ4: 100 | BA4: 100 | BB4: 100 | BC4: 100 | BD4: 100 | BE4: 100 | BF4: 100 | BG4: 100 | BH4: 100 | BI4: 100 | BJ4: 100 | BK4: 100 | BL4: 100 | BM4: 100 | BN4: 100 | BO4: 100 | BP4: 100 | BQ4: 100 | BR4: 100 | BS4: 100 | BT4: 100 | BU4: 100 | BV4: 100 | BW4: 100 | BX4: 100 | BY4: 100 | BZ4: 100 | CA4: 100 | CB4: 100
A5: 39173 | B5: 101.36116 | C5: 101.55703 | D5: 102.45232 | E5: 89.886481 | F5: 100 | G5: 148.25788 | H5: 100.08386 | I5: 99.747802 | J5: 102.7248 | K5: 91.22807 | L5: 100 | M5: 127.70799 | N5: 100.98267 | O5: 99.986793 | P5: 101.18074 | Q5: 94.220846 | R5: 100 | S5: 114.19768 | T5: 99.460285 | U5: 100 | V5: 100 | W5: 100 | X5: 100 | Y5: 100 | Z5: 100 | AA5: 100 | AB5: 100 | AC5: 100 | AD5: 100 | AE5: 100 | AF5: 100 | AG5: 100 | AH5: 100 | AI5: 100 | AJ5: 100 | AK5: 100 | AL5: 100 | AM5: 100 | AN5: 100 | AO5: 100 | AP5: 100 | AQ5: 100 | AR5: 100 | AS5: 100 | AT5: 100 | AU5: 100 | AV5: 100 | AW5: 100 | AX5: 100 | AY5: 100 | AZ5: 100 | BA5: 100 | BB5: 100 | BC5: 100 | BD5: 100 | BE5: 100 | BF5: 100 | BG5: 100 | BH5: 100 | BI5: 100 | BJ5: 100 | BK5: 100 | BL5: 100 | BM5: 100 | BN5: 100 | BO5: 100 | BP5: 100 | BQ5: 100 | BR5: 100 | BS5: 100 | BT5: 100 | BU5: 100 | BV5: 100 | BW5: 100 | BX5: 100 | BY5: 100 | BZ5: 100 | CA5: 100 | CB5: 100
A6: 39203 | B6: 101.47019 | C6: 101.91307 | D6: 103.81471 | E6: 91.124871 | F6: 100 | G6: 141.81086 | H6: 106.25081 | I6: 101.55703 | J6: 102.45232 | K6: 89.886481 | L6: 100 | M6: 148.25788 | N6: 100.08386 | O6: 99.747802 | P6: 102.7248 | Q6: 91.22807 | R6: 100 | S6: 127.70799 | T6: 100.98267 | U6: 99.986793 | V6: 101.18074 | W6: 94.220846 | X6: 100 | Y6: 114.19768 | Z6: 99.460285 | AA6: 100 | AB6: 100 | AC6: 100 | AD6: 100 | AE6: 100 | AF6: 100 | AG6: 100 | AH6: 100 | AI6: 100 | AJ6: 100 | AK6: 100 | AL6: 100 | AM6: 100 | AN6: 100 | AO6: 100 | AP6: 100 | AQ6: 100 | AR6: 100 | AS6: 100 | AT6: 100 | AU6: 100 | AV6: 100 | AW6: 100 | AX6: 100 | AY6: 100 | AZ6: 100 | BA6: 100 | BB6: 100 | BC6: 100 | BD6: 100 | BE6: 100 | BF6: 100 | BG6: 100 | BH6: 100 | BI6: 100 | BJ6: 100 | BK6: 100 | BL6: 100 | BM6: 100 | BN6: 100 | BO6: 100 | BP6: 100 | BQ6: 100 | BR6: 100 | BS6: 100 | BT6: 100 | BU6: 100 | BV6: 100 | BW6: 100 | BX6: 100 | BY6: 100 | BZ6: 100 | CA6: 100 | CB6: 100
A7: 39234 | B7: 101.2821 | C7: 101.73114 | D7: 103.81471 | E7: 88.028896 | F7: 100 | G7: 148.80303 | H7: 105.35845 | I7: 101.91307 | J7: 103.81471 | K7: 91.124871 | L7: 100 | M7: 141.81086 | N7: 106.25081 | O7: 101.55703 | P7: 102.45232 | Q7: 89.886481 | R7: 100 | S7: 148.25788 | T7: 100.08386 | U7: 99.747802 | V7: 102.7248 | W7: 91.22807 | X7: 100 | Y7: 127.70799 | Z7: 100.98267 | AA7: 99.986793 | AB7: 101.18074 | AC7: 94.220846 | AD7: 100 | AE7: 114.19768 | AF7: 99.460285 | AG7: 100 | AH7: 100 | AI7: 100 | AJ7: 100 | AK7: 100 | AL7: 100 | AM7: 100 | AN7: 100 | AO7: 100 | AP7: 100 | AQ7: 100 | AR7: 100 | AS7: 100 | AT7: 100 | AU7: 100 | AV7: 100 | AW7: 100 | AX7: 100 | AY7: 100 | AZ7: 100 | BA7: 100 | BB7: 100 | BC7: 100 | BD7: 100 | BE7: 100 | BF7: 100 | BG7: 100 | BH7: 100 | BI7: 100 | BJ7: 100 | BK7: 100 | BL7: 100 | BM7: 100 | BN7: 100 | BO7: 100 | BP7: 100 | BQ7: 100 | BR7: 100 | BS7: 100 | BT7: 100 | BU7: 100 | BV7: 100 | BW7: 100 | BX7: 100 | BY7: 100 | BZ7: 100 | CA7: 100 | CB7: 100
A8: 39264 | B8: 105.73954 | C8: 101.1381 | D8: 102.27066 | E8: 93.292054 | F8: 99.480969 | G8: 165.75018 | H8: 108.6763 | I8: 101.73114 | J8: 103.81471 | K8: 88.028896 | L8: 100 | M8: 148.80303 | N8: 105.35845 | O8: 101.91307 | P8: 103.81471 | Q8: 91.124871 | R8: 100 | S8: 141.81086 | T8: 106.25081 | U8: 101.55703 | V8: 102.45232 | W8: 89.886481 | X8: 100 | Y8: 148.25788 | Z8: 100.08386 | AA8: 99.747802 | AB8: 102.7248 | AC8: 91.22807 | AD8: 100 | AE8: 127.70799 | AF8: 100.98267 | AG8: 99.986793 | AH8: 101.18074 | AI8: 94.220846 | AJ8: 100 | AK8: 114.19768 | AL8: 99.460285 | AM8: 100 | AN8: 100 | AO8: 100 | AP8: 100 | AQ8: 100 | AR8: 100 | AS8: 100 | AT8: 100 | AU8: 100 | AV8: 100 | AW8: 100 | AX8: 100 | AY8: 100 | AZ8: 100 | BA8: 100 | BB8: 100 | BC8: 100 | BD8: 100 | BE8: 100 | BF8: 100 | BG8: 100 | BH8: 100 | BI8: 100 | BJ8: 100 | BK8: 100 | BL8: 100 | BM8: 100 | BN8: 100 | BO8: 100 | BP8: 100 | BQ8: 100 | BR8: 100 | BS8: 100 | BT8: 100 | BU8: 100 | BV8: 100 | BW8: 100 | BX8: 100 | BY8: 100 | BZ8: 100 | CA8: 100 | CB8: 100
A9: 39295 | B9: 102.14254 | C9: 99.246597 | D9: 102.17984 | E9: 86.068111 | F9: 99.307958 | G9: 182.55511 | H9: 107.71083 | I9: 101.1381 | J9: 102.27066 | K9: 93.292054 | L9: 99.480969 | M9: 165.75018 | N9: 108.6763 | O9: 101.73114 | P9: 103.81471 | Q9: 88.028896 | R9: 100 | S9: 148.80303 | T9: 105.35845 | U9: 101.91307 | V9: 103.81471 | W9: 91.124871 | X9: 100 | Y9: 141.81086 | Z9: 106.25081 | AA9: 101.55703 | AB9: 102.45232 | AC9: 89.886481 | AD9: 100 | AE9: 148.25788 | AF9: 100.08386 | AG9: 99.747802 | AH9: 102.7248 | AI9: 91.22807 | AJ9: 100 | AK9: 127.70799 | AL9: 100.98267 | AM9: 99.986793 | AN9: 101.18074 | AO9: 94.220846 | AP9: 100 | AQ9: 114.19768 | AR9: 99.460285 | AS9: 100 | AT9: 100 | AU9: 100 | AV9: 100 | AW9: 100 | AX9: 100 | AY9: 100 | AZ9: 100 | BA9: 100 | BB9: 100 | BC9: 100 | BD9: 100 | BE9: 100 | BF9: 100 | BG9: 100 | BH9: 100 | BI9: 100 | BJ9: 100 | BK9: 100 | BL9: 100 | BM9: 100 | BN9: 100 | BO9: 100 | BP9: 100 | BQ9: 100 | BR9: 100 | BS9: 100 | BT9: 100 | BU9: 100 | BV9: 100 | BW9: 100 | BX9: 100 | BY9: 100 | BZ9: 100 | CA9: 100 | CB9: 100
A10: 39326 | B10: 100.88711 | C10: 99.515847 | D10: 100.18165 | E10: 86.068111 | F10: 94.636678 | G10: 226.04883 | H10: 109.31708 | I10: 99.246597 | J10: 102.17984 | K10: 86.068111 | L10: 99.307958 | M10: 182.55511 | N10: 107.71083 | O10: 101.1381 | P10: 102.27066 | Q10: 93.292054 | R10: 99.480969 | S10: 165.75018 | T10: 108.6763 | U10: 101.73114 | V10: 103.81471 | W10: 88.028896 | X10: 100 | Y10: 148.80303 | Z10: 105.35845 | AA10: 101.91307 | AB10: 103.81471 | AC10: 91.124871 | AD10: 100 | AE10: 141.81086 | AF10: 106.25081 | AG10: 101.55703 | AH10: 102.45232 | AI10: 89.886481 | AJ10: 100 | AK10: 148.25788 | AL10: 100.08386 | AM10: 99.747802 | AN10: 102.7248 | AO10: 91.22807 | AP10: 100 | AQ10: 127.70799 | AR10: 100.98267 | AS10: 99.986793 | AT10: 101.18074 | AU10: 94.220846 | AV10: 100 | AW10: 114.19768 | AX10: 99.460285 | AY10: 100 | AZ10: 100 | BA10: 100 | BB10: 100 | BC10: 100 | BD10: 100 | BE10: 100 | BF10: 100 | BG10: 100 | BH10: 100 | BI10: 100 | BJ10: 100 | BK10: 100 | BL10: 100 | BM10: 100 | BN10: 100 | BO10: 100 | BP10: 100 | BQ10: 100 | BR10: 100 | BS10: 100 | BT10: 100 | BU10: 100 | BV10: 100 | BW10: 100 | BX10: 100 | BY10: 100 | BZ10: 100 | CA10: 100 | CB10: 100
A11: 39356 | B11: 102.45678 | C11: 99.576246 | D11: 99.182561 | E11: 83.488132 | F11: 94.290657 | G11: 250.79403 | H11: 108.80747 | I11: 99.515847 | J11: 100.18165 | K11: 86.068111 | L11: 94.636678 | M11: 226.04883 | N11: 109.31708 | O11: 99.246597 | P11: 102.17984 | Q11: 86.068111 | R11: 99.307958 | S11: 182.55511 | T11: 107.71083 | U11: 101.1381 | V11: 102.27066 | W11: 93.292054 | X11: 99.480969 | Y11: 165.75018 | Z11: 108.6763 | AA11: 101.73114 | AB11: 103.81471 | AC11: 88.028896 | AD11: 100 | AE11: 148.80303 | AF11: 105.35845 | AG11: 101.91307 | AH11: 103.81471 | AI11: 91.124871 | AJ11: 100 | AK11: 141.81086 | AL11: 106.25081 | AM11: 101.55703 | AN11: 102.45232 | AO11: 89.886481 | AP11: 100 | AQ11: 148.25788 | AR11: 100.08386 | AS11: 99.747802 | AT11: 102.7248 | AU11: 91.22807 | AV11: 100 | AW11: 127.70799 | AX11: 100.98267 | AY11: 99.986793 | AZ11: 101.18074 | BA11: 94.220846 | BB11: 100 | BC11: 114.19768 | BD11: 99.460285 | BE11: 100 | BF11: 100 | BG11: 100 | BH11: 100 | BI11: 100 | BJ11: 100 | BK11: 100 | BL11: 100 | BM11: 100 | BN11: 100 | BO11: 100 | BP11: 100 | BQ11: 100 | BR11: 100 | BS11: 100 | BT11: 100 | BU11: 100 | BV11: 100 | BW11: 100 | BX11: 100 | BY11: 100 | BZ11: 100 | CA11: 100 | CB11: 100
A12: 39387 | B12: 103.86168 | C12: 98.477546 | D12: 97.456857 | E12: 78.534572 | F12: 93.598616 | G12: 242.00047 | H12: 97.875543 | I12: 99.576246 | J12: 99.182561 | K12: 83.488132 | L12: 94.290657 | M12: 250.79403 | N12: 108.80747 | O12: 99.515847 | P12: 100.18165 | Q12: 86.068111 | R12: 94.636678 | S12: 226.04883 | T12: 109.31708 | U12: 99.246597 | V12: 102.17984 | W12: 86.068111 | X12: 99.307958 | Y12: 182.55511 | Z12: 107.71083 | AA12: 101.1381 | AB12: 102.27066 | AC12: 93.292054 | AD12: 99.480969 | AE12: 165.75018 | AF12: 108.6763 | AG12: 101.73114 | AH12: 103.81471 | AI12: 88.028896 | AJ12: 100 | AK12: 148.80303 | AL12: 105.35845 | AM12: 101.91307 | AN12: 103.81471 | AO12: 91.124871 | AP12: 100 | AQ12: 141.81086 | AR12: 106.25081 | AS12: 101.55703 | AT12: 102.45232 | AU12: 89.886481 | AV12: 100 | AW12: 148.25788 | AX12: 100.08386 | AY12: 99.747802 | AZ12: 102.7248 | BA12: 91.22807 | BB12: 100 | BC12: 127.70799 | BD12: 100.98267 | BE12: 99.986793 | BF12: 101.18074 | BG12: 94.220846 | BH12: 100 | BI12: 114.19768 | BJ12: 99.460285 | BK12: 100 | BL12: 100 | BM12: 100 | BN12: 100 | BO12: 100 | BP12: 100 | BQ12: 100 | BR12: 100 | BS12: 100 | BT12: 100 | BU12: 100 | BV12: 100 | BW12: 100 | BX12: 100 | BY12: 100 | BZ12: 100 | CA12: 100 | CB12: 100
A13: 39417 | B13: 103.46504 | C13: 96.012231 | D13: 96.639419 | E13: 77.915377 | F13: 92.214533 | G13: 216.71012 | H13: 89.231497 | I13: 98.477546 | J13: 97.456857 | K13: 78.534572 | L13: 93.598616 | M13: 242.00047 | N13: 97.875543 | O13: 99.576246 | P13: 99.182561 | Q13: 83.488132 | R13: 94.290657 | S13: 250.79403 | T13: 108.80747 | U13: 99.515847 | V13: 100.18165 | W13: 86.068111 | X13: 94.636678 | Y13: 226.04883 | Z13: 109.31708 | AA13: 99.246597 | AB13: 102.17984 | AC13: 86.068111 | AD13: 99.307958 | AE13: 182.55511 | AF13: 107.71083 | AG13: 101.1381 | AH13: 102.27066 | AI13: 93.292054 | AJ13: 99.480969 | AK13: 165.75018 | AL13: 108.6763 | AM13: 101.73114 | AN13: 103.81471 | AO13: 88.028896 | AP13: 100 | AQ13: 148.80303 | AR13: 105.35845 | AS13: 101.91307 | AT13: 103.81471 | AU13: 91.124871 | AV13: 100 | AW13: 141.81086 | AX13: 106.25081 | AY13: 101.55703 | AZ13: 102.45232 | BA13: 89.886481 | BB13: 100 | BC13: 148.25788 | BD13: 100.08386 | BE13: 99.747802 | BF13: 102.7248 | BG13: 91.22807 | BH13: 100 | BI13: 127.70799 | BJ13: 100.98267 | BK13: 99.986793 | BL13: 101.18074 | BM13: 94.220846 | BN13: 100 | BO13: 114.19768 | BP13: 99.460285 | BQ13: 100 | BR13: 100 | BS13: 100 | BT13: 100 | BU13: 100 | BV13: 100 | BW13: 100 | BX13: 100 | BY13: 100 | BZ13: 100 | CA13: 100 | CB13: 100
... A35: 40087 | B35: 96.015603 | C35: 91.563795 | D35: 78.110808 | E35: 72.858617 | F35: 91.00346 | G35: 71.415027 | H35: 66.651615 | I35: 91.207238 | J35: 75.022707 | K35: 75.851393 | L35: 88.062284 | M35: 52.619104 | N35: 64.21537 | O35: 89.139208 | P35: 73.478656 | Q35: 65.221878 | R35: 86.50519 | S35: 57.383266 | T35: 66.055993 | U35: 84.432658 | V35: 68.119891 | W35: 68.111455 | X35: 81.314879 | Y35: 79.284191 | Z35: 56.584097 | AA35: 82.293317 | AB35: 64.577657 | AC35: 73.065015 | AD35: 76.816609 | AE35: 96.468357 | AF35: 58.338709 | AG35: 79.226928 | AH35: 60.58129 | AI35: 70.897833 | AJ35: 75.951557 | AK35: 74.994074 | AL35: 55.517568 | AM35: 76.445785 | AN35: 58.038147 | AO35: 63.880289 | AP35: 70.069204 | AQ35: 42.427115 | AR35: 50.288135 | AS35: 76.089228 | AT35: 54.768392 | AU35: 59.133127 | AV35: 66.262976 | AW35: 37.307419 | AX35: 40.633467 | AY35: 75.243971 | AZ35: 55.313351 | BA35: 58.101135 | BB35: 62.629758 | BC35: 47.072766 | BD35: 45.267277 | BE35: 76.562908 | BF35: 57.402361 | BG35: 63.157895 | BH35: 66.608997 | BI35: 25.36146 | BJ35: 47.716424 | BK35: 77.477376 | BL35: 60.490463 | BM35: 62.022704 | BN35: 66.262976 | BO35: 18.34558 | BP35: 39.401368 | BQ35: 77.801439 | BR35: 66.757493 | BS35: 57.069143 | BT35: 67.301038 | BU35: 16.591609 | BV35: 53.264095 | BW35: 78.563072 | BX35: 72.388738 | BY35: 58.410733 | BZ35: 75.432526 | CA35: 20.170657 | CB35: 62.045758
I36: 91.563795 | J36: 78.110808 | K36: 72.858617 | L36: 91.00346 | M36: 71.415027 | N36: 66.651615 | O36: 91.207238 | P36: 75.022707 | Q36: 75.851393 | R36: 88.062284 | S36: 52.619104 | T36: 64.21537 | U36: 89.139208 | V36: 73.478656 | W36: 65.221878 | X36: 86.50519 | Y36: 57.383266 | Z36: 66.055993 | AA36: 84.432658 | AB36: 68.119891 | AC36: 68.111455 | AD36: 81.314879 | AE36: 79.284191 | AF36: 56.584097 | AG36: 82.293317 | AH36: 64.577657 | AI36: 73.065015 | AJ36: 76.816609 | AK36: 96.468357 | AL36: 58.338709 | AM36: 79.226928 | AN36: 60.58129 | AO36: 70.897833 | AP36: 75.951557 | AQ36: 74.994074 | AR36: 55.517568 | AS36: 76.445785 | AT36: 58.038147 | AU36: 63.880289 | AV36: 70.069204 | AW36: 42.427115 | AX36: 50.288135 | AY36: 76.089228 | AZ36: 54.768392 | BA36: 59.133127 | BB36: 66.262976 | BC36: 37.307419 | BD36: 40.633467 | BE36: 75.243971 | BF36: 55.313351 | BG36: 58.101135 | BH36: 62.629758 | BI36: 47.072766 | BJ36: 45.267277 | BK36: 76.562908 | BL36: 57.402361 | BM36: 63.157895 | BN36: 66.608997 | BO36: 25.36146 | BP36: 47.716424 | BQ36: 77.477376 | BR36: 60.490463 | BS36: 62.022704 | BT36: 66.262976 | BU36: 18.34558 | BV36: 39.401368 | BW36: 77.801439 | BX36: 66.757493 | BY36: 57.069143 | BZ36: 67.301038 | CA36: 16.591609 | CB36: 53.264095
O37: 91.563795 | P37: 78.110808 | Q37: 72.858617 | R37: 91.00346 | S37: 71.415027 | T37: 66.651615 | U37: 91.207238 | V37: 75.022707 | W37: 75.851393 | X37: 88.062284 | Y37: 52.619104 | Z37: 64.21537 | AA37: 89.139208 | AB37: 73.478656 | AC37: 65.221878 | AD37: 86.50519 | AE37: 57.383266 | AF37: 66.055993 | AG37: 84.432658 | AH37: 68.119891 | AI37: 68.111455 | AJ37: 81.314879 | AK37: 79.284191 | AL37: 56.584097 | AM37: 82.293317 | AN37: 64.577657 | AO37: 73.065015 | AP37: 76.816609 | AQ37: 96.468357 | AR37: 58.338709 | AS37: 79.226928 | AT37: 60.58129 | AU37: 70.897833 | AV37: 75.951557 | AW37: 74.994074 | AX37: 55.517568 | AY37: 76.445785 | AZ37: 58.038147 | BA37: 63.880289 | BB37: 70.069204 | BC37: 42.427115 | BD37: 50.288135 | BE37: 76.089228 | BF37: 54.768392 | BG37: 59.133127 | BH37: 66.262976 | BI37: 37.307419 | BJ37: 40.633467 | BK37: 75.243971 | BL37: 55.313351 | BM37: 58.101135 | BN37: 62.629758 | BO37: 47.072766 | BP37: 45.267277 | BQ37: 76.562908 | BR37: 57.402361 | BS37: 63.157895 | BT37: 66.608997 | BU37: 25.36146 | BV37: 47.716424 | BW37: 77.477376 | BX37: 60.490463 | BY37: 62.022704 | BZ37: 66.262976 | CA37: 18.34558 | CB37: 39.401368
U38: 91.563795 | V38: 78.110808 | W38: 72.858617 | X38: 91.00346 | Y38: 71.415027 | Z38: 66.651615 | AA38: 91.207238 | AB38: 75.022707 | AC38: 75.851393 | AD38: 88.062284 | AE38: 52.619104 | AF38: 64.21537 | AG38: 89.139208 | AH38: 73.478656 | AI38: 65.221878 | AJ38: 86.50519 | AK38: 57.383266 | AL38: 66.055993 | AM38: 84.432658 | AN38: 68.119891 | AO38: 68.111455 | AP38: 81.314879 | AQ38: 79.284191 | AR38: 56.584097 | AS38: 82.293317 | AT38: 64.577657 | AU38: 73.065015 | AV38: 76.816609 | AW38: 96.468357 | AX38: 58.338709 | AY38: 79.226928 | AZ38: 60.58129 | BA38: 70.897833 | BB38: 75.951557 | BC38: 74.994074 | BD38: 55.517568 | BE38: 76.445785 | BF38: 58.038147 | BG38: 63.880289 | BH38: 70.069204 | BI38: 42.427115 | BJ38: 50.288135 | BK38: 76.089228 | BL38: 54.768392 | BM38: 59.133127 | BN38: 66.262976 | BO38: 37.307419 | BP38: 40.633467 | BQ38: 75.243971 | BR38: 55.313351 | BS38: 58.101135 | BT38: 62.629758 | BU38: 47.072766 | BV38: 45.267277 | BW38: 76.562908 | BX38: 57.402361 | BY38: 63.157895 | BZ38: 66.608997 | CA38: 25.36146 | CB38: 47.716424
AA39: 91.563795 | AB39: 78.110808 | AC39: 72.858617 | AD39: 91.00346 | AE39: 71.415027 | AF39: 66.651615 | AG39: 91.207238 | AH39: 75.022707 | AI39: 75.851393 | AJ39: 88.062284 | AK39: 52.619104 | AL39: 64.21537 | AM39: 89.139208 | AN39: 73.478656 | AO39: 65.221878 | AP39: 86.50519 | AQ39: 57.383266 | AR39: 66.055993 | AS39: 84.432658 | AT39: 68.119891 | AU39: 68.111455 | AV39: 81.314879 | AW39: 79.284191 | AX39: 56.584097 | AY39: 82.293317 | AZ39: 64.577657 | BA39: 73.065015 | BB39: 76.816609 | BC39: 96.468357 | BD39: 58.338709 | BE39: 79.226928 | BF39: 60.58129 | BG39: 70.897833 | BH39: 75.951557 | BI39: 74.994074 | BJ39: 55.517568 | BK39: 76.445785 | BL39: 58.038147 | BM39: 63.880289 | BN39: 70.069204 | BO39: 42.427115 | BP39: 50.288135 | BQ39: 76.089228 | BR39: 54.768392 | BS39: 59.133127 | BT39: 66.262976 | BU39: 37.307419 | BV39: 40.633467 | BW39: 75.243971 | BX39: 55.313351 | BY39: 58.101135 | BZ39: 62.629758 | CA39: 47.072766 | CB39: 45.267277
AG40: 91.563795 | AH40: 78.110808 | AI40: 72.858617 | AJ40: 91.00346 | AK40: 71.415027 | AL40: 66.651615 | AM40: 91.207238 | AN40: 75.022707 | AO40: 75.851393 | AP40: 88.062284 | AQ40: 52.619104 | AR40: 64.21537 | AS40: 89.139208 | AT40: 73.478656 | AU40: 65.221878 | AV40: 86.50519 | AW40: 57.383266 | AX40: 66.055993 | AY40: 84.432658 | AZ40: 68.119891 | BA40: 68.111455 | BB40: 81.314879 | BC40: 79.284191 | BD40: 56.584097 | BE40: 82.293317 | BF40: 64.577657 | BG40: 73.065015 | BH40: 76.816609 | BI40: 96.468357 | BJ40: 58.338709 | BK40: 79.226928 | BL40: 60.58129 | BM40: 70.897833 | BN40: 75.951557 | BO40: 74.994074 | BP40: 55.517568 | BQ40: 76.445785 | BR40: 58.038147 | BS40: 63.880289 | BT40: 70.069204 | BU40: 42.427115 | BV40: 50.288135 | BW40: 76.089228 | BX40: 54.768392 | BY40: 59.133127 | BZ40: 66.262976 | CA40: 37.307419 | CB40: 40.633467
AM41: 91.563795 | AN41: 78.110808 | AO41: 72.858617 | AP41: 91.00346 | AQ41: 71.415027 | AR41: 66.651615 | AS41: 91.207238 | AT41: 75.022707 | AU41: 75.851393 | AV41: 88.062284 | AW41: 52.619104 | AX41: 64.21537 | AY41: 89.139208 | AZ41: 73.478656 | BA41: 65.221878 | BB41: 86.50519 | BC41: 57.383266 | BD41: 66.055993 | BE41: 84.432658 | BF41: 68.119891 | BG41: 68.111455 | BH41: 81.314879 | BI41: 79.284191 | BJ41: 56.584097 | BK41: 82.293317 | BL41: 64.577657 | BM41: 73.065015 | BN41: 76.816609 | BO41: 96.468357 | BP41: 58.338709 | BQ41: 79.226928 | BR41: 60.58129 | BS41: 70.897833 | BT41: 75.951557 | BU41: 74.994074 | BV41: 55.517568 | BW41: 76.445785 | BX41: 58.038147 | BY41: 63.880289 | BZ41: 70.069204 | CA41: 42.427115 | CB41: 50.288135
AS42: 91.563795 | AT42: 78.110808 | AU42: 72.858617 | AV42: 91.00346 | AW42: 71.415027 | AX42: 66.651615 | AY42: 91.207238 | AZ42: 75.022707 | BA42: 75.851393 | BB42: 88.062284 | BC42: 52.619104 | BD42: 64.21537 | BE42: 89.139208 | BF42: 73.478656 | BG42: 65.221878 | BH42: 86.50519 | BI42: 57.383266 | BJ42: 66.055993 | BK42: 84.432658 | BL42: 68.119891 | BM42: 68.111455 | BN42: 81.314879 | BO42: 79.284191 | BP42: 56.584097 | BQ42: 82.293317 | BR42: 64.577657 | BS42: 73.065015 | BT42: 76.816609 | BU42: 96.468357 | BV42: 58.338709 | BW42: 79.226928 | BX42: 60.58129 | BY42: 70.897833 | BZ42: 75.951557 | CA42: 74.994074 | CB42: 55.517568
AY43: 91.563795 | AZ43: 78.110808 | BA43: 72.858617 | BB43: 91.00346 | BC43: 71.415027 | BD43: 66.651615 | BE43: 91.207238 | BF43: 75.022707 | BG43: 75.851393 | BH43: 88.062284 | BI43: 52.619104 | BJ43: 64.21537 | BK43: 89.139208 | BL43: 73.478656 | BM43: 65.221878 | BN43: 86.50519 | BO43: 57.383266 | BP43: 66.055993 | BQ43: 84.432658 | BR43: 68.119891 | BS43: 68.111455 | BT43: 81.314879 | BU43: 79.284191 | BV43: 56.584097 | BW43: 82.293317 | BX43: 64.577657 | BY43: 73.065015 | BZ43: 76.816609 | CA43: 96.468357 | CB43: 58.338709
BE44: 91.563795 | BF44: 78.110808 | BG44: 72.858617 | BH44: 91.00346 | BI44: 71.415027 | BJ44: 66.651615 | BK44: 91.207238 | BL44: 75.022707 | BM44: 75.851393 | BN44: 88.062284 | BO44: 52.619104 | BP44: 64.21537 | BQ44: 89.139208 | BR44: 73.478656 | BS44: 65.221878 | BT44: 86.50519 | BU44: 57.383266 | BV44: 66.055993 | BW44: 84.432658 | BX44: 68.119891 | BY44: 68.111455 | BZ44: 81.314879 | CA44: 79.284191 | CB44: 56.584097
BK45: 91.563795 | BL45: 78.110808 | BM45: 72.858617 | BN45: 91.00346 | BO45: 71.415027 | BP45: 66.651615 | BQ45: 91.207238 | BR45: 75.022707 | BS45: 75.851393 | BT45: 88.062284 | BU45: 52.619104 | BV45: 64.21537 | BW45: 89.139208 | BX45: 73.478656 | BY45: 65.221878 | BZ45: 86.50519 | CA45: 57.383266 | CB45: 66.055993
BQ46: 91.563795 | BR46: 78.110808 | BS46: 72.858617 | BT46: 91.00346 | BU46: 71.415027 | BV46: 66.651615 | BW46: 91.207238 | BX46: 75.022707 | BY46: 75.851393 | BZ46: 88.062284 | CA46: 52.619104 | CB46: 64.21537
BW47: 91.563795 | BX47: 78.110808 | BY47: 72.858617 | BZ47: 91.00346 | CA47: 71.415027 | CB47: 66.651615

Sheet 2a Create Correlation matrix
B1: Month | C1: Contract Logistics (Global) | D1: ECRI weekly (USA) | E1: Economic sentiment (Europe) | F1: Economic sentiment (Univ. of Michigan) | G1: Purchasing managers index Europe | H1: Baltic index | I1: Semicon index | J1: ECRI weekly (USA)-1 | K1: Economic sentiment (Europe) -1 | L1: Economic sentiment (Univ. of Michigan)-1 | M1: Purchasing managers index Europe-1 | N1: Baltic index-1 | O1: Semicon index -1 | P1: ECRI weekly (USA)-2 | Q1: Economic sentiment (Europe) -2 | R1: Economic sentiment (Univ. of Michigan)-2 | S1: Purchasing managers index Europe-2 | T1: Baltic index-2 | U1: Semicon index -2 | V1: ECRI weekly (USA)-3 | W1: Economic sentiment (Europe) -3 | X1: Economic sentiment (Univ. of Michigan)-3 | Y1: Purchasing managers index Europe-3 | Z1: Baltic index-3 | AA1: Semicon index -3 | AB1: ECRI weekly (USA)-4 | AC1: Economic sentiment (Europe) -4 | AD1: Economic sentiment (Univ. of Michigan)-4 | AE1: Purchasing managers index Europe-4 | AF1: Baltic index-4 | AG1: Semicon index -4 | AH1: ECRI weekly (USA)-5 | AI1: Economic sentiment (Europe) -5 | AJ1: Economic sentiment (Univ. of Michigan)-5 | AK1: Purchasing managers index Europe-5 | AL1: Baltic index-5 | AM1: Semicon index -5 | AN1: ECRI weekly (USA)-6 | AO1: Economic sentiment (Europe) -6 | AP1: Economic sentiment (Univ. of Michigan)-6 | AQ1: Purchasing managers index Europe-6 | AR1: Baltic index-6 | AS1: Semicon index -6 | AT1: ECRI weekly (USA)-7 | AU1: Economic sentiment (Europe) -7 | AV1: Economic sentiment (Univ. of Michigan)-7 | AW1: Purchasing managers index Europe-7 | AX1: Baltic index-7 | AY1: Semicon index -7 | AZ1: ECRI weekly (USA)-8 | BA1: Economic sentiment (Europe) -8 | BB1: Economic sentiment (Univ. of Michigan)-8 | BC1: Purchasing managers index Europe-8 | BD1: Baltic index-8 | BE1: Semicon index -8 | BF1: ECRI weekly (USA)-9 | BG1: Economic sentiment (Europe) -9 | BH1: Economic sentiment (Univ. of Michigan)-9 | BI1: Purchasing managers index Europe-9 | BJ1: Baltic index-9 | BK1: Semicon index -9 | BL1: ECRI weekly (USA)-10 | BM1: Economic sentiment (Europe) -10 | BN1: Economic sentiment (Univ. of Michigan)-10 | BO1: Purchasing managers index Europe-10 | BP1: Baltic index-10 | BQ1: Semicon index -10 | BR1: ECRI weekly (USA)-11 | BS1: Economic sentiment (Europe) -11 | BT1: Economic sentiment (Univ. of Michigan)-11 | BU1: Purchasing managers index Europe-11 | BV1: Baltic index-11 | BW1: Semicon index -11 | BX1: ECRI weekly (USA)-12 | BY1: Economic sentiment (Europe) -12 | BZ1: Economic sentiment (Univ. of Michigan)-12 | CA1: Purchasing managers index Europe-12 | CB1: Baltic index-12 | CC1: Semicon index -12
A2: Month | B2: 1
A3: Contract Logistics (Global) | B3: -0.79453047 | C3: 1
A4: ECRI weekly (USA) | B4: -0.79371374 | C4: 0.93940648 | D4: 1
A5: Economic sentiment (Europe) | B5: -0.87640875 | C5: 0.95733815 | D5: 0.97128657 | E5: 1
A6: Economic sentiment (Univ. of Michigan) | B6: -0.76199132 | C6: 0.71942511 | D6: 0.79428371 | E6: 0.77944808 | F6: 1
A7: Purchasing managers index Europe | B7: -0.7505498 | C7: 0.91348185 | D7: 0.97727526 | E7: 0.94905804 | F7: 0.83570745 | G7: 1
A8: Baltic index | B8: -0.56777881 | C8: 0.78002382 | D8: 0.72953282 | E8: 0.72897401 | F8: 0.31002009 | G8: 0.63544752 | H8: 1
A9: Semicon index | B9: -0.86477971 | C9: 0.93256553 | D9: 0.95608233 | E9: 0.96664113 | F9: 0.80145931 | G9: 0.92702991 | H9: 0.7297159 | I9: 1
A10: ECRI weekly (USA)-1 | B10: -0.83673248 | C10: 0.95372522 | D10: 0.96828569 | E10: 0.98462023 | F10: 0.75380353 | G10: 0.9417127 | H10: 0.72287843 | I10: 0.95931977 | J10: 1
A11: Economic sentiment (Europe) -1 | B11: -0.89670773 | C11: 0.94478355 | D11: 0.93439708 | E11: 0.98551195 | F11: 0.7189133 | G11: 0.89289003 | H11: 0.73208905 | I11: 0.94556116 | J11: 0.97465921 | K11: 1
A12: Economic sentiment (Univ. of Michigan)-1 | B12: -0.81124736 | C12: 0.75972576 | D12: 0.80853742 | E12: 0.8275094 | F12: 0.92317707 | G12: 0.85821306 | H12: 0.37298737 | I12: 0.83445361 | J12: 0.79541932 | K12: 0.77950835 | L12: 1
A13: Purchasing managers index Europe-1 | B13: -0.81674904 | C13: 0.93283099 | D13: 0.97216023 | E13: 0.98272987 | F13: 0.79907982 | G13: 0.96818402 | H13: 0.66458175 | I13: 0.95484342 | J13: 0.97919848 | K13: 0.9581795 | L13: 0.84199757 | M13: 1
A14: Baltic index-1 | B14: -0.51299551 | C14: 0.75733714 | D14: 0.66734564 | E14: 0.68925463 | F14: 0.2262925 | G14: 0.57177676 | H14: 0.91572551 | I14: 0.67222509 | J14: 0.71363629 | K14: 0.70654423 | L14: 0.26931515 | M14: 0.62404362 | N14: 1
A15: Semicon index -1 | B15: -0.87838093 | C15: 0.93708831 | D15: 0.92380359 | E15: 0.96175599 | F15: 0.75649564 | G15: 0.88114725 | H15: 0.72374317 | I15: 0.9633556 | J15: 0.96256711 | K15: 0.96783302 | L15: 0.80171348 | M15: 0.94127463 | N15: 0.70446114 | O15: 1
A16: ECRI weekly (USA)-2 | B16: -0.87444962 | C16: 0.93528473 | D16: 0.91076006 | E16: 0.96644557 | F16: 0.69084889 | G16: 0.86912358 | H16: 0.70153097 | I16: 0.93206423 | J16: 0.96922797 | K16: 0.98688966 | L16: 0.75602037 | M16: 0.94521237 | N16: 0.70681883 | O16: 0.96456529 | P16: 1
A17: Economic sentiment (Europe) -2 | B17: -0.90699697 | C17: 0.90555758 | D17: 0.8804457 | E17: 0.95233043 | F17: 0.65427106 | G17: 0.81967511 | H17: 0.72623909 | I17: 0.90799544 | J17: 0.941811 | K17: 0.98645842 | L17: 0.72252206 | M17: 0.90842781 | N17: 0.70842995 | O17: 0.94643518 | P17: 0.98004784 | Q17: 1
A18: Economic sentiment (Univ. of Michigan)-2 | B18: -0.86580028 | C18: 0.7793198 | D18: 0.83314126 | E18: 0.86480766 | F18: 0.87706824 | G18: 0.84516359 | H18: 0.44470754 | I18: 0.85367273 | J18: 0.81067495 | K18: 0.8288303 | L18: 0.93120085 | M18: 0.86291929 | N18: 0.33773859 | O18: 0.83797942 | P18: 0.79713791 | Q18: 0.78469811 | R18: 1
A19: Purchasing managers index Europe-2 | B19: -0.86484852 | C19: 0.92524553 | D19: 0.94128305 | E19: 0.97757159 | F19: 0.73908427 | G19: 0.90986793 | H19: 0.67484196 | I19: 0.9379977 | J19: 0.97291759 | K19: 0.98611928 | L19: 0.80394709 | M19: 0.97042826 | N19: 0.64675224 | O19: 0.96207472 | P19: 0.97969598 | Q19: 0.96561149 | R19: 0.84519204 | S19: 1
A20: Baltic index-2 | B20: -0.44601994 | C20: 0.70847454 | D20: 0.56650829 | E20: 0.62025163 | F20: 0.13319104 | G20: 0.48797936 | H20: 0.76403401 | I20: 0.57369174 | J20: 0.65665023 | K20: 0.66841279 | L20: 0.18924351 | M20: 0.56767429 | N20: 0.91515827 | O20: 0.64691702 | P20: 0.70211279 | Q20: 0.68264653 | R20: 0.23963419 | S20: 0.61138014 | T20: 1
A21: Semicon index -2 | B21: -0.88519875 | C21: 0.91395387 | D21: 0.87751696 | E21: 0.94120212 | F21: 0.71293118 | G21: 0.82842306 | H21: 0.69196969 | I21: 0.912998 | J21: 0.93369486 | K21: 0.96401827 | L21: 0.75924423 | M21: 0.9002937 | N21: 0.69871225 | O21: 0.96419778 | P21: 0.97028236 | Q21: 0.96842781 | R21: 0.8078268 | S21: 0.95160771 | T21: 0.67820242 | U21: 1
A22: ECRI weekly (USA)-3 | B22: -0.89847658 | C22: 0.87775952 | D22: 0.8382935 | E22: 0.92419101 | F22: 0.64161774 | G22: 0.77857975 | H22: 0.67564206 | I22: 0.87629982 | J22: 0.91451922 | K22: 0.96736691 | L22: 0.69551791 | M22: 0.87821967 | N22: 0.68190298 | O22: 0.93468411 | P22: 0.97092191 | Q22: 0.9886799 | R22: 0.7597863 | S22: 0.94825657 | T22: 0.68953842 | U22: 0.96799026 | V22: 1
A23: Economic sentiment (Europe) -3 | B23: -0.91137176 | C23: 0.8531898 | D23: 0.8104418 | E23: 0.90221636 | F23: 0.59072215 | G23: 0.73327697 | H23: 0.70536322 | I23: 0.85558432 | J23: 0.89119768 | K23: 0.9547287 | L23: 0.6611378 | M23: 0.84000831 | N23: 0.70288369 | O23: 0.90942946 | P23: 0.9500613 | Q23: 0.98682536 | R23: 0.73113294 | S23: 0.91939844 | T23: 0.68372592 | U23: 0.94686297 | V23: 0.98335445 | W23: 1
A24: Economic sentiment (Univ. of Michigan)-3 | B24: -0.88352426 | C24: 0.81298339 | D24: 0.86821447 | E24: 0.88888035 | F24: 0.85787105 | G24: 0.86347162 | H24: 0.50160915 | I24: 0.86368928 | J24: 0.84457288 | K24: 0.86530535 | L24: 0.89271122 | M24: 0.86893638 | N24: 0.3964943 | O24: 0.85293148 | P24: 0.82050803 | Q24: 0.82708937 | R24: 0.94609411 | S24: 0.87672442 | T24: 0.28749706 | U24: 0.835354 | V24: 0.80141899 | W24: 0.78223565 | X24: 1
A25: Purchasing managers index Europe-3 | B25: -0.90252316 | C25: 0.88799043 | D25: 0.89048362 | E25: 0.9501343 | F25: 0.68735441 | G25: 0.83392083 | H25: 0.67020521 | I25: 0.90760014 | J25: 0.94325849 | K25: 0.9794392 | L25: 0.74600059 | M25: 0.91565824 | N25: 0.65481542 | O25: 0.94308212 | P25: 0.97360438 | Q25: 0.99021083 | R25: 0.80834053 | S25: 0.97180215 | T25: 0.6305801 | U25: 0.96869827 | V25: 0.98058085 | W25: 0.97212472 | X25: 0.85500408 | Y25: 1
A26: Baltic index-3 | B26: -0.37825059 | C26: 0.57614679 | D26: 0.43323571 | E26: 0.52930895 | F26: 0.054372801 | G26: 0.36841646 | H26: 0.59234476 | I26: 0.43607957 | J26: 0.55450106 | K26: 0.59820989 | L26: 0.098967904 | M26: 0.48244616 | N26: 0.76047577 | O26: 0.54716815 | P26: 0.64365832 | Q26: 0.64338965 | R26: 0.16096638 | S26: 0.5536999 | T26: 0.91297913 | U26: 0.61944215 | V26: 0.68355381 | W26: 0.65693944 | X26: 0.19074632 | Y26: 0.59387742 | Z26: 1
A27: Semicon index -3 | B27: -0.89174673 | C27: 0.86618214 | D27: 0.81252241 | E27: 0.90408582 | F27: 0.66368384 | G27: 0.75676963 | H27: 0.65389922 | I27: 0.85944008 | J27: 0.88724237 | K27: 0.94332041 | L27: 0.71603402 | M27: 0.84703938 | N27: 0.66874092 | O27: 0.91428039 | P27: 0.94102957 | Q27: 0.96451143 | R27: 0.76533241 | S27: 0.9102812 | T27: 0.67460029 | U27: 0.96455327 | V27: 0.973057 | W27: 0.96874107 | X27: 0.80520367 | Y27: 0.9574373 | Z27: 0.65311023 | AA27: 1
A28: ECRI weekly (USA)-4 | B28: -0.90073874 | C28: 0.81094183 | D28: 0.75746586 | E28: 0.86771419 | F28: 0.57849385 | G28: 0.69043163 | H28: 0.64326805 | I28: 0.81658394 | J28: 0.85177493 | K28: 0.92796874 | L28: 0.65096185 | M28: 0.80258983 | N28: 0.6509141 | O28: 0.878578 | P28: 0.92510555 | Q28: 0.96836446 | R28: 0.70767305 | S28: 0.8920477 | T28: 0.6549955 | U28: 0.93531331 | V28: 0.97563766 | W28: 0.98884772 | X28: 0.75832171 | Y28: 0.95698016 | Z28: 0.66203517 | AA28: 0.96852349 | AB28: 1
A29: Economic sentiment (Europe) -4 | B29: -0.90440086 | C29: 0.79888689 | D29: 0.73302009 | E29: 0.84290038 | F29: 0.52655051 | G29: 0.64643194 | H29: 0.68338985 | I29: 0.79915185 | J29: 0.83068488 | K29: 0.90997813 | L29: 0.60360655 | M29: 0.76618296 | N29: 0.68180601 | O29: 0.85979036 | P29: 0.90871835 | Q29: 0.95828671 | R29: 0.67795545 | S29: 0.86134492 | T29: 0.67496618 | U29: 0.91129229 | V29: 0.96013867 | W29: 0.98874718 | X29: 0.7277249 | Y29: 0.93489259 | Z29: 0.65505608 | AA29: 0.94937769 | AB29: 0.98437015 | AC29: 1
A30: Economic sentiment (Univ. of Michigan)-4 | B30: -0.90462431 | C30: 0.84509003 | D30: 0.89177249 | E30: 0.90758571 | F30: 0.85714669 | G30: 0.87115566 | H30: 0.57114056 | I30: 0.89363362 | J30: 0.87637865 | K30: 0.88888446 | L30: 0.87109149 | M30: 0.88267386 | N30: 0.45795304 | O30: 0.86381753 | P30: 0.85162272 | Q30: 0.86378344 | R30: 0.90645303 | S30: 0.88022808 | T30: 0.35222109 | U30: 0.85187032 | V30: 0.82378402 | W30: 0.82544041 | X30: 0.9496514 | Y30: 0.88368079 | Z30: 0.24437352 | AA30: 0.83377206 | AB30: 0.8011123 | AC30: 0.78161379 | AD30: 1
A31: Purchasing managers index Europe-4 | B31: -0.91834059 | C31: 0.84223812 | D31: 0.81925533 | E31: 0.9021554 | F31: 0.63684371 | G31: 0.74911485 | H31: 0.65245097 | I31: 0.85994275 | J31: 0.89815486 | K31: 0.95153555 | L31: 0.6968815 | M31: 0.85027502 | N31: 0.64405956 | O31: 0.90953815 | P31: 0.94837244 | Q31: 0.97971447 | R31: 0.75580141 | S31: 0.92363337 | T31: 0.62865912 | U31: 0.94441389 | V31: 0.97499701 | W31: 0.99059156 | X31: 0.81125302 | Y31: 0.97564279 | Z31: 0.60339169 | AA31: 0.96918926 | AB31: 0.9818076 | AC31: 0.97645733 | AD31: 0.85675056 | AE31: 1
A32: Baltic index-4 | B32: -0.32049384 | C32: 0.42055458 | D32: 0.27871184 | E32: 0.40805941 | F32: -0.048671654 | G32: 0.21704102 | H32: 0.43127003 | I32: 0.27864725 | J32: 0.41743933 | K32: 0.5059084 | L32: 0.023588308 | M32: 0.35709254 | N32: 0.58772864 | O32: 0.41008565 | P32: 0.53721222 | Q32: 0.57286804 | R32: 0.07221931 | S32: 0.46404808 | T32: 0.75749469 | U32: 0.52035709 | V32: 0.62207583 | W32: 0.61814966 | X32: 0.1182843 | Y32: 0.53235247 | Z32: 0.91263866 | AA32: 0.59441755 | AB32: 0.6572146 | AC32: 0.6315304 | AD32: 0.15252239 | AE32: 0.56606869 | AF32: 1
A33: Semicon index -4 | B33: -0.8838041 | C33: 0.82236164 | D33: 0.74279957 | E33: 0.85601837 | F33: 0.58939217 | G33: 0.67984434 | H33: 0.6297156 | I33: 0.79883817 | J33: 0.83423784 | K33: 0.91281979 | L33: 0.67414317 | M33: 0.79136483 | N33: 0.62928348 | O33: 0.86430079 | P33: 0.90626535 | Q33: 0.94757953 | R33: 0.73208722 | S33: 0.86993311 | T33: 0.63937791 | U33: 0.91665785 | V33: 0.95231575 | W33: 0.96687251 | X33: 0.76142764 | Y33: 0.92733415 | Z33: 0.6450714 | AA33: 0.96772642 | AB33: 0.97443779 | AC33: 0.96826516 | AD33: 0.80468205 | AE33: 0.96269357 | AF33: 0.62734369 | AG33: 1
A34: ECRI weekly (USA)-5 | B34: -0.89410425 | C34: 0.7455073 | D34: 0.67371108 | E34: 0.80129789 | F34: 0.50164357 | G34: 0.58929384 | H34: 0.63016165 | I34: 0.75225965 | J34: 0.77839192 | K34: 0.8758038 | L34: 0.59284729 | M34: 0.72420447 | N34: 0.61835453 | O34: 0.82107002 | P34: 0.8697703 | Q34: 0.93163884 | R34: 0.66896265 | S34: 0.82467177 | T34: 0.62137229 | U34: 0.88051054 | V34: 0.93544295 | W34: 0.9702775 | X34: 0.70548722 | Y34: 0.90806608 | Z34: 0.62521607 | AA34: 0.93788512 | AB34: 0.97667692 | AC34: 0.9886802 | AD34: 0.75880045 | AE34: 0.96155174 | AF34: 0.63615893 | AG34: 0.96805176 | AH34: 1
A35: Economic sentiment (Europe) -5 | B35: -0.89054075 | C35: 0.73692127 | D35: 0.65365197 | E35: 0.78068317 | F35: 0.46024196 | G35: 0.55941137 | H35: 0.65901447 | I35: 0.73931854 | J35: 0.76149836 | K35: 0.85622338 | L35: 0.54477287 | M35: 0.68951256 | N35: 0.6613516 | O35: 0.80670594 | P35: 0.85683384 | Q35: 0.91779701 | R35: 0.62748801 | S35: 0.79660007 | T35: 0.65291673 | U35: 0.86426148 | V35: 0.92597964 | W35: 0.96386144 | X35: 0.67466906 | Y35: 0.8854279 | Z35: 0.64583203 | AA35: 0.91742972 | AB35: 0.96404783 | AC35: 0.9896305 | AD35: 0.72918077 | AE35: 0.94439879 | AF35: 0.63151443 | AG35: 0.94875485 | AH35: 0.98508649 | AI35: 1
A36: Economic sentiment (Univ. of Michigan)-5 | B36: -0.93515219 | C36: 0.86582555 | D36: 0.88649844 | E36: 0.91894009 | F36: 0.82444125 | G36: 0.85224493 | H36: 0.62562112 | I36: 0.90426731 | J36: 0.89576613 | K36: 0.90748784 | L36: 0.86603943 | M36: 0.88360376 | N36: 0.53380962 | O36: 0.89474502 | P36: 0.8796089 | Q36: 0.88916752 | R36: 0.88117927 | S36: 0.88942948 | T36: 0.42297988 | U36: 0.86597847 | V36: 0.85344213 | W36: 0.86484344 | X36: 0.91446927 | Y36: 0.88466587 | Z36: 0.31796214 | AA36: 0.8531242 | AB36: 0.82736118 | AC36: 0.83106004 | AD36: 0.95374958 | AE36: 0.88592155 | AF36: 0.2124128 | AG36: 0.84026771 | AH36: 0.80777707 | AI36: 0.79227641 | AJ36: 1
A37: Purchasing managers index Europe-5 | B37: -0.91971374 | C37: 0.79306161 | D37: 0.73914065 | E37: 0.84544677 | F37: 0.5789861 | G37: 0.65811201 | H37: 0.63089525 | I37: 0.80472731 | J37: 0.83634431 | K37: 0.90797046 | L37: 0.65144687 | M37: 0.77849062 | N37: 0.62436182 | O37: 0.86354044 | P37: 0.91198724 | Q37: 0.95356443 | R37: 0.71416039 | S37: 0.86843059 | T37: 0.61245184 | U37: 0.91086006 | V37: 0.95543306 | W37: 0.9802505 | X37: 0.75661642 | Y37: 0.93594181 | Z37: 0.59632154 | AA37: 0.94563872 | AB37: 0.97517093 | AC37: 0.990578 | AD37: 0.81300634 | AE37: 0.97838326 | AF37: 0.5735225 | AG37: 0.969325 | AH37: 0.98184339 | AI37: 0.97844759 | AJ37: 0.86238885 | AK37: 1
A38: Baltic index-5 | B38: -0.27275692 | C38: 0.23315666 | D38: 0.1091924 | E38: 0.26324342 | F38: -0.20231762 | G38: 0.03729796 | H38: 0.3373509 | I38: 0.13520905 | J38: 0.26267569 | K38: 0.38603631 | L38: -0.073258192 | M38: 0.20390175 | N38: 0.42824898 | O38: 0.25573509 | P38: 0.399468 | Q38: 0.48243499 | R38: -0.00048887544 | S38: 0.33793242 | T38: 0.58619807 | U38: 0.38616989 | V38: 0.51567547 | W38: 0.54980251 | X38: 0.036738251 | Y38: 0.44197949 | Z38: 0.7581803 | AA38: 0.49742915 | AB38: 0.59821669 | AC38: 0.59686073 | AD38: 0.085386507 | AE38: 0.5059803 | AF38: 0.91292821 | AG38: 0.57287561 | AH38: 0.6357309 | AI38: 0.6139421 | AJ38: 0.12425105 | AK38: 0.53973466 | AL38: 1
A39: Semicon index -5 | B39: -0.87471444 | C39: 0.76056935 | D39: 0.66380142 | E39: 0.7967912 | F39: 0.49484959 | G39: 0.5861692 | H39: 0.62710698 | I39: 0.72410144 | J39: 0.76401983 | K39: 0.86427466 | L39: 0.6011583 | M39: 0.71381794 | N39: 0.6060245 | O39: 0.80313924 | P39: 0.85275204 | Q39: 0.91660827 | R39: 0.68976197 | S39: 0.81372287 | T39: 0.60046223 | U39: 0.86607687 | V39: 0.91708189 | W39: 0.94957017 | X39: 0.72739147 | Y39: 0.88643051 | Z39: 0.6105593 | AA39: 0.91930763 | AB39: 0.95328277 | AC39: 0.9663048 | AD39: 0.76040151 | AE39: 0.93207297 | AF39: 0.62056801 | AG39: 0.96709998 | AH39: 0.97397882 | AI39: 0.96828654 | AJ39: 0.81040268 | AK39: 0.96242947 | AL39: 0.60739604 | AM39: 1
A40: ECRI weekly (USA)-6 | B40: -0.87889309 | C40: 0.68099209 | D40: 0.60212525 | E40: 0.73513804 | F40: 0.42766589 | G40: 0.50252241 | H40: 0.61470181 | I40: 0.68425098 | J40: 0.70631804 | K40: 0.8176092 | L40: 0.52398742 | M40: 0.63764113 | N40: 0.60679222 | O40: 0.76169897 | P40: 0.80888321 | Q40: 0.88600241 | R40: 0.6212569 | S40: 0.75947052 | T40: 0.58624673 | U40: 0.82707095 | V40: 0.89079404 | W40: 0.93932089 | X40: 0.66711666 | Y40: 0.85339969 | Z40: 0.58954814 | AA40: 0.88870747 | AB40: 0.94114233 | AC40: 0.97191642 | AD40: 0.70926538 | AE40: 0.92067415 | AF40: 0.60107318 | AG40: 0.937833 | AH40: 0.97846967 | AI40: 0.98844027 | AJ40: 0.7731448 | AK40: 0.96521401 | AL40: 0.61973824 | AM40: 0.96914033 | AN40: 1
...

Sheet 2b Phase correlations
B1: Contract Logistics (Global) | C1: ECRI weekly (USA) | D1: Economic sentiment (Europe) | E1: Economic sentiment (Univ. of Michigan) | F1: Purchasing managers index Europe | G1: Baltic index | H1: Semicon index
A2: 39083 | B2: 100 | C2: 100 | D2: 100 | E2: 100 | F2: 100 | G2: 100 | H2: 100 | K2: For more information: | L2: http://en.wikipedia.org/wiki/Phase_correlation
A3: 39114 | B3: 100.51025 | C3: 99.986793 | D3: 101.18074 | E3: 94.220846 | F3: 100 | G3: 114.19768 | H3: 99.460285 | J3: ECRI | K3: Fast fourier of Contract Logistics | L3: Fast fourier of ECRI == F(ECRI) | M3: Complex conjugate F(ECRI) | N3: Product F(Contract) and F*(ECRI) | O3: Abs(F(Contract) * F*(ECRI)) | P3: Quotient | Q3: Inverse Fourier transform of Quotient | R3: Abs() | S3: The x-axis is 1 too high | AC3: ECRI weekly (USA) | AD3: Short term | AE3: Long term
A4: 39142 | B4: 100.67966 | C4: 99.747802 | D4: 102.7248 | E4: 91.22807 | F4: 100 | G4: 127.70799 | H4: 100.98267 | J4: 99.747802 | K4: 3071,63222770049 | L4: 2886,21732060708 | M4: =IMCONJUGATE(L4) -> 2886,21732060708 | N4: =IMPRODUCT(M4,K4) -> 8865398,13812407 | O4: =IMABS(N4) -> 8865398.1 | P4: =IMDIV(N4,O4) -> 1 | Q4: 0.35228695 | R4: =IMABS(Q4) -> 0.35228695 | AD4: 2 | AF4: Too short
A5: 39173 | B5: 101.36116 | C5: 101.55703 | D5: 102.45232 | E5: 89.886481 | F5: 100 | G5: 148.25788 | H5: 100.08386 | J5: 101.55703 | K5: 23,498188705887-129,915273223554i | L5: 63,7556695040749-175,354331086324i | M5: =IMCONJUGATE(L5) -> 63,7556695040749+175,354331086324i | N5: =IMPRODUCT(M5,K5) -> 24279,3485870903-4162,32606091147i | O5: =IMABS(N5) -> 24633.549 | P5: =IMDIV(N5,O5) -> 0,985621227085098-0,168969810082351i | Q5: 0,170592856866982 | R5: =IMABS(Q5) -> 0.17059286 | AE5: 17 | AF5: Too long
A6: 39203 | B6: 101.47019 | C6: 101.91307 | D6: 103.81471 | E6: 91.124871 | F6: 100 | G6: 141.81086 | H6: 106.25081 | J6: 101.91307 | K6: 22,4759911368488-2,61730083468103i | L6: 66,0327303412823-7,49336525654634i | M6: =IMCONJUGATE(L6) -> 66,0327303412823+7,49336525654634i | N6: =IMPRODUCT(M6,K6) -> 1503,76345303312-4,40670914719928i | O6: =IMABS(N6) -> 1503.7699 | P6: =IMDIV(N6,O6) -> 0,999995706248265-0,00293044109896131i | Q6: 0,436741080626981 | R6: =IMABS(Q6) -> 0.43674108
A7: 39234 | B7: 101.2821 | C7: 101.73114 | D7: 103.81471 | E7: 88.028896 | F7: 100 | G7: 148.80303 | H7: 105.35845 | J7: 101.73114 | K7: -5,96307009484553-0,73554976710921i | L7: -13,7704619163829-7,37599003698234i | M7: =IMCONJUGATE(L7) -> -13,7704619163829+7,37599003698234i | N7: =IMPRODUCT(M7,K7) -> 87,5396373996944-33,8546855538263i | O7: =IMABS(N7) -> 93.85802 | P7: =IMDIV(N7,O7) -> 0,932681487837246-0,360701042756604i | Q7: 8,45681529770305E-002 | R7: =IMABS(Q7) -> 0.084568153 | AF7: ECRI seems a long or short term predictor, but not for a useful range.
A8: 39264 | B8: 105.73954 | C8: 101.1381 | D8: 102.27066 | E8: 93.292054 | F8: 99.480969 | G8: 165.75018 | H8: 108.6763 | J8: 101.1381 | K8: 11,3643852455212-17,8105990770465i | L8: 14,6732791115765-0,899311198584415i | M8: =IMCONJUGATE(L8) -> 14,6732791115765+0,899311198584415i | N8: =IMPRODUCT(M8,K8) -> 182,7700678425-251,119772485565i | O8: =IMABS(N8) -> 310.58982 | P8: =IMDIV(N8,O8) -> 0,588461226382568-0,808525438711933i | Q8: 5,18858203442976E-003 | R8: =IMABS(Q8) -> 0.005188582
A9: 39295 | B9: 102.14254 | C9: 99.246597 | D9: 102.17984 | E9: 86.068111 | F9: 99.307958 | G9: 182.55511 | H9: 107.71083 | J9: 99.246597 | K9: -4,11664772898527-0,547278508847905i | L9: -5,31207798459557-10,4577871453323i | M9: =IMCONJUGATE(L9) -> -5,31207798459557+10,4577871453323i | N9: =IMPRODUCT(M9,K9) -> 27,5912759262243-40,1438395837503i | O9: =IMABS(N9) -> 48.71146 | P9: =IMDIV(N9,O9) -> 0,566422680841898-0,824114886789383i | Q9: -0,240380194481615 | R9: =IMABS(Q9) -> 0.24038019
A10: 39326 | B10: 100.88711 | C10: 99.515847 | D10: 100.18165 | E10: 86.068111 | F10: 94.636678 | G10: 226.04883 | H10: 109.31708 | J10: 99.515847 | K10: 3,62192228605763+6,98427987598623i | L10: -0,199067005313592-11,94284907726i | M10: =IMCONJUGATE(L10) -> -0,199067005313592+11,94284907726i | N10: =IMPRODUCT(M10,K10) -> -84,1332056952118+41,8657315527662i | O10: =IMABS(N10) -> 93.974123 | P10: =IMDIV(N10,O10) -> -0,895280563191251+0,445502764494179i | Q10: -3,59261865762003E-002 | R10: =IMABS(Q10) -> 0.035926187
A11: 39356 | B11: 102.45678 | C11: 99.576246 | D11: 99.182561 | E11: 83.488132 | F11: 94.290657 | G11: 250.79403 | H11: 108.80747 | J11: 99.576246 | K11: 7,75928756177158-4,0578975970062i | L11: 0,883746500869442+2,97427981261877i | M11: =IMCONJUGATE(L11) -> 0,883746500869442-2,97427981261877i | N11: =IMPRODUCT(M11,K11) -> -5,21207967249434-26,6644451575219i | O11: =IMABS(N11) -> 27.169071 | P11: =IMDIV(N11,O11) -> -0,191838716311973-0,981426465367515i | Q11: 3,3737710821552E-002 | R11: =IMABS(Q11) -> 0.033737711
A12: 39387 | B12: 103.86168 | C12: 98.477546 | D12: 97.456857 | E12: 78.534572 | F12: 93.598616 | G12: 242.00047 | H12: 97.875543 | J12: 98.477546 | K12: 8,11561566807143+2,56586010938395i | L12: -2,83181282980491-6,89972482713824i | M12: =IMCONJUGATE(L12) -> -2,83181282980491+6,89972482713824i | N12: =IMPRODUCT(M12,K12) -> -40,6856332702905+48,7294793352664i | O12: =IMABS(N12) -> 63.481359 | P12: =IMDIV(N12,O12) -> -0,640906780519485+0,767618719602478i | Q12: 7,00628924938251E-002 | R12: =IMABS(Q12) -> 0.070062892
A13: 39417 | B13: 103.46504 | C13: 96.012231 | D13: 96.639419 | E13: 77.915377 | F13: 92.214533 | G13: 216.71012 | H13: 89.231497 | J13: 96.012231 | K13: 6,06229507364912-9,1367985003271i | L13: 11,1590988773517-3,3721927389215i | M13: =IMCONJUGATE(L13) -> 11,1590988773517+3,3721927389215i | N13: =IMPRODUCT(M13,K13) -> 98,4607957103245-81,5152104590297i | O13: =IMABS(N13) -> 127.82511 | P13: =IMDIV(N13,O13) -> 0,770277439835896-0,637708919241261i | Q13: -9,34831791032751E-002 | R13: =IMABS(Q13) -> 0.093483179
A14: 39448 | B14: 102.8046 | C14: 93.428133 | D14: 94.641235 | E14: 80.908153 | F14: 89.619377 | G14: 145.60322 | H14: 85.307272 | J14: 93.428133 | K14: 2,51939941757163-3,82108880474226i | L14: -4,63697693575164-6,92726608304879i | M14: =IMCONJUGATE(L14) -> -4,63697693575164+6,92726608304879i | N14: =IMPRODUCT(M14,K14) -> 14,7873018861827+35,1708507920455i | O14: =IMABS(N14) -> 38.153021 | P14: =IMDIV(N14,O14) -> 0,387578790374264+0,921836580556458i | Q14: 0,18332526237732 | R14: =IMABS(Q14) -> 0.18332526
A15: 39479 | B15: 102.63274 | C15: 94.631429 | D15: 92.098093 | E15: 73.065015 | F15: 91.349481 | G15: 180.4456 | H15: 81.65183 | J15: 94.631429 | K15: -6,21470414452696-1,45672695624137i | L15: 8,42637233214004-4,68556843861056i | M15: =IMCONJUGATE(L15) -> 8,42637233214004+4,68556843861056i | N15: =IMPRODUCT(M15,K15) -> -45,5418172060402-41,3943453144526i | O15: =IMABS(N15) -> 61.543066 | P15: =IMDIV(N15,O15) -> -0,739999164355763-0,672607788204071i | Q15: -2,30502852465272E-002 | R15: =IMABS(Q15) -> 0.023050285
A16: 39508 | B16: 97.285005 | C16: 92.292938 | D16: 93.46049 | E16: 71.723426 | F16: 89.619377 | G16: 187.01114 | H16: 74.291489 | J16: 92.292938 | K16: 3,74883343280933+5,33839610382992i | L16: 4,82289074699028-1,23901204660783i | M16: =IMCONJUGATE(L16) -> 4,82289074699028+1,23901204660783i | N16: =IMPRODUCT(M16,K16) -> 11,4658769928944+30,3913509569072i | O16: =IMABS(N16) -> 32.482311 | P16: =IMDIV(N16,O16) -> 0,352988335176828+0,935627722563356i | Q16: -9,94102381382659E-002 | R16: =IMABS(Q16) -> 0.099410238
A17: 39539 | B17: 98.778128 | C17: 94.049628 | D17: 90.099909 | E17: 64.602683 | F17: 89.792388 | G17: 223.726 | H17: 77.078226 | J17: 94.049628 | K17: -6,85384411996956-2,02674770917345i | L17: 1,47900964878607-2,91878076475677i | M17: =IMCONJUGATE(L17) -> 1,47900964878607+2,91878076475677i | N17: =IMPRODUCT(M17,K17) -> -4,22126935616034-23,002447799531i | O17: =IMABS(N17) -> 23.386571 | P17: =IMDIV(N17,O17) -> -0,180499710370709-0,983575037582842i | Q17: 3,87549885497371E-002 | R17: =IMABS(Q17) -> 0.038754989
A18: 39569 | B18: 97.062694 | C18: 94.754013 | D18: 89.373297 | E18: 61.713106 | F18: 88.408304 | G18: 271.1543 | H18: 86.072765 | J18: 94.754013 | K18: 3,95023083939967+8,43477923869404i | L18: 3,92198764337802+6,37797661676556i | M18: =IMCONJUGATE(L18) -> 3,92198764337802-6,37797661676556i | N18: =IMPRODUCT(M18,K18) -> 69,2895812925865+7,8866200242622i | O18: =IMABS(N18) -> 69.736969 | P18: =IMDIV(N18,O18) -> 0,993584640182076+0,113090949214579i | Q18: -6,64898375908976E-003 | R18: =IMABS(Q18) -> 0.0066489838
A19: 39600 | B19: 98.586431 | C19: 93.561574 | D19: 87.19346 | E19: 58.204334 | F19: 85.640138 | G19: 222.30386 | H19: 88.012299 | J19: 93.561574 | K19: 4,27295541492956-0,884191952123359i | L19: 2,57193473248811-3,90927109160685i | M19: =IMCONJUGATE(L19) -> 2,57193473248811+3,90927109160685i | N19: =IMPRODUCT(M19,K19) -> 14,4463084798978+14,4300570874566i | O19: =IMABS(N19) -> 20.418677 | P19: =IMDIV(N19,O19) -> 0,707504623300659+0,706708715107004i | Q19: 0,223898918604737 | R19: =IMABS(Q19) -> 0.22389892
... A35: 40087 | B35: 96.015603 | C35: 91.563795 | D35: 78.110808 | E35: 72.858617 | F35: 91.00346 | G35: 71.415027 | H35: 66.651615 | J35: 91.563795 | K35: 23,4981887058873+129,915273223554i | L35: 63,7556695040754+175,354331086324i | M35: =IMCONJUGATE(L35) -> 63,7556695040754-175,354331086324i | N35: =IMPRODUCT(M35,K35) -> 24279,3485870903+4162,32606091148i | O35: =IMABS(N35) -> 24633.549 | P35: =IMDIV(N35,O35) -> 0,985621227085098+0,168969810082351i | Q35: 6,65177550498199E-003 | R35: =IMABS(Q35) -> 0.0066517755
AC37: Economic sentiment (Europe) | AD37: Short term | AE37: Long term
J38: 102.7248 | K38: 3071,63222770049 | L38: 2644,32334241599 | M38: =IMCONJUGATE(L38) -> 2644,32334241599 | N38: =IMPRODUCT(M38,K38) -> 8122388,79902563 | O38: =IMABS(N38) -> 8122388.8 | P38: =IMDIV(N38,O38) -> 1 | Q38: 0,347376748653598 | R38: =IMABS(Q38) -> 0.34737675 | AD38: 4
J39: 102.45232 | K39: 23,498188705887-129,915273223554i | L39: 74,5584783307735-342,909472593898i | M39: =IMCONJUGATE(L39) -> 74,5584783307735+342,909472593898i | N39: =IMPRODUCT(M39,K39) -> 46301,1670164214-1628,53358742727i | O39: =IMABS(N39) -> 46329.798 | P39: =IMDIV(N39,O39) -> 0,999382016550805-0,0351508889624003i | Q39: 7,34589847854851E-002 | R39: =IMABS(Q39) -> 0.073458985 | AE39: 12
J40: 103.81471 | K40: 22,4759911368488-2,61730083468103i | L40: 100,968059450546-45,9664731416388i | M40: =IMCONJUGATE(L40) -> 100,968059450546+45,9664731416388i | N40: =IMPRODUCT(M40,K40) -> 2389,66529783625+768,878256647634i | O40: =IMABS(N40) -> 2510.3135 | P40: =IMDIV(N40,O40) -> 0,951938979379303+0,306287739777958i | Q40: 0,146718047819161 | R40: =IMABS(Q40) -> 0.14671805
J41: 103.81471 | K41: -5,96307009484553-0,73554976710921i | L41: 0,231268732122178-16,4988345223059i | M41: =IMCONJUGATE(L41) -> 0,231268732122178+16,4988345223059i | N41: =IMPRODUCT(M41,K41) -> 10,7566422300649-98,5538164018194i | O41: =IMABS(N41) -> 99.139095 | P41: =IMDIV(N41,O41) -> 0,108500509034726-0,994096393484659i | Q41: 8,69251074997855E-002 | R41: =IMABS(Q41) -> 0.086925107
J42: 102.27066 | K42: 11,3643852455212-17,8105990770465i | L42: 5,41007912420118-33,2617369790355i | M42: =IMCONJUGATE(L42) -> 5,41007912420118+33,2617369790355i | N42: =IMPRODUCT(M42,K42) -> 653,893685315947+281,642442708712i | O42: =IMABS(N42) -> 711.96869 | P42: =IMDIV(N42,O42) -> 0,918430393653218+0,395582623498548i | Q42: 0,420377423813527 | R42: =IMABS(Q42) -> 0.42037742
J43: 102.17984 | K43: -4,11664772898527-0,547278508847905i | L43: 17,056085159397-19,6429615383799i | M43: =IMCONJUGATE(L43) -> 17,056085159397+19,6429615383799i | N43: =IMPRODUCT(M43,K43) -> -59,4637235367297-90,1975818603343i | O43: =IMABS(N43) -> 108.03489 | P43: =IMDIV(N43,O43) -> -0,55041220173889-0,834893051939557i | Q43: -0,30370303215144 | R43: =IMABS(Q43) -> 0.30370303
J44: 100.18165 | K44: 3,62192228605763+6,98427987598623i | L44: 4,57716783046628-16,1812091478525i | M44: =IMCONJUGATE(L44) -> 4,57716783046628+16,1812091478525i | N44: =IMPRODUCT(M44,K44) -> -96,4359472482786+90,5753031953037i | O44: =IMABS(N44) -> 132.30184 | P44: =IMDIV(N44,O44) -> -0,728908574412945+0,68461105026671i | Q44: -0,175007653268759 | R44: =IMABS(Q44) -> 0.17500765
J45: 99.182561 | K45: 7,75928756177158-4,0578975970062i | L45: 15,4638433437274-13,1647075432725i | M45: =IMCONJUGATE(L45) -> 15,4638433437274+13,1647075432725i | N45: =IMPRODUCT(M45,K45) -> 173,409442419303+39,3980587498831i | O45: =IMABS(N45) -> 177.82869 | P45: =IMDIV(N45,O45) -> 0,975148868283525+0,221550636842598i | Q45: 8,17163051169534E-002 | R45: =IMABS(Q45) -> 0.081716305
J46: 97.456857 | K46: 8,11561566807143+2,56586010938395i | L46: 7,90190735694818-11,1716621253406i | M46: =IMCONJUGATE(L46) -> 7,90190735694818+11,1716621253406i | N46: =IMPRODUCT(M46,K46) -> 35,4639209507706+110,940105058055i | O46: =IMABS(N46) -> 116.47058 | P46: =IMDIV(N46,O46) -> 0,304488225046874+0,952516100025508i | Q46: 8,51310188879415E-002 | R46: =IMABS(Q46) -> 0.085131019
J47: 96.639419 | K47: 6,06229507364912-9,1367985003271i | L47: 13,653018457278-12,5907231851835i | M47: =IMCONJUGATE(L47) -> 13,653018457278+12,5907231851835i | N47: =IMPRODUCT(M47,K47) -> 197,807527250415-48,4161994261782i | O47: =IMABS(N47) -> 203.64662 | P47: =IMDIV(N47,O47) -> 0,971327323658362-0,237746146792503i | Q47: -5,70038848818125E-002 | R47: =IMABS(Q47) -> 0.057003885
J48: 94.641235 | K48: 2,51939941757163-3,82108880474226i | L48: 12,4461994195764-1,79059223404093i | M48: =IMCONJUGATE(L48) -> 12,4461994195764+1,79059223404093i | N48: =IMPRODUCT(M48,K48) -> 38,1989595080134-43,046816232182i | O48: =IMABS(N48) -> 57.551619 | P48: =IMDIV(N48,O48) -> 0,663733877660028-0,747968809273745i | Q48: 2,25008652011681E-002 | R48: =IMABS(Q48) -> 0.022500865
J49: 92.098093 | K49: -6,21470414452696-1,45672695624137i | L49: 17,4771023926175-6,6358351316545i | M49: =IMCONJUGATE(L49) -> 17,4771023926175+6,6358351316545i | N49: =IMPRODUCT(M49,K49) -> -98,9484207602674-66,6991182674073i | O49: =IMABS(N49) -> 119.32964 | P49: =IMDIV(N49,O49) -> -0,829202392320993-0,558948470405942i | Q49: -3,4465691461195E-002 | R49: =IMABS(Q49) -> 0.034465691
J50: 93.46049 | K50: 3,74883343280933+5,33839610382992i | L50: 7,85059299205665-1,29080146586561i | M50: =IMCONJUGATE(L50) -> 7,85059299205665+1,29080146586561i | N50: =IMPRODUCT(M50,K50) -> 22,5397559598057+46,748574731906i | O50: =IMABS(N50) -> 51.89865 | P50: =IMDIV(N50,O50) -> 0,434303321965405+0,900766687067086i | Q50: -0,378601940277189 | R50: =IMABS(Q50) -> 0.37860194
J51: 90.099909 | K51: -6,85384411996956-2,02674770917345i | L51: 18,2070389046396-2,12511650977247i | M51: =IMCONJUGATE(L51) -> 18,2070389046396+2,12511650977247i | N51: =IMPRODUCT(M51,K51) -> -120,481131520713-51,4662916855645i | O51: =IMABS(N51) -> 131.01329 | P51: =IMDIV(N51,O51) -> -0,919609997236596-0,392832601730696i | Q51: 0,286518356065147 | R51: =IMABS(Q51) -> 0.28651836
... J69: 78.110808 | K69: 23,4981887058873+129,915273223554i | L69: 74,5584783307744+342,909472593898i | M69: =IMCONJUGATE(L69) -> 74,5584783307744-342,909472593898i | N69: =IMPRODUCT(M69,K69) -> 46301,1670164214+1628,53358742728i | O69: =IMABS(N69) -> 46329.798 | P69: =IMDIV(N69,O69) -> 0,999382016550805+0,0351508889624006i | Q69: 0,109265199690233 | R69: =IMABS(Q69) -> 0.1092652
AC72: Economic sentiment (Univ. of Michigan) | AD72: Short term | AE72: Long term
J73: 91.22807 | K73: 3071,63222770049 | L73: 2324,35500515996 | M73: =IMCONJUGATE(L73) -> 2324,35500515996 | N73: =IMPRODUCT(M73,K73) -> 7139563,74246627 | O73: =IMABS(N73) -> 7139563.7 | P73: =IMDIV(N73,O73) -> 1 | Q73: 0,263998403232744 | R73: =IMABS(Q73) -> 0.2639984 | AD73: 6
J74: 89.886481 | K74: 23,498188705887-129,915273223554i | L74: 165,770912509916-156,443524266196i | M74: =IMCONJUGATE(L74) -> 165,770912509916+156,443524266196i | N74: =IMPRODUCT(M74,K74) -> 24219,7193832036-17860,0339362225i | O74: =IMABS(N74) -> 30092.784 | P74: =IMDIV(N74,O74) -> 0,80483479959583-0,593498900891602i | Q74: -5,02867730488598E-002 | R74: =IMABS(Q74) -> 0.050286773 | AE74: 15 | AF74: probably too long in relation to data
J75: 91.124871 | K75: 22,4759911368488-2,61730083468103i | L75: 12,3760871665252-53,3697799766945i | M75: =IMCONJUGATE(L75) -> 12,3760871665252+53,3697799766945i | N75: =IMPRODUCT(M75,K75) -> 417,849595143434+1167,14675846072i | O75: =IMABS(N75) -> 1239.6894 | P75: =IMDIV(N75,O75) -> 0,33705990457337+0,941483202573998i | Q75: 9,26529801409825E-002 | R75: =IMABS(Q75) -> 0.09265298 | AE75: 17 | AF75: probably too long in relation to data
...

Sheet 3 Data to create model
A1: Month | B1: Contract Logistics (Global) | C1: Purchasing managers index Europe-12 | D1: Economic sentiment (Europe) -12 | E1: Semicon index -12 | F1: Baltic index-12 | G1: Economic sentiment (Univ. of Michigan)-12 | H1: ECRI weekly (USA)-12
A2: 39448 | B2: 102.8046 | C2: 100 | D2: 100 | E2: 100 | F2: 100 | G2: 100 | H2: 100
A3: 39479 | B3: 102.63274 | C3: 100 | D3: 101.18074 | E3: 99.460285 | F3: 114.19768 | G3: 94.220846 | H3: 99.986793
A4: 39508 | B4: 97.285005 | C4: 100 | D4: 102.7248 | E4: 100.98267 | F4: 127.70799 | G4: 91.22807 | H4: 99.747802
A5: 39539 | B5: 98.778128 | C5: 100 | D5: 102.45232 | E5: 100.08386 | F5: 148.25788 | G5: 89.886481 | H5: 101.55703
A6: 39569 | B6: 97.062694 | C6: 100 | D6: 103.81471 | E6: 106.25081 | F6: 141.81086 | G6: 91.124871 | H6: 101.91307
