Workbook

Sheet Operating Expenses
B1: 1993 | C1: 1994 | D1: 1995 | E1: 1996 - Q1 | F1: 1996 - Full year prediction
A2: Net sales | B2: 2921 | C2: 3477 | D2: 4519 | E2: 1062 | F2: 5500
A3: Cost of goods sold
A4: Beginning inventory | B4: 330 | C4: 337 | D4: 432 | E4: 587 | F4: =E6 -> 607
A5: Purchases | B5: 2209 | C5: 2729 | D5: 3569 | E5: 819 | F5: =F2/1.3 -> 4230.7692
A6: Ending inventory | B6: 337 | C6: 432 | D6: 587 | E6: 607 | F6: =F5-F7+F4 -> 712.76923
A7: Total COGS | B7: =SUM(B4:B5)-B6 -> 2202 | C7: =SUM(C4:C5)-C6 -> 2634 | D7: =SUM(D4:D5)-D6 -> 3414 | E7: =SUM(E4:E5)-E6 -> 799 | F7: =F2*0.75 -> 4125
A9: Gross profit | B9: =B2-B7 -> 719 | C9: =C2-C7 -> 843 | D9: =D2-D7 -> 1105 | E9: =E2-E7 -> 263 | F9: =F2-F7 -> 1375
A10: Operating expense | B10: 622 | C10: 717 | D10: 940 | E10: 244 | F10: =0.215*F2 -> 1182.5
A11: Earnings before interest and taxes | B11: =B9-B10 -> 97 | C11: =C9-C10 -> 126 | D11: =D9-D10 -> 165 | E11: =E9-E10 -> 19 | F11: =F9-F10 -> 192.5
A12: Interest expenses | B12: 23 | C12: 42 | D12: 56 | E12: 13 | F12: =399*G12 -> 57.292308 | G12: =D12/'Balance sheet'!D9 -> 0.14358974
A13: Net income before taxes | B13: =B11-B12 -> 74 | C13: =C11-C12 -> 84 | D13: 99 | E13: =E11-E12 -> 6 | F13: =F11-F12 -> 135.20769
A14: Provision for income taxes | B14: 14 | C14: 16 | D14: 22 | E14: 1 | F14: =(50000*0.15+25000*0.25+25000*0.34+35000*0.39)/1000 -> 35.9
A15: Net income | B15: =B13-B14 -> 60 | C15: =C13-C14 -> 68 | D15: =D13-D14 -> 77 | E15: =E13-E14 -> 5 | F15: =F13-F14 -> 99.307692
A17: Answer question 1) & 3)
A18: Average inventory | B18: =(B4+B6)/2 -> 333.5 | C18: =(C4+C6)/2 -> 384.5 | D18: =(D4+D6)/2 -> 509.5 | E18: =(E4+E6)/2 -> 597 | F18: =(F4+F6)/2 -> 659.88462
A19: Total COGS | B19: =B7 -> 2202 | C19: =C7 -> 2634 | D19: =D7 -> 3414 | E19: =E7 -> 799 | F19: =F7 -> 4125
A20: Inventory conversion period (# days inventory) (1) | B20: =B18/B19*360 -> 54.523161 | C20: =C18/C19*360 -> 52.551253 | D20: =D18/D19*360 -> 53.725835 | E20: =E18/E19*360/4 -> 67.246558 | F20: =F18/F19*360 -> 57.58993
A22: Accounts receivable | B22: ='Balance sheet'!B3 -> 306 | C22: ='Balance sheet'!C3 -> 411 | D22: ='Balance sheet'!D3 -> 606 | E22: ='Balance sheet'!E3 -> 583 | F22: ='Balance sheet'!F3 -> 715
A23: Sales | B23: =B2 -> 2921 | C23: =C2 -> 3477 | D23: =D2 -> 4519 | E23: =E2 -> 1062 | F23: =F2 -> 5500
A24: Receivables conversion period (2) | B24: =B22/B23*360 -> 37.713112 | C24: =C22/C23*360 -> 42.553926 | D24: =D22/D23*360 -> 48.276167 | E24: =E22/E23*360/4 -> 49.40678 | F24: =F22/F23*360 -> 46.8
A26: Accounts payable | B26: ='Balance sheet'!B12 -> 213 | C26: ='Balance sheet'!C12 -> 340 | D26: ='Balance sheet'!D12 -> 376 | E26: ='Balance sheet'!E12 -> 364 | F26: ='Balance sheet'!F12 -> 470.08547
A27: Notes payable | D27: ='Balance sheet'!D11 -> 127
A28: Accounts + notes payable | B28: =SUM(B26:B27) -> 213 | C28: =SUM(C26:C27) -> 340 | D28: =SUM(D26:D27) -> 503 | E28: =SUM(E26:E27) -> 364
A29: Purshases | B29: =B5 -> 2209 | C29: =C5 -> 2729 | D29: =D5 -> 3569 | E29: =E5 -> 819 | F29: =F5 -> 4230.7692
A30: Payables conversion period (3) | B30: =B28/B29*360 -> 34.71254 | C30: =C28/C29*360 -> 44.851594 | D30: =D28/D29*360 -> 50.736901 | E30: =E28/E29*360/4 -> 40 | F30: =F26/F29*360 -> 40
A32: Cash conversion cycle (1+2-3) | B32: =B20+B24-B30 -> 57.523733 | C32: =C20+C24-C30 -> 50.253585 | D32: =D20+D24-D30 -> 51.265101 | E32: =E20+E24-E30 -> 76.653338 | F32: =F20+F24-F30 -> 64.38993
A34: Finance requirement (for a year) | B34: =B18+B22-B26 -> 426.5 | C34: =C18+C22-C26 -> 455.5 | D34: =D18+D22-D26 -> 739.5 | E34: =E18+E22-E26 -> 816 | F34: =F18+F22-F26 -> 904.79915
A35: Finance requirement (for a cash conversion cycle) | B35: =B34/B32 -> 7.414331 | C35: =C34/C32 -> 9.06403 | D35: =D34/D32 -> 14.425018 | E35: =E34/E32 -> 10.645329 | F35: =F34/F32 -> 14.051873
A37: Answer question 2)
A38: =A13 -> Net income before taxes | B38: =B13 -> 74 | C38: =C13 -> 84 | D38: =D13 -> 99 | E38: =E13 -> 6
A39: Sales | B39: =B2 -> 2921 | C39: =C2 -> 3477 | D39: =D2 -> 4519 | E39: =E2 -> 1062
A40: PBT/Sales | B40: =B38/B39 -> 0.02533379 | C40: =C38/C39 -> 0.024158758 | D40: =D38/D39 -> 0.021907502 | E40: =E38/E39 -> 0.0056497175
A42: Equity | B42: ='Balance sheet'!B19 -> 504 | C42: ='Balance sheet'!C19 -> 372 | D42: ='Balance sheet'!D19 -> 494 | E42: ='Balance sheet'!E19 -> 454
A43: Net income | B43: =B15 -> 60 | C43: =C15 -> 68 | D43: =D15 -> 77 | E43: =E15 -> 5
A44: Return on equity | B44: =B43/B42 -> 0.11904762 | C44: =C43/C42 -> 0.1827957 | D44: =D43/D42 -> 0.15587045 | E44: =E43/E42 -> 0.011013216
A46: Answer question 4)
A47: ='Balance sheet'!A7 -> Total assets
A48: Loan estimate | B48: ='Balance sheet'!F9 -> 524
A50: Answer question 5)
...

Sheet Balance sheet
B1: 1993 | C1: 1994 | D1: 1995 | E1: 1996 - Q1 | F1: 1996 - Full year prediction | G1: Comment
A2: Cash | B2: 43 | C2: 52 | D2: 56 | E2: 53 | F2: ='Operating Expenses'!F2*0.012 -> 66
A3: Accounts receivable | B3: 306 | C3: 411 | D3: 606 | E3: 583 | F3: ='Operating Expenses'!F2*0.13 -> 715
A4: Inventory | B4: 337 | C4: 432 | D4: 587 | E4: 607 | F4: ='Operating Expenses'!F6 -> 712.76923
A5: Current assets | B5: =SUM(B2:B4) -> 686 | C5: =SUM(C2:C4) -> 895 | D5: =SUM(D2:D4) -> 1249 | E5: =SUM(E2:E4) -> 1243 | F5: =SUM(F2:F4) -> 1493.7692
A6: Property | B6: 233 | C6: 262 | D6: 388 | E6: 384 | F6: 384
A7: Total assets | B7: =SUM(B5:B6) -> 919 | C7: =SUM(C5:C6) -> 1157 | D7: =SUM(D5:D6) -> 1637 | E7: =SUM(E5:E6) -> 1627 | F7: =SUM(F5:F6) -> 1877.7692
A9: Notes payable bank | B9: 0 | C9: 60 | D9: 390 | E9: 399 | F9: 524
A10: Notes payable Holtz, current portion | B10: 0 | C10: 100 | D10: 100 | E10: 100 | F10: 0
A11: Notes payable trade | B11: 0 | C11: 0 | D11: 127 | E11: 123 | F11: 123
A12: Accounts payable | B12: 213 | C12: 340 | D12: 376 | E12: 364 | F12: =40/360*'Operating Expenses'!F5 -> 470.08547
A13: Acrued expenses | B13: 42 | C13: 45 | D13: 75 | E13: 67 | F13: 67
A14: Term loan, current portion | B14: 20 | C14: 20 | D14: 20 | E14: 20 | F14: 20
A15: Current liabilities | B15: =SUM(B9:B14) -> 275 | C15: =SUM(C9:C14) -> 565 | D15: =SUM(D9:D14) -> 1088 | E15: =SUM(E9:E14) -> 1073 | F15: =SUM(F9:F14) -> 1204.0855
A16: Term loan | B16: 140 | C16: 120 | D16: 100 | E16: 100 | F16: 80
A17: Notes payable Holtz | B17: 0 | C17: 100 | D17: 0 | E17: 0 | F17: 0
A18: Total liabilities | B18: =SUM(B15:B17) -> 415 | C18: =SUM(C15:C17) -> 785 | D18: =SUM(D15:D17) -> 1188 | E18: =SUM(E15:E17) -> 1173 | F18: =SUM(F15:F17) -> 1284.0855
A19: Net worth | B19: 504 | C19: 372 | D19: 494 | E19: 454 | F19: =E19+'Operating Expenses'!F15 -> 553.30769
A20: Total liabilities and net worth | B20: =SUM(B18:B19) -> 919 | C20: =SUM(C18:C19) -> 1157 | D20: =SUM(D18:D19) -> 1682 | E20: =SUM(E18:E19) -> 1627 | F20: =SUM(F18:F19) -> 1837.3932

Sheet Sheet3
